BEGIN:VCALENDAR
VERSION:2.0
PRODID:-//YGAMETIME.com//YGT iCal Creator//EN
METHOD:PUBLISH
X-PUBLISHED-TTL:PT6H
REFRESH-INTERVAL;VALUE=DURATION:PT6H
CALSCALE:GREGORIAN
X-WR-CALNAME:YGAMETIME CALENDAR
BEGIN:VTIMEZONE
TZID:America/Chicago
X-LIC-LOCATION:America/Chicago
BEGIN:DAYLIGHT
TZOFFSETFROM:-0600
TZOFFSETTO:-0500
TZNAME:CDT
DTSTART:19700308T020000
RRULE:FREQ=YEARLY;BYMONTH=3;BYDAY=2SU
END:DAYLIGHT
BEGIN:STANDARD
TZOFFSETFROM:-0500
TZOFFSETTO:-0600
TZNAME:CST
DTSTART:19701101T020000
RRULE:FREQ=YEARLY;BYMONTH=11;BYDAY=1SU
END:STANDARD
END:VTIMEZONE
BEGIN:VEVENT
UID:semones-268408@ygametime.com
DTSTAMP:20211212T190000Z
DTSTART;TZID=America/Chicago:20211212T130000
DURATION:PT0H60M0S
SUMMARY:JCC (K. Koshkin) vs Spartans ( J. Teh)
DESCRIPTION:1st Grade Boys | Basketball\nSemones Family YMCA\n
URL;VALUE=URI:https://ygametime.com/branch/semones/sports/2021-winter-basketball/11493/?utm_medium=calendar&utm_source=team_cal&utm_content=league_url#game-268408
LOCATION:JCC of Dallas - Court 2
BEGIN:VALARM
TRIGGER:-P2H
ACTION:DISPLAY
DESCRIPTION:JCC (K. Koshkin) vs Spartans ( J. Teh)
END:VALARM
END:VEVENT
BEGIN:VEVENT
UID:semones-268424@ygametime.com
DTSTAMP:20220109T190000Z
DTSTART;TZID=America/Chicago:20220109T130000
DURATION:PT0H60M0S
SUMMARY:Cobras (B. Gruner) vs JCC (K. Koshkin)
DESCRIPTION:1st Grade Boys | Basketball\nSemones Family YMCA\n
URL;VALUE=URI:https://ygametime.com/branch/semones/sports/2021-winter-basketball/11493/?utm_medium=calendar&utm_source=team_cal&utm_content=league_url#game-268424
LOCATION:JCC of Dallas - Court 2
BEGIN:VALARM
TRIGGER:-P2H
ACTION:DISPLAY
DESCRIPTION:Cobras (B. Gruner) vs JCC (K. Koshkin)
END:VALARM
END:VEVENT
BEGIN:VEVENT
UID:semones-268440@ygametime.com
DTSTAMP:20220116T190000Z
DTSTART;TZID=America/Chicago:20220116T130000
DURATION:PT0H60M0S
SUMMARY:JCC (K. Koshkin) vs Parish Panthers (C. Boghetich)
DESCRIPTION:1st Grade Boys | Basketball\nSemones Family YMCA\n
URL;VALUE=URI:https://ygametime.com/branch/semones/sports/2021-winter-basketball/11493/?utm_medium=calendar&utm_source=team_cal&utm_content=league_url#game-268440
LOCATION:JCC of Dallas - Court 2
BEGIN:VALARM
TRIGGER:-P2H
ACTION:DISPLAY
DESCRIPTION:JCC (K. Koshkin) vs Parish Panthers (C. Boghetich)
END:VALARM
END:VEVENT
BEGIN:VEVENT
UID:semones-268456@ygametime.com
DTSTAMP:20220123T190000Z
DTSTART;TZID=America/Chicago:20220123T130000
DURATION:PT0H60M0S
SUMMARY:GSES Blue (W. Hanschen) vs JCC (K. Koshkin)
DESCRIPTION:1st Grade Boys | Basketball\nSemones Family YMCA\n
URL;VALUE=URI:https://ygametime.com/branch/semones/sports/2021-winter-basketball/11493/?utm_medium=calendar&utm_source=team_cal&utm_content=league_url#game-268456
LOCATION:JCC of Dallas - Court 2
BEGIN:VALARM
TRIGGER:-P2H
ACTION:DISPLAY
DESCRIPTION:GSES Blue (W. Hanschen) vs JCC (K. Koshkin)
END:VALARM
END:VEVENT
BEGIN:VEVENT
UID:semones-268472@ygametime.com
DTSTAMP:20220130T190000Z
DTSTART;TZID=America/Chicago:20220130T130000
DURATION:PT0H60M0S
SUMMARY:JCC (K. Koshkin) vs SMS Bearcats (S. Ackels)
DESCRIPTION:1st Grade Boys | Basketball\nSemones Family YMCA\n
URL;VALUE=URI:https://ygametime.com/branch/semones/sports/2021-winter-basketball/11493/?utm_medium=calendar&utm_source=team_cal&utm_content=league_url#game-268472
LOCATION:JCC of Dallas - Court 2
BEGIN:VALARM
TRIGGER:-P2H
ACTION:DISPLAY
DESCRIPTION:JCC (K. Koshkin) vs SMS Bearcats (S. Ackels)
END:VALARM
END:VEVENT
BEGIN:VEVENT
UID:semones-268506@ygametime.com
DTSTAMP:20220206T190000Z
DTSTART;TZID=America/Chicago:20220206T130000
DURATION:PT0H60M0S
SUMMARY:Wesley Prep White (J. Platt) vs JCC (K. Koshkin)
DESCRIPTION:1st Grade Boys | Basketball\nSemones Family YMCA\n
URL;VALUE=URI:https://ygametime.com/branch/semones/sports/2021-winter-basketball/11493/?utm_medium=calendar&utm_source=team_cal&utm_content=league_url#game-268506
LOCATION:JCC of Dallas - Court 2
BEGIN:VALARM
TRIGGER:-P2H
ACTION:DISPLAY
DESCRIPTION:Wesley Prep White (J. Platt) vs JCC (K. Koshkin)
END:VALARM
END:VEVENT
BEGIN:VEVENT
UID:semones-268522@ygametime.com
DTSTAMP:20220213T190000Z
DTSTART;TZID=America/Chicago:20220213T130000
DURATION:PT0H60M0S
SUMMARY:JCC (K. Koshkin) vs St. Mark's Lion (J. Kern)
DESCRIPTION:1st Grade Boys | Basketball\nSemones Family YMCA\n
URL;VALUE=URI:https://ygametime.com/branch/semones/sports/2021-winter-basketball/11493/?utm_medium=calendar&utm_source=team_cal&utm_content=league_url#game-268522
LOCATION:JCC of Dallas - Court 2
BEGIN:VALARM
TRIGGER:-P2H
ACTION:DISPLAY
DESCRIPTION:JCC (K. Koshkin) vs St. Mark's Lion (J. Kern)
END:VALARM
END:VEVENT
END:VCALENDAR

