BEGIN:VCALENDAR
VERSION:2.0
PRODID:-//YGAMETIME.com//YGT iCal Creator//EN
METHOD:PUBLISH
X-PUBLISHED-TTL:PT6H
REFRESH-INTERVAL;VALUE=DURATION:PT6H
CALSCALE:GREGORIAN
X-WR-CALNAME:YGAMETIME CALENDAR
BEGIN:VTIMEZONE
TZID:America/Chicago
X-LIC-LOCATION:America/Chicago
BEGIN:DAYLIGHT
TZOFFSETFROM:-0600
TZOFFSETTO:-0500
TZNAME:CDT
DTSTART:19700308T020000
RRULE:FREQ=YEARLY;BYMONTH=3;BYDAY=2SU
END:DAYLIGHT
BEGIN:STANDARD
TZOFFSETFROM:-0500
TZOFFSETTO:-0600
TZNAME:CST
DTSTART:19701101T020000
RRULE:FREQ=YEARLY;BYMONTH=11;BYDAY=1SU
END:STANDARD
END:VTIMEZONE
BEGIN:VEVENT
UID:semones-268409@ygametime.com
DTSTAMP:20211212T200000Z
DTSTART;TZID=America/Chicago:20211212T140000
DURATION:PT0H60M0S
SUMMARY:St. Rita White (C. King) vs JCC (A. Steiger)
DESCRIPTION:1st Grade Boys | Basketball\nSemones Family YMCA\n
URL;VALUE=URI:https://ygametime.com/branch/semones/sports/2021-winter-basketball/11493/?utm_medium=calendar&utm_source=team_cal&utm_content=league_url#game-268409
LOCATION:JCC of Dallas - Court 2
BEGIN:VALARM
TRIGGER:-P2H
ACTION:DISPLAY
DESCRIPTION:St. Rita White (C. King) vs JCC (A. Steiger)
END:VALARM
END:VEVENT
BEGIN:VEVENT
UID:semones-268425@ygametime.com
DTSTAMP:20220109T200000Z
DTSTART;TZID=America/Chicago:20220109T140000
DURATION:PT0H60M0S
SUMMARY:JCC (A. Steiger) vs Spartans Green (J. Lothamer)
DESCRIPTION:1st Grade Boys | Basketball\nSemones Family YMCA\n
URL;VALUE=URI:https://ygametime.com/branch/semones/sports/2021-winter-basketball/11493/?utm_medium=calendar&utm_source=team_cal&utm_content=league_url#game-268425
LOCATION:JCC of Dallas - Court 2
BEGIN:VALARM
TRIGGER:-P2H
ACTION:DISPLAY
DESCRIPTION:JCC (A. Steiger) vs Spartans Green (J. Lothamer)
END:VALARM
END:VEVENT
BEGIN:VEVENT
UID:semones-268441@ygametime.com
DTSTAMP:20220116T200000Z
DTSTART;TZID=America/Chicago:20220116T140000
DURATION:PT0H60M0S
SUMMARY:Lamplighter Lightning (J. Landry) vs JCC (A. Steiger)
DESCRIPTION:1st Grade Boys | Basketball\nSemones Family YMCA\n
URL;VALUE=URI:https://ygametime.com/branch/semones/sports/2021-winter-basketball/11493/?utm_medium=calendar&utm_source=team_cal&utm_content=league_url#game-268441
LOCATION:JCC of Dallas - Court 2
BEGIN:VALARM
TRIGGER:-P2H
ACTION:DISPLAY
DESCRIPTION:Lamplighter Lightning (J. Landry) vs JCC (A. Steiger)
END:VALARM
END:VEVENT
BEGIN:VEVENT
UID:semones-268457@ygametime.com
DTSTAMP:20220123T200000Z
DTSTART;TZID=America/Chicago:20220123T140000
DURATION:PT0H60M0S
SUMMARY:JCC (A. Steiger) vs GSES Red (B. Landry)
DESCRIPTION:1st Grade Boys | Basketball\nSemones Family YMCA\n
URL;VALUE=URI:https://ygametime.com/branch/semones/sports/2021-winter-basketball/11493/?utm_medium=calendar&utm_source=team_cal&utm_content=league_url#game-268457
LOCATION:JCC of Dallas - Court 2
BEGIN:VALARM
TRIGGER:-P2H
ACTION:DISPLAY
DESCRIPTION:JCC (A. Steiger) vs GSES Red (B. Landry)
END:VALARM
END:VEVENT
BEGIN:VEVENT
UID:semones-268473@ygametime.com
DTSTAMP:20220130T200000Z
DTSTART;TZID=America/Chicago:20220130T140000
DURATION:PT0H60M0S
SUMMARY:SMS Bearcats (J. Tamayo) vs JCC (A. Steiger)
DESCRIPTION:1st Grade Boys | Basketball\nSemones Family YMCA\n
URL;VALUE=URI:https://ygametime.com/branch/semones/sports/2021-winter-basketball/11493/?utm_medium=calendar&utm_source=team_cal&utm_content=league_url#game-268473
LOCATION:JCC of Dallas - Court 2
BEGIN:VALARM
TRIGGER:-P2H
ACTION:DISPLAY
DESCRIPTION:SMS Bearcats (J. Tamayo) vs JCC (A. Steiger)
END:VALARM
END:VEVENT
BEGIN:VEVENT
UID:semones-268489@ygametime.com
DTSTAMP:20220206T200000Z
DTSTART;TZID=America/Chicago:20220206T140000
DURATION:PT0H60M0S
SUMMARY:JCC (A. Steiger) vs Wesley Prep Blue ( J. Platt)
DESCRIPTION:1st Grade Boys | Basketball\nSemones Family YMCA\n
URL;VALUE=URI:https://ygametime.com/branch/semones/sports/2021-winter-basketball/11493/?utm_medium=calendar&utm_source=team_cal&utm_content=league_url#game-268489
LOCATION:JCC of Dallas - Court 2
BEGIN:VALARM
TRIGGER:-P2H
ACTION:DISPLAY
DESCRIPTION:JCC (A. Steiger) vs Wesley Prep Blue ( J. Platt)
END:VALARM
END:VEVENT
BEGIN:VEVENT
UID:semones-268523@ygametime.com
DTSTAMP:20220213T200000Z
DTSTART;TZID=America/Chicago:20220213T140000
DURATION:PT0H60M0S
SUMMARY:Walnut Hills Hawks (B. Longwell) vs JCC (A. Steiger)
DESCRIPTION:1st Grade Boys | Basketball\nSemones Family YMCA\n
URL;VALUE=URI:https://ygametime.com/branch/semones/sports/2021-winter-basketball/11493/?utm_medium=calendar&utm_source=team_cal&utm_content=league_url#game-268523
LOCATION:JCC of Dallas - Court 2
BEGIN:VALARM
TRIGGER:-P2H
ACTION:DISPLAY
DESCRIPTION:Walnut Hills Hawks (B. Longwell) vs JCC (A. Steiger)
END:VALARM
END:VEVENT
END:VCALENDAR

