BEGIN:VCALENDAR
VERSION:2.0
PRODID:-//YGAMETIME.com//YGT iCal Creator//EN
METHOD:PUBLISH
X-PUBLISHED-TTL:PT6H
REFRESH-INTERVAL;VALUE=DURATION:PT6H
CALSCALE:GREGORIAN
X-WR-CALNAME:YGAMETIME CALENDAR
BEGIN:VTIMEZONE
TZID:America/Chicago
X-LIC-LOCATION:America/Chicago
BEGIN:DAYLIGHT
TZOFFSETFROM:-0600
TZOFFSETTO:-0500
TZNAME:CDT
DTSTART:19700308T020000
RRULE:FREQ=YEARLY;BYMONTH=3;BYDAY=2SU
END:DAYLIGHT
BEGIN:STANDARD
TZOFFSETFROM:-0500
TZOFFSETTO:-0600
TZNAME:CST
DTSTART:19701101T020000
RRULE:FREQ=YEARLY;BYMONTH=11;BYDAY=1SU
END:STANDARD
END:VTIMEZONE
BEGIN:VEVENT
UID:semones-268413@ygametime.com
DTSTAMP:20211211T200000Z
DTSTART;TZID=America/Chicago:20211211T140000
DURATION:PT0H60M0S
SUMMARY:ESD White (T.Teaford) vs Walnut Hill Hawks (A. Wang)
DESCRIPTION:1st Grade Boys | Basketball\nSemones Family YMCA\n
URL;VALUE=URI:https://ygametime.com/branch/semones/sports/2021-winter-basketball/11493/?utm_medium=calendar&utm_source=team_cal&utm_content=league_url#game-268413
LOCATION:JCC of Dallas - Court 1
BEGIN:VALARM
TRIGGER:-P2H
ACTION:DISPLAY
DESCRIPTION:ESD White (T.Teaford) vs Walnut Hill Hawks (A. Wang)
END:VALARM
END:VEVENT
BEGIN:VEVENT
UID:semones-268429@ygametime.com
DTSTAMP:20211218T210000Z
DTSTART;TZID=America/Chicago:20211218T150000
DURATION:PT0H60M0S
SUMMARY:Walnut Hill Hawks (A. Wang) vs Christ the King Crusaders (M. Peakes)
DESCRIPTION:1st Grade Boys | Basketball\nSemones Family YMCA\n
URL;VALUE=URI:https://ygametime.com/branch/semones/sports/2021-winter-basketball/11493/?utm_medium=calendar&utm_source=team_cal&utm_content=league_url#game-268429
LOCATION:JCC of Dallas - Court 1
BEGIN:VALARM
TRIGGER:-P2H
ACTION:DISPLAY
DESCRIPTION:Walnut Hill Hawks (A. Wang) vs Christ the King Crusaders (M. Peakes)
END:VALARM
END:VEVENT
BEGIN:VEVENT
UID:semones-268445@ygametime.com
DTSTAMP:20220108T200000Z
DTSTART;TZID=America/Chicago:20220108T140000
DURATION:PT0H60M0S
SUMMARY:St. Rita White (C. King) vs Walnut Hill Hawks (A. Wang)
DESCRIPTION:1st Grade Boys | Basketball\nSemones Family YMCA\n
URL;VALUE=URI:https://ygametime.com/branch/semones/sports/2021-winter-basketball/11493/?utm_medium=calendar&utm_source=team_cal&utm_content=league_url#game-268445
LOCATION:JCC of Dallas - Court 2
BEGIN:VALARM
TRIGGER:-P2H
ACTION:DISPLAY
DESCRIPTION:St. Rita White (C. King) vs Walnut Hill Hawks (A. Wang)
END:VALARM
END:VEVENT
BEGIN:VEVENT
UID:semones-268509@ygametime.com
DTSTAMP:20220212T150000Z
DTSTART;TZID=America/Chicago:20220212T090000
DURATION:PT0H60M0S
SUMMARY:SMS Bearcats (J. Tamayo) vs Walnut Hill Hawks (A. Wang)
DESCRIPTION:1st Grade Boys | Basketball\nSemones Family YMCA\n
URL;VALUE=URI:https://ygametime.com/branch/semones/sports/2021-winter-basketball/11493/?utm_medium=calendar&utm_source=team_cal&utm_content=league_url#game-268509
LOCATION:JCC of Dallas - Court 1
BEGIN:VALARM
TRIGGER:-P2H
ACTION:DISPLAY
DESCRIPTION:SMS Bearcats (J. Tamayo) vs Walnut Hill Hawks (A. Wang)
END:VALARM
END:VEVENT
END:VCALENDAR

