BEGIN:VCALENDAR
VERSION:2.0
PRODID:-//YGAMETIME.com//YGT iCal Creator//EN
METHOD:PUBLISH
X-PUBLISHED-TTL:PT6H
REFRESH-INTERVAL;VALUE=DURATION:PT6H
CALSCALE:GREGORIAN
X-WR-CALNAME:YGAMETIME CALENDAR
BEGIN:VTIMEZONE
TZID:America/Chicago
X-LIC-LOCATION:America/Chicago
BEGIN:DAYLIGHT
TZOFFSETFROM:-0600
TZOFFSETTO:-0500
TZNAME:CDT
DTSTART:19700308T020000
RRULE:FREQ=YEARLY;BYMONTH=3;BYDAY=2SU
END:DAYLIGHT
BEGIN:STANDARD
TZOFFSETFROM:-0500
TZOFFSETTO:-0600
TZNAME:CST
DTSTART:19701101T020000
RRULE:FREQ=YEARLY;BYMONTH=11;BYDAY=1SU
END:STANDARD
END:VTIMEZONE
BEGIN:VEVENT
UID:semones-268414@ygametime.com
DTSTAMP:20211211T200000Z
DTSTART;TZID=America/Chicago:20211211T140000
DURATION:PT0H60M0S
SUMMARY:Withers Wildcats (B. Phillips) vs ESD Blue (A. Mountain)
DESCRIPTION:1st Grade Boys | Basketball\nSemones Family YMCA\n
URL;VALUE=URI:https://ygametime.com/branch/semones/sports/2021-winter-basketball/11493/?utm_medium=calendar&utm_source=team_cal&utm_content=league_url#game-268414
LOCATION:JCC of Dallas - Court 2
BEGIN:VALARM
TRIGGER:-P2H
ACTION:DISPLAY
DESCRIPTION:Withers Wildcats (B. Phillips) vs ESD Blue (A. Mountain)
END:VALARM
END:VEVENT
BEGIN:VEVENT
UID:semones-268430@ygametime.com
DTSTAMP:20211218T210000Z
DTSTART;TZID=America/Chicago:20211218T150000
DURATION:PT0H60M0S
SUMMARY:ESD Silver (D. Stevens) vs Withers Wildcats (B. Phillips)
DESCRIPTION:1st Grade Boys | Basketball\nSemones Family YMCA\n
URL;VALUE=URI:https://ygametime.com/branch/semones/sports/2021-winter-basketball/11493/?utm_medium=calendar&utm_source=team_cal&utm_content=league_url#game-268430
LOCATION:JCC of Dallas - Court 2
BEGIN:VALARM
TRIGGER:-P2H
ACTION:DISPLAY
DESCRIPTION:ESD Silver (D. Stevens) vs Withers Wildcats (B. Phillips)
END:VALARM
END:VEVENT
BEGIN:VEVENT
UID:semones-268446@ygametime.com
DTSTAMP:20220108T210000Z
DTSTART;TZID=America/Chicago:20220108T150000
DURATION:PT0H60M0S
SUMMARY:Withers Wildcats (B. Phillips) vs Lamplighter Dragons (C.Casey)
DESCRIPTION:1st Grade Boys | Basketball\nSemones Family YMCA\n
URL;VALUE=URI:https://ygametime.com/branch/semones/sports/2021-winter-basketball/11493/?utm_medium=calendar&utm_source=team_cal&utm_content=league_url#game-268446
LOCATION:JCC of Dallas - Court 1
BEGIN:VALARM
TRIGGER:-P2H
ACTION:DISPLAY
DESCRIPTION:Withers Wildcats (B. Phillips) vs Lamplighter Dragons (C.Casey)
END:VALARM
END:VEVENT
BEGIN:VEVENT
UID:semones-268462@ygametime.com
DTSTAMP:20220115T200000Z
DTSTART;TZID=America/Chicago:20220115T140000
DURATION:PT0H60M0S
SUMMARY:Spartans ( J. Teh) vs Withers Wildcats (B. Phillips)
DESCRIPTION:1st Grade Boys | Basketball\nSemones Family YMCA\n
URL;VALUE=URI:https://ygametime.com/branch/semones/sports/2021-winter-basketball/11493/?utm_medium=calendar&utm_source=team_cal&utm_content=league_url#game-268462
LOCATION:JCC of Dallas - Court 1
BEGIN:VALARM
TRIGGER:-P2H
ACTION:DISPLAY
DESCRIPTION:Spartans ( J. Teh) vs Withers Wildcats (B. Phillips)
END:VALARM
END:VEVENT
BEGIN:VEVENT
UID:semones-268478@ygametime.com
DTSTAMP:20220122T180000Z
DTSTART;TZID=America/Chicago:20220122T120000
DURATION:PT0H60M0S
SUMMARY:Withers Wildcats (B. Phillips) vs Cobras (B. Gruner)
DESCRIPTION:1st Grade Boys | Basketball\nSemones Family YMCA\n
URL;VALUE=URI:https://ygametime.com/branch/semones/sports/2021-winter-basketball/11493/?utm_medium=calendar&utm_source=team_cal&utm_content=league_url#game-268478
LOCATION:JCC of Dallas - Court 2
BEGIN:VALARM
TRIGGER:-P2H
ACTION:DISPLAY
DESCRIPTION:Withers Wildcats (B. Phillips) vs Cobras (B. Gruner)
END:VALARM
END:VEVENT
BEGIN:VEVENT
UID:semones-268494@ygametime.com
DTSTAMP:20220129T180000Z
DTSTART;TZID=America/Chicago:20220129T120000
DURATION:PT0H60M0S
SUMMARY:Parish Panthers (C. Boghetich) vs Withers Wildcats (B. Phillips)
DESCRIPTION:1st Grade Boys | Basketball\nSemones Family YMCA\n
URL;VALUE=URI:https://ygametime.com/branch/semones/sports/2021-winter-basketball/11493/?utm_medium=calendar&utm_source=team_cal&utm_content=league_url#game-268494
LOCATION:JCC of Dallas - Court 2
BEGIN:VALARM
TRIGGER:-P2H
ACTION:DISPLAY
DESCRIPTION:Parish Panthers (C. Boghetich) vs Withers Wildcats (B. Phillips)
END:VALARM
END:VEVENT
BEGIN:VEVENT
UID:semones-268510@ygametime.com
DTSTAMP:20220212T150000Z
DTSTART;TZID=America/Chicago:20220212T090000
DURATION:PT0H60M0S
SUMMARY:Withers Wildcats (B. Phillips) vs GSES Blue (W. Hanschen)
DESCRIPTION:1st Grade Boys | Basketball\nSemones Family YMCA\n
URL;VALUE=URI:https://ygametime.com/branch/semones/sports/2021-winter-basketball/11493/?utm_medium=calendar&utm_source=team_cal&utm_content=league_url#game-268510
LOCATION:JCC of Dallas - Court 2
BEGIN:VALARM
TRIGGER:-P2H
ACTION:DISPLAY
DESCRIPTION:Withers Wildcats (B. Phillips) vs GSES Blue (W. Hanschen)
END:VALARM
END:VEVENT
END:VCALENDAR

