BEGIN:VCALENDAR
VERSION:2.0
PRODID:-//YGAMETIME.com//YGT iCal Creator//EN
METHOD:PUBLISH
X-PUBLISHED-TTL:PT6H
REFRESH-INTERVAL;VALUE=DURATION:PT6H
CALSCALE:GREGORIAN
X-WR-CALNAME:YGAMETIME CALENDAR
BEGIN:VTIMEZONE
TZID:America/Chicago
X-LIC-LOCATION:America/Chicago
BEGIN:DAYLIGHT
TZOFFSETFROM:-0600
TZOFFSETTO:-0500
TZNAME:CDT
DTSTART:19700308T020000
RRULE:FREQ=YEARLY;BYMONTH=3;BYDAY=2SU
END:DAYLIGHT
BEGIN:STANDARD
TZOFFSETFROM:-0500
TZOFFSETTO:-0600
TZNAME:CST
DTSTART:19701101T020000
RRULE:FREQ=YEARLY;BYMONTH=11;BYDAY=1SU
END:STANDARD
END:VTIMEZONE
BEGIN:VEVENT
UID:semones-268913@ygametime.com
DTSTAMP:20211201T230000Z
DTSTART;TZID=America/Chicago:20211201T170000
DURATION:PT0H60M0S
SUMMARY:ESD Eagles (J. O'Neal) vs Fire Wolves (A. Blount)
DESCRIPTION:2nd Grade Girls | Basketball\nSemones Family YMCA\n
URL;VALUE=URI:https://ygametime.com/branch/semones/sports/2021-winter-basketball/11392/?utm_medium=calendar&utm_source=team_cal&utm_content=league_url#game-268913
LOCATION:Good Shepherd Episcopal School 
BEGIN:VALARM
TRIGGER:-P2H
ACTION:DISPLAY
DESCRIPTION:ESD Eagles (J. O'Neal) vs Fire Wolves (A. Blount)
END:VALARM
END:VEVENT
BEGIN:VEVENT
UID:semones-268923@ygametime.com
DTSTAMP:20211218T150000Z
DTSTART;TZID=America/Chicago:20211218T090000
DURATION:PT0H60M0S
SUMMARY:Fire Wolves (A. Blount) vs Dynamo Daisies (S. Goldberg)
DESCRIPTION:2nd Grade Girls | Basketball\nSemones Family YMCA\n
URL;VALUE=URI:https://ygametime.com/branch/semones/sports/2021-winter-basketball/11392/?utm_medium=calendar&utm_source=team_cal&utm_content=league_url#game-268923
LOCATION:Holy Cross Lutheran Church & Community 
BEGIN:VALARM
TRIGGER:-P2H
ACTION:DISPLAY
DESCRIPTION:Fire Wolves (A. Blount) vs Dynamo Daisies (S. Goldberg)
END:VALARM
END:VEVENT
BEGIN:VEVENT
UID:semones-268933@ygametime.com
DTSTAMP:20220112T230000Z
DTSTART;TZID=America/Chicago:20220112T170000
DURATION:PT0H60M0S
SUMMARY:Koala Krew (A. Peterson) vs Fire Wolves (A. Blount)
DESCRIPTION:2nd Grade Girls | Basketball\nSemones Family YMCA\n
URL;VALUE=URI:https://ygametime.com/branch/semones/sports/2021-winter-basketball/11392/?utm_medium=calendar&utm_source=team_cal&utm_content=league_url#game-268933
LOCATION:Good Shepherd Episcopal School 
BEGIN:VALARM
TRIGGER:-P2H
ACTION:DISPLAY
DESCRIPTION:Koala Krew (A. Peterson) vs Fire Wolves (A. Blount)
END:VALARM
END:VEVENT
BEGIN:VEVENT
UID:semones-268953@ygametime.com
DTSTAMP:20220119T230000Z
DTSTART;TZID=America/Chicago:20220119T170000
DURATION:PT0H60M0S
SUMMARY:Withers (E. Leonard) vs Fire Wolves (A. Blount)
DESCRIPTION:2nd Grade Girls | Basketball\nSemones Family YMCA\n
URL;VALUE=URI:https://ygametime.com/branch/semones/sports/2021-winter-basketball/11392/?utm_medium=calendar&utm_source=team_cal&utm_content=league_url#game-268953
LOCATION:Good Shepherd Episcopal School 
BEGIN:VALARM
TRIGGER:-P2H
ACTION:DISPLAY
DESCRIPTION:Withers (E. Leonard) vs Fire Wolves (A. Blount)
END:VALARM
END:VEVENT
BEGIN:VEVENT
UID:semones-268943@ygametime.com
DTSTAMP:20220126T230000Z
DTSTART;TZID=America/Chicago:20220126T170000
DURATION:PT0H60M0S
SUMMARY:Fire Wolves (A. Blount) vs Shooting Stars (B. Appleby)
DESCRIPTION:2nd Grade Girls | Basketball\nSemones Family YMCA\n
URL;VALUE=URI:https://ygametime.com/branch/semones/sports/2021-winter-basketball/11392/?utm_medium=calendar&utm_source=team_cal&utm_content=league_url#game-268943
LOCATION:Good Shepherd Episcopal School 
BEGIN:VALARM
TRIGGER:-P2H
ACTION:DISPLAY
DESCRIPTION:Fire Wolves (A. Blount) vs Shooting Stars (B. Appleby)
END:VALARM
END:VEVENT
BEGIN:VEVENT
UID:semones-268962@ygametime.com
DTSTAMP:20220129T140000Z
DTSTART;TZID=America/Chicago:20220129T080000
DURATION:PT0H60M0S
SUMMARY:Fire Wolves (A. Blount) vs Spartan Sparklers - White (J. Johnson)
DESCRIPTION:2nd Grade Girls | Basketball\nSemones Family YMCA\n
URL;VALUE=URI:https://ygametime.com/branch/semones/sports/2021-winter-basketball/11392/?utm_medium=calendar&utm_source=team_cal&utm_content=league_url#game-268962
LOCATION:Holy Cross Lutheran Church & Community 
BEGIN:VALARM
TRIGGER:-P2H
ACTION:DISPLAY
DESCRIPTION:Fire Wolves (A. Blount) vs Spartan Sparklers - White (J. Johnson)
END:VALARM
END:VEVENT
BEGIN:VEVENT
UID:semones-268972@ygametime.com
DTSTAMP:20220209T230000Z
DTSTART;TZID=America/Chicago:20220209T170000
DURATION:PT0H60M0S
SUMMARY:Electric Daisies (S. Wibom) vs Fire Wolves (A. Blount)
DESCRIPTION:2nd Grade Girls | Basketball\nSemones Family YMCA\n
URL;VALUE=URI:https://ygametime.com/branch/semones/sports/2021-winter-basketball/11392/?utm_medium=calendar&utm_source=team_cal&utm_content=league_url#game-268972
LOCATION:Good Shepherd Episcopal School 
BEGIN:VALARM
TRIGGER:-P2H
ACTION:DISPLAY
DESCRIPTION:Electric Daisies (S. Wibom) vs Fire Wolves (A. Blount)
END:VALARM
END:VEVENT
BEGIN:VEVENT
UID:semones-268982@ygametime.com
DTSTAMP:20220212T140000Z
DTSTART;TZID=America/Chicago:20220212T080000
DURATION:PT0H60M0S
SUMMARY:Fire Wolves (A. Blount) vs Grace Stallions (K. Clark)
DESCRIPTION:2nd Grade Girls | Basketball\nSemones Family YMCA\n
URL;VALUE=URI:https://ygametime.com/branch/semones/sports/2021-winter-basketball/11392/?utm_medium=calendar&utm_source=team_cal&utm_content=league_url#game-268982
LOCATION:Holy Cross Lutheran Church & Community 
BEGIN:VALARM
TRIGGER:-P2H
ACTION:DISPLAY
DESCRIPTION:Fire Wolves (A. Blount) vs Grace Stallions (K. Clark)
END:VALARM
END:VEVENT
END:VCALENDAR

