BEGIN:VCALENDAR
VERSION:2.0
PRODID:-//YGAMETIME.com//YGT iCal Creator//EN
METHOD:PUBLISH
X-PUBLISHED-TTL:PT6H
REFRESH-INTERVAL;VALUE=DURATION:PT6H
CALSCALE:GREGORIAN
X-WR-CALNAME:YGAMETIME CALENDAR
BEGIN:VTIMEZONE
TZID:America/Chicago
X-LIC-LOCATION:America/Chicago
BEGIN:DAYLIGHT
TZOFFSETFROM:-0600
TZOFFSETTO:-0500
TZNAME:CDT
DTSTART:19700308T020000
RRULE:FREQ=YEARLY;BYMONTH=3;BYDAY=2SU
END:DAYLIGHT
BEGIN:STANDARD
TZOFFSETFROM:-0500
TZOFFSETTO:-0600
TZNAME:CST
DTSTART:19701101T020000
RRULE:FREQ=YEARLY;BYMONTH=11;BYDAY=1SU
END:STANDARD
END:VTIMEZONE
BEGIN:VEVENT
UID:semones-268930@ygametime.com
DTSTAMP:20211218T220000Z
DTSTART;TZID=America/Chicago:20211218T160000
DURATION:PT0H60M0S
SUMMARY:Kramer (S. Ruffner) vs GSES Shooting Stars (D. Allgood)
DESCRIPTION:2nd Grade Girls | Basketball\nSemones Family YMCA\n
URL;VALUE=URI:https://ygametime.com/branch/semones/sports/2021-winter-basketball/11392/?utm_medium=calendar&utm_source=team_cal&utm_content=league_url#game-268930
LOCATION:Holy Cross Lutheran Church & Community 
BEGIN:VALARM
TRIGGER:-P2H
ACTION:DISPLAY
DESCRIPTION:Kramer (S. Ruffner) vs GSES Shooting Stars (D. Allgood)
END:VALARM
END:VEVENT
BEGIN:VEVENT
UID:semones-268934@ygametime.com
DTSTAMP:20220108T160000Z
DTSTART;TZID=America/Chicago:20220108T100000
DURATION:PT0H60M0S
SUMMARY:GSES Shooting Stars (D. Allgood) vs Greenhill Hornets (J Bowser)
DESCRIPTION:2nd Grade Girls | Basketball\nSemones Family YMCA\n
URL;VALUE=URI:https://ygametime.com/branch/semones/sports/2021-winter-basketball/11392/?utm_medium=calendar&utm_source=team_cal&utm_content=league_url#game-268934
LOCATION:Holy Cross Lutheran Church & Community 
BEGIN:VALARM
TRIGGER:-P2H
ACTION:DISPLAY
DESCRIPTION:GSES Shooting Stars (D. Allgood) vs Greenhill Hornets (J Bowser)
END:VALARM
END:VEVENT
BEGIN:VEVENT
UID:semones-268950@ygametime.com
DTSTAMP:20220115T210000Z
DTSTART;TZID=America/Chicago:20220115T150000
DURATION:PT0H60M0S
SUMMARY:DIS 2nd Girls (Coach Phil) vs GSES Shooting Stars (D. Allgood)
DESCRIPTION:2nd Grade Girls | Basketball\nSemones Family YMCA\n
URL;VALUE=URI:https://ygametime.com/branch/semones/sports/2021-winter-basketball/11392/?utm_medium=calendar&utm_source=team_cal&utm_content=league_url#game-268950
LOCATION:Holy Cross Lutheran Church & Community 
BEGIN:VALARM
TRIGGER:-P2H
ACTION:DISPLAY
DESCRIPTION:DIS 2nd Girls (Coach Phil) vs GSES Shooting Stars (D. Allgood)
END:VALARM
END:VEVENT
BEGIN:VEVENT
UID:semones-268914@ygametime.com
DTSTAMP:20220122T160000Z
DTSTART;TZID=America/Chicago:20220122T100000
DURATION:PT0H60M0S
SUMMARY:GSES Shooting Stars (D. Allgood) vs ESD Eagles (E. Elliott)
DESCRIPTION:2nd Grade Girls | Basketball\nSemones Family YMCA\n
URL;VALUE=URI:https://ygametime.com/branch/semones/sports/2021-winter-basketball/11392/?utm_medium=calendar&utm_source=team_cal&utm_content=league_url#game-268914
LOCATION:Holy Cross Lutheran Church & Community 
BEGIN:VALARM
TRIGGER:-P2H
ACTION:DISPLAY
DESCRIPTION:GSES Shooting Stars (D. Allgood) vs ESD Eagles (E. Elliott)
END:VALARM
END:VEVENT
BEGIN:VEVENT
UID:semones-268944@ygametime.com
DTSTAMP:20220123T180000Z
DTSTART;TZID=America/Chicago:20220123T120000
DURATION:PT0H60M0S
SUMMARY:JCC (T. Diamond) vs GSES Shooting Stars (D. Allgood)
DESCRIPTION:2nd Grade Girls | Basketball\nSemones Family YMCA\n
URL;VALUE=URI:https://ygametime.com/branch/semones/sports/2021-winter-basketball/11392/?utm_medium=calendar&utm_source=team_cal&utm_content=league_url#game-268944
LOCATION:JCC of Dallas - Court 2
BEGIN:VALARM
TRIGGER:-P2H
ACTION:DISPLAY
DESCRIPTION:JCC (T. Diamond) vs GSES Shooting Stars (D. Allgood)
END:VALARM
END:VEVENT
BEGIN:VEVENT
UID:semones-268963@ygametime.com
DTSTAMP:20220129T150000Z
DTSTART;TZID=America/Chicago:20220129T090000
DURATION:PT0H60M0S
SUMMARY:Kramer (S. Ruffner) vs GSES Shooting Stars (D. Allgood)
DESCRIPTION:2nd Grade Girls | Basketball\nSemones Family YMCA\n
URL;VALUE=URI:https://ygametime.com/branch/semones/sports/2021-winter-basketball/11392/?utm_medium=calendar&utm_source=team_cal&utm_content=league_url#game-268963
LOCATION:Holy Cross Lutheran Church & Community 
BEGIN:VALARM
TRIGGER:-P2H
ACTION:DISPLAY
DESCRIPTION:Kramer (S. Ruffner) vs GSES Shooting Stars (D. Allgood)
END:VALARM
END:VEVENT
END:VCALENDAR

