BEGIN:VCALENDAR
VERSION:2.0
PRODID:-//YGAMETIME.com//YGT iCal Creator//EN
METHOD:PUBLISH
X-PUBLISHED-TTL:PT6H
REFRESH-INTERVAL;VALUE=DURATION:PT6H
CALSCALE:GREGORIAN
X-WR-CALNAME:YGAMETIME CALENDAR
BEGIN:VTIMEZONE
TZID:America/Chicago
X-LIC-LOCATION:America/Chicago
BEGIN:DAYLIGHT
TZOFFSETFROM:-0600
TZOFFSETTO:-0500
TZNAME:CDT
DTSTART:19700308T020000
RRULE:FREQ=YEARLY;BYMONTH=3;BYDAY=2SU
END:DAYLIGHT
BEGIN:STANDARD
TZOFFSETFROM:-0500
TZOFFSETTO:-0600
TZNAME:CST
DTSTART:19701101T020000
RRULE:FREQ=YEARLY;BYMONTH=11;BYDAY=1SU
END:STANDARD
END:VTIMEZONE
BEGIN:VEVENT
UID:semones-268917@ygametime.com
DTSTAMP:20211211T230000Z
DTSTART;TZID=America/Chicago:20211211T170000
DURATION:PT0H60M0S
SUMMARY:Kramer (S. Ruffner) vs Dealey Dragons (J. Plauche)
DESCRIPTION:2nd Grade Girls | Basketball\nSemones Family YMCA\n
URL;VALUE=URI:https://ygametime.com/branch/semones/sports/2021-winter-basketball/11392/?utm_medium=calendar&utm_source=team_cal&utm_content=league_url#game-268917
LOCATION:Holy Cross Lutheran Church & Community 
BEGIN:VALARM
TRIGGER:-P2H
ACTION:DISPLAY
DESCRIPTION:Kramer (S. Ruffner) vs Dealey Dragons (J. Plauche)
END:VALARM
END:VEVENT
BEGIN:VEVENT
UID:semones-268931@ygametime.com
DTSTAMP:20211218T230000Z
DTSTART;TZID=America/Chicago:20211218T170000
DURATION:PT0H60M0S
SUMMARY:Dealey Dragons (J. Plauche) vs Dunking Daises (B. Miltenerger)
DESCRIPTION:2nd Grade Girls | Basketball\nSemones Family YMCA\n
URL;VALUE=URI:https://ygametime.com/branch/semones/sports/2021-winter-basketball/11392/?utm_medium=calendar&utm_source=team_cal&utm_content=league_url#game-268931
LOCATION:Holy Cross Lutheran Church & Community 
BEGIN:VALARM
TRIGGER:-P2H
ACTION:DISPLAY
DESCRIPTION:Dealey Dragons (J. Plauche) vs Dunking Daises (B. Miltenerger)
END:VALARM
END:VEVENT
BEGIN:VEVENT
UID:semones-268937@ygametime.com
DTSTAMP:20220108T190000Z
DTSTART;TZID=America/Chicago:20220108T130000
DURATION:PT0H60M0S
SUMMARY:Spartan Sparklers - White (J. Johnson) vs Dealey Dragons (J. Plauche)
DESCRIPTION:2nd Grade Girls | Basketball\nSemones Family YMCA\n
URL;VALUE=URI:https://ygametime.com/branch/semones/sports/2021-winter-basketball/11392/?utm_medium=calendar&utm_source=team_cal&utm_content=league_url#game-268937
LOCATION:Holy Cross Lutheran Church & Community 
BEGIN:VALARM
TRIGGER:-P2H
ACTION:DISPLAY
DESCRIPTION:Spartan Sparklers - White (J. Johnson) vs Dealey Dragons (J. Plauche)
END:VALARM
END:VEVENT
BEGIN:VEVENT
UID:semones-268946@ygametime.com
DTSTAMP:20220115T180000Z
DTSTART;TZID=America/Chicago:20220115T120000
DURATION:PT0H60M0S
SUMMARY:Dealey Dragons (J. Plauche) vs Spartan Sparklers - White (J. Johnson)
DESCRIPTION:2nd Grade Girls | Basketball\nSemones Family YMCA\n
URL;VALUE=URI:https://ygametime.com/branch/semones/sports/2021-winter-basketball/11392/?utm_medium=calendar&utm_source=team_cal&utm_content=league_url#game-268946
LOCATION:Holy Cross Lutheran Church & Community 
BEGIN:VALARM
TRIGGER:-P2H
ACTION:DISPLAY
DESCRIPTION:Dealey Dragons (J. Plauche) vs Spartan Sparklers - White (J. Johnson)
END:VALARM
END:VEVENT
BEGIN:VEVENT
UID:semones-268956@ygametime.com
DTSTAMP:20220122T170000Z
DTSTART;TZID=America/Chicago:20220122T110000
DURATION:PT0H60M0S
SUMMARY:Electric Daisies (S. Wibom) vs Dealey Dragons (J. Plauche)
DESCRIPTION:2nd Grade Girls | Basketball\nSemones Family YMCA\n
URL;VALUE=URI:https://ygametime.com/branch/semones/sports/2021-winter-basketball/11392/?utm_medium=calendar&utm_source=team_cal&utm_content=league_url#game-268956
LOCATION:Holy Cross Lutheran Church & Community 
BEGIN:VALARM
TRIGGER:-P2H
ACTION:DISPLAY
DESCRIPTION:Electric Daisies (S. Wibom) vs Dealey Dragons (J. Plauche)
END:VALARM
END:VEVENT
BEGIN:VEVENT
UID:semones-268966@ygametime.com
DTSTAMP:20220129T160000Z
DTSTART;TZID=America/Chicago:20220129T100000
DURATION:PT0H60M0S
SUMMARY:Dealey Dragons (J. Plauche) vs Grace Stallions (K. Clark)
DESCRIPTION:2nd Grade Girls | Basketball\nSemones Family YMCA\n
URL;VALUE=URI:https://ygametime.com/branch/semones/sports/2021-winter-basketball/11392/?utm_medium=calendar&utm_source=team_cal&utm_content=league_url#game-268966
LOCATION:Holy Cross Lutheran Church & Community 
BEGIN:VALARM
TRIGGER:-P2H
ACTION:DISPLAY
DESCRIPTION:Dealey Dragons (J. Plauche) vs Grace Stallions (K. Clark)
END:VALARM
END:VEVENT
BEGIN:VEVENT
UID:semones-268983@ygametime.com
DTSTAMP:20220212T150000Z
DTSTART;TZID=America/Chicago:20220212T090000
DURATION:PT0H60M0S
SUMMARY:Dealey Dragons (J. Plauche) vs Shooting Stars (B. Appleby)
DESCRIPTION:2nd Grade Girls | Basketball\nSemones Family YMCA\n
URL;VALUE=URI:https://ygametime.com/branch/semones/sports/2021-winter-basketball/11392/?utm_medium=calendar&utm_source=team_cal&utm_content=league_url#game-268983
LOCATION:Holy Cross Lutheran Church & Community 
BEGIN:VALARM
TRIGGER:-P2H
ACTION:DISPLAY
DESCRIPTION:Dealey Dragons (J. Plauche) vs Shooting Stars (B. Appleby)
END:VALARM
END:VEVENT
BEGIN:VEVENT
UID:semones-268975@ygametime.com
DTSTAMP:20220219T170000Z
DTSTART;TZID=America/Chicago:20220219T110000
DURATION:PT0H60M0S
SUMMARY:Withers Warrior Cats (N. Borrelli) vs Dealey Dragons (J. Plauche)
DESCRIPTION:2nd Grade Girls | Basketball\nSemones Family YMCA\n
URL;VALUE=URI:https://ygametime.com/branch/semones/sports/2021-winter-basketball/11392/?utm_medium=calendar&utm_source=team_cal&utm_content=league_url#game-268975
LOCATION:Holy Cross Lutheran Church & Community 
BEGIN:VALARM
TRIGGER:-P2H
ACTION:DISPLAY
DESCRIPTION:Withers Warrior Cats (N. Borrelli) vs Dealey Dragons (J. Plauche)
END:VALARM
END:VEVENT
END:VCALENDAR

