BEGIN:VCALENDAR
VERSION:2.0
PRODID:-//YGAMETIME.com//YGT iCal Creator//EN
METHOD:PUBLISH
X-PUBLISHED-TTL:PT6H
REFRESH-INTERVAL;VALUE=DURATION:PT6H
CALSCALE:GREGORIAN
X-WR-CALNAME:YGAMETIME CALENDAR
BEGIN:VTIMEZONE
TZID:America/Chicago
X-LIC-LOCATION:America/Chicago
BEGIN:DAYLIGHT
TZOFFSETFROM:-0600
TZOFFSETTO:-0500
TZNAME:CDT
DTSTART:19700308T020000
RRULE:FREQ=YEARLY;BYMONTH=3;BYDAY=2SU
END:DAYLIGHT
BEGIN:STANDARD
TZOFFSETFROM:-0500
TZOFFSETTO:-0600
TZNAME:CST
DTSTART:19701101T020000
RRULE:FREQ=YEARLY;BYMONTH=11;BYDAY=1SU
END:STANDARD
END:VTIMEZONE
BEGIN:VEVENT
UID:semones-268919@ygametime.com
DTSTAMP:20211211T180000Z
DTSTART;TZID=America/Chicago:20211211T120000
DURATION:PT0H60M0S
SUMMARY:Shooting Stars (B. Appleby) vs Spartan Sparklers - Green (N. Frommelt)
DESCRIPTION:2nd Grade Girls | Basketball\nSemones Family YMCA\n
URL;VALUE=URI:https://ygametime.com/branch/semones/sports/2021-winter-basketball/11392/?utm_medium=calendar&utm_source=team_cal&utm_content=league_url#game-268919
LOCATION:Holy Cross Lutheran Church & Community 
BEGIN:VALARM
TRIGGER:-P2H
ACTION:DISPLAY
DESCRIPTION:Shooting Stars (B. Appleby) vs Spartan Sparklers - Green (N. Frommelt)
END:VALARM
END:VEVENT
BEGIN:VEVENT
UID:semones-268929@ygametime.com
DTSTAMP:20211218T210000Z
DTSTART;TZID=America/Chicago:20211218T150000
DURATION:PT0H60M0S
SUMMARY:Spartan Sparklers - Green (N. Frommelt) vs Withers (E. Leonard)
DESCRIPTION:2nd Grade Girls | Basketball\nSemones Family YMCA\n
URL;VALUE=URI:https://ygametime.com/branch/semones/sports/2021-winter-basketball/11392/?utm_medium=calendar&utm_source=team_cal&utm_content=league_url#game-268929
LOCATION:Holy Cross Lutheran Church & Community 
BEGIN:VALARM
TRIGGER:-P2H
ACTION:DISPLAY
DESCRIPTION:Spartan Sparklers - Green (N. Frommelt) vs Withers (E. Leonard)
END:VALARM
END:VEVENT
BEGIN:VEVENT
UID:semones-268938@ygametime.com
DTSTAMP:20220108T200000Z
DTSTART;TZID=America/Chicago:20220108T140000
DURATION:PT0H60M0S
SUMMARY:Withers (E. Leonard) vs Spartan Sparklers - Green (N. Frommelt)
DESCRIPTION:2nd Grade Girls | Basketball\nSemones Family YMCA\n
URL;VALUE=URI:https://ygametime.com/branch/semones/sports/2021-winter-basketball/11392/?utm_medium=calendar&utm_source=team_cal&utm_content=league_url#game-268938
LOCATION:Holy Cross Lutheran Church & Community 
BEGIN:VALARM
TRIGGER:-P2H
ACTION:DISPLAY
DESCRIPTION:Withers (E. Leonard) vs Spartan Sparklers - Green (N. Frommelt)
END:VALARM
END:VEVENT
BEGIN:VEVENT
UID:semones-268948@ygametime.com
DTSTAMP:20220115T200000Z
DTSTART;TZID=America/Chicago:20220115T140000
DURATION:PT0H60M0S
SUMMARY:Spartan Sparklers - Green (N. Frommelt) vs Electric Daisies (S. Wibom)
DESCRIPTION:2nd Grade Girls | Basketball\nSemones Family YMCA\n
URL;VALUE=URI:https://ygametime.com/branch/semones/sports/2021-winter-basketball/11392/?utm_medium=calendar&utm_source=team_cal&utm_content=league_url#game-268948
LOCATION:Holy Cross Lutheran Church & Community 
BEGIN:VALARM
TRIGGER:-P2H
ACTION:DISPLAY
DESCRIPTION:Spartan Sparklers - Green (N. Frommelt) vs Electric Daisies (S. Wibom)
END:VALARM
END:VEVENT
BEGIN:VEVENT
UID:semones-268957@ygametime.com
DTSTAMP:20220122T180000Z
DTSTART;TZID=America/Chicago:20220122T120000
DURATION:PT0H60M0S
SUMMARY:Grace Stallions (K. Clark) vs Spartan Sparklers - Green (N. Frommelt)
DESCRIPTION:2nd Grade Girls | Basketball\nSemones Family YMCA\n
URL;VALUE=URI:https://ygametime.com/branch/semones/sports/2021-winter-basketball/11392/?utm_medium=calendar&utm_source=team_cal&utm_content=league_url#game-268957
LOCATION:Holy Cross Lutheran Church & Community 
BEGIN:VALARM
TRIGGER:-P2H
ACTION:DISPLAY
DESCRIPTION:Grace Stallions (K. Clark) vs Spartan Sparklers - Green (N. Frommelt)
END:VALARM
END:VEVENT
BEGIN:VEVENT
UID:semones-268965@ygametime.com
DTSTAMP:20220129T170000Z
DTSTART;TZID=America/Chicago:20220129T110000
DURATION:PT0H60M0S
SUMMARY:Spartan Sparklers - Green (N. Frommelt) vs Withers Warrior Cats (N. Borrelli)
DESCRIPTION:2nd Grade Girls | Basketball\nSemones Family YMCA\n
URL;VALUE=URI:https://ygametime.com/branch/semones/sports/2021-winter-basketball/11392/?utm_medium=calendar&utm_source=team_cal&utm_content=league_url#game-268965
LOCATION:Holy Cross Lutheran Church & Community 
BEGIN:VALARM
TRIGGER:-P2H
ACTION:DISPLAY
DESCRIPTION:Spartan Sparklers - Green (N. Frommelt) vs Withers Warrior Cats (N. Borrelli)
END:VALARM
END:VEVENT
BEGIN:VEVENT
UID:semones-268988@ygametime.com
DTSTAMP:20220212T230000Z
DTSTART;TZID=America/Chicago:20220212T170000
DURATION:PT0H60M0S
SUMMARY:Spartan Sparklers - Green (N. Frommelt) vs ESD Eagles (J. O'Neal)
DESCRIPTION:2nd Grade Girls | Basketball\nSemones Family YMCA\n
URL;VALUE=URI:https://ygametime.com/branch/semones/sports/2021-winter-basketball/11392/?utm_medium=calendar&utm_source=team_cal&utm_content=league_url#game-268988
LOCATION:Holy Cross Lutheran Church & Community 
BEGIN:VALARM
TRIGGER:-P2H
ACTION:DISPLAY
DESCRIPTION:Spartan Sparklers - Green (N. Frommelt) vs ESD Eagles (J. O'Neal)
END:VALARM
END:VEVENT
BEGIN:VEVENT
UID:semones-268973@ygametime.com
DTSTAMP:20220219T150000Z
DTSTART;TZID=America/Chicago:20220219T090000
DURATION:PT0H60M0S
SUMMARY:- vs Spartan Sparklers - Green (N. Frommelt)
DESCRIPTION:2nd Grade Girls | Basketball\nSemones Family YMCA\n
URL;VALUE=URI:https://ygametime.com/branch/semones/sports/2021-winter-basketball/11392/?utm_medium=calendar&utm_source=team_cal&utm_content=league_url#game-268973
LOCATION:Holy Cross Lutheran Church & Community 
BEGIN:VALARM
TRIGGER:-P2H
ACTION:DISPLAY
DESCRIPTION:- vs Spartan Sparklers - Green (N. Frommelt)
END:VALARM
END:VEVENT
END:VCALENDAR

