BEGIN:VCALENDAR
VERSION:2.0
PRODID:-//YGAMETIME.com//YGT iCal Creator//EN
METHOD:PUBLISH
X-PUBLISHED-TTL:PT6H
REFRESH-INTERVAL;VALUE=DURATION:PT6H
CALSCALE:GREGORIAN
X-WR-CALNAME:YGAMETIME CALENDAR
BEGIN:VTIMEZONE
TZID:America/Chicago
X-LIC-LOCATION:America/Chicago
BEGIN:DAYLIGHT
TZOFFSETFROM:-0600
TZOFFSETTO:-0500
TZNAME:CDT
DTSTART:19700308T020000
RRULE:FREQ=YEARLY;BYMONTH=3;BYDAY=2SU
END:DAYLIGHT
BEGIN:STANDARD
TZOFFSETFROM:-0500
TZOFFSETTO:-0600
TZNAME:CST
DTSTART:19701101T020000
RRULE:FREQ=YEARLY;BYMONTH=11;BYDAY=1SU
END:STANDARD
END:VTIMEZONE
BEGIN:VEVENT
UID:semones-268920@ygametime.com
DTSTAMP:20211212T180000Z
DTSTART;TZID=America/Chicago:20211212T120000
DURATION:PT0H60M0S
SUMMARY:Electric Daisies (S. Wibom) vs JCC (T. Diamond)
DESCRIPTION:2nd Grade Girls | Basketball\nSemones Family YMCA\n
URL;VALUE=URI:https://ygametime.com/branch/semones/sports/2021-winter-basketball/11392/?utm_medium=calendar&utm_source=team_cal&utm_content=league_url#game-268920
LOCATION:JCC of Dallas - Court 2
BEGIN:VALARM
TRIGGER:-P2H
ACTION:DISPLAY
DESCRIPTION:Electric Daisies (S. Wibom) vs JCC (T. Diamond)
END:VALARM
END:VEVENT
BEGIN:VEVENT
UID:semones-268939@ygametime.com
DTSTAMP:20220108T210000Z
DTSTART;TZID=America/Chicago:20220108T150000
DURATION:PT0H60M0S
SUMMARY:Electric Daisies (S. Wibom) vs Kramer (S. Ruffner)
DESCRIPTION:2nd Grade Girls | Basketball\nSemones Family YMCA\n
URL;VALUE=URI:https://ygametime.com/branch/semones/sports/2021-winter-basketball/11392/?utm_medium=calendar&utm_source=team_cal&utm_content=league_url#game-268939
LOCATION:Holy Cross Lutheran Church & Community 
BEGIN:VALARM
TRIGGER:-P2H
ACTION:DISPLAY
DESCRIPTION:Electric Daisies (S. Wibom) vs Kramer (S. Ruffner)
END:VALARM
END:VEVENT
BEGIN:VEVENT
UID:semones-268948@ygametime.com
DTSTAMP:20220115T200000Z
DTSTART;TZID=America/Chicago:20220115T140000
DURATION:PT0H60M0S
SUMMARY:Spartan Sparklers - Green (N. Frommelt) vs Electric Daisies (S. Wibom)
DESCRIPTION:2nd Grade Girls | Basketball\nSemones Family YMCA\n
URL;VALUE=URI:https://ygametime.com/branch/semones/sports/2021-winter-basketball/11392/?utm_medium=calendar&utm_source=team_cal&utm_content=league_url#game-268948
LOCATION:Holy Cross Lutheran Church & Community 
BEGIN:VALARM
TRIGGER:-P2H
ACTION:DISPLAY
DESCRIPTION:Spartan Sparklers - Green (N. Frommelt) vs Electric Daisies (S. Wibom)
END:VALARM
END:VEVENT
BEGIN:VEVENT
UID:semones-268956@ygametime.com
DTSTAMP:20220122T170000Z
DTSTART;TZID=America/Chicago:20220122T110000
DURATION:PT0H60M0S
SUMMARY:Electric Daisies (S. Wibom) vs Dealey Dragons (J. Plauche)
DESCRIPTION:2nd Grade Girls | Basketball\nSemones Family YMCA\n
URL;VALUE=URI:https://ygametime.com/branch/semones/sports/2021-winter-basketball/11392/?utm_medium=calendar&utm_source=team_cal&utm_content=league_url#game-268956
LOCATION:Holy Cross Lutheran Church & Community 
BEGIN:VALARM
TRIGGER:-P2H
ACTION:DISPLAY
DESCRIPTION:Electric Daisies (S. Wibom) vs Dealey Dragons (J. Plauche)
END:VALARM
END:VEVENT
BEGIN:VEVENT
UID:semones-268964@ygametime.com
DTSTAMP:20220129T200000Z
DTSTART;TZID=America/Chicago:20220129T140000
DURATION:PT0H60M0S
SUMMARY:Hornet Stars (E. Antypas) vs Electric Daisies (S. Wibom)
DESCRIPTION:2nd Grade Girls | Basketball\nSemones Family YMCA\n
URL;VALUE=URI:https://ygametime.com/branch/semones/sports/2021-winter-basketball/11392/?utm_medium=calendar&utm_source=team_cal&utm_content=league_url#game-268964
LOCATION:Holy Cross Lutheran Church & Community 
BEGIN:VALARM
TRIGGER:-P2H
ACTION:DISPLAY
DESCRIPTION:Hornet Stars (E. Antypas) vs Electric Daisies (S. Wibom)
END:VALARM
END:VEVENT
BEGIN:VEVENT
UID:semones-268972@ygametime.com
DTSTAMP:20220209T230000Z
DTSTART;TZID=America/Chicago:20220209T170000
DURATION:PT0H60M0S
SUMMARY:Electric Daisies (S. Wibom) vs Fire Wolves (A. Blount)
DESCRIPTION:2nd Grade Girls | Basketball\nSemones Family YMCA\n
URL;VALUE=URI:https://ygametime.com/branch/semones/sports/2021-winter-basketball/11392/?utm_medium=calendar&utm_source=team_cal&utm_content=league_url#game-268972
LOCATION:Good Shepherd Episcopal School 
BEGIN:VALARM
TRIGGER:-P2H
ACTION:DISPLAY
DESCRIPTION:Electric Daisies (S. Wibom) vs Fire Wolves (A. Blount)
END:VALARM
END:VEVENT
BEGIN:VEVENT
UID:semones-268987@ygametime.com
DTSTAMP:20220212T220000Z
DTSTART;TZID=America/Chicago:20220212T160000
DURATION:PT0H60M0S
SUMMARY:DIS 2nd Girls (Coach Phil) vs Electric Daisies (S. Wibom)
DESCRIPTION:2nd Grade Girls | Basketball\nSemones Family YMCA\n
URL;VALUE=URI:https://ygametime.com/branch/semones/sports/2021-winter-basketball/11392/?utm_medium=calendar&utm_source=team_cal&utm_content=league_url#game-268987
LOCATION:Holy Cross Lutheran Church & Community 
BEGIN:VALARM
TRIGGER:-P2H
ACTION:DISPLAY
DESCRIPTION:DIS 2nd Girls (Coach Phil) vs Electric Daisies (S. Wibom)
END:VALARM
END:VEVENT
END:VCALENDAR

