BEGIN:VCALENDAR
VERSION:2.0
PRODID:-//YGAMETIME.com//YGT iCal Creator//EN
METHOD:PUBLISH
X-PUBLISHED-TTL:PT6H
REFRESH-INTERVAL;VALUE=DURATION:PT6H
CALSCALE:GREGORIAN
X-WR-CALNAME:YGAMETIME CALENDAR
BEGIN:VTIMEZONE
TZID:America/Chicago
X-LIC-LOCATION:America/Chicago
BEGIN:DAYLIGHT
TZOFFSETFROM:-0600
TZOFFSETTO:-0500
TZNAME:CDT
DTSTART:19700308T020000
RRULE:FREQ=YEARLY;BYMONTH=3;BYDAY=2SU
END:DAYLIGHT
BEGIN:STANDARD
TZOFFSETFROM:-0500
TZOFFSETTO:-0600
TZNAME:CST
DTSTART:19701101T020000
RRULE:FREQ=YEARLY;BYMONTH=11;BYDAY=1SU
END:STANDARD
END:VTIMEZONE
BEGIN:VEVENT
UID:semones-268913@ygametime.com
DTSTAMP:20211201T230000Z
DTSTART;TZID=America/Chicago:20211201T170000
DURATION:PT0H60M0S
SUMMARY:ESD Eagles (J. O'Neal) vs Fire Wolves (A. Blount)
DESCRIPTION:2nd Grade Girls | Basketball\nSemones Family YMCA\n
URL;VALUE=URI:https://ygametime.com/branch/semones/sports/2021-winter-basketball/11392/?utm_medium=calendar&utm_source=team_cal&utm_content=league_url#game-268913
LOCATION:Good Shepherd Episcopal School 
BEGIN:VALARM
TRIGGER:-P2H
ACTION:DISPLAY
DESCRIPTION:ESD Eagles (J. O'Neal) vs Fire Wolves (A. Blount)
END:VALARM
END:VEVENT
BEGIN:VEVENT
UID:semones-268932@ygametime.com
DTSTAMP:20220108T140000Z
DTSTART;TZID=America/Chicago:20220108T080000
DURATION:PT0H60M0S
SUMMARY:ESD Eagles (J. O'Neal) vs DIS 2nd Girls (Coach Phil)
DESCRIPTION:2nd Grade Girls | Basketball\nSemones Family YMCA\n
URL;VALUE=URI:https://ygametime.com/branch/semones/sports/2021-winter-basketball/11392/?utm_medium=calendar&utm_source=team_cal&utm_content=league_url#game-268932
LOCATION:Holy Cross Lutheran Church & Community 
BEGIN:VALARM
TRIGGER:-P2H
ACTION:DISPLAY
DESCRIPTION:ESD Eagles (J. O'Neal) vs DIS 2nd Girls (Coach Phil)
END:VALARM
END:VEVENT
BEGIN:VEVENT
UID:semones-268942@ygametime.com
DTSTAMP:20220115T140000Z
DTSTART;TZID=America/Chicago:20220115T080000
DURATION:PT0H60M0S
SUMMARY:Greenhill Hornets (J Bowser) vs ESD Eagles (J. O'Neal)
DESCRIPTION:2nd Grade Girls | Basketball\nSemones Family YMCA\n
URL;VALUE=URI:https://ygametime.com/branch/semones/sports/2021-winter-basketball/11392/?utm_medium=calendar&utm_source=team_cal&utm_content=league_url#game-268942
LOCATION:Holy Cross Lutheran Church & Community 
BEGIN:VALARM
TRIGGER:-P2H
ACTION:DISPLAY
DESCRIPTION:Greenhill Hornets (J Bowser) vs ESD Eagles (J. O'Neal)
END:VALARM
END:VEVENT
BEGIN:VEVENT
UID:semones-268922@ygametime.com
DTSTAMP:20220129T230000Z
DTSTART;TZID=America/Chicago:20220129T170000
DURATION:PT0H60M0S
SUMMARY:ESD Eagles (E. Elliott) vs ESD Eagles (J. O'Neal)
DESCRIPTION:2nd Grade Girls | Basketball\nSemones Family YMCA\n
URL;VALUE=URI:https://ygametime.com/branch/semones/sports/2021-winter-basketball/11392/?utm_medium=calendar&utm_source=team_cal&utm_content=league_url#game-268922
LOCATION:Holy Cross Lutheran Church & Community 
BEGIN:VALARM
TRIGGER:-P2H
ACTION:DISPLAY
DESCRIPTION:ESD Eagles (E. Elliott) vs ESD Eagles (J. O'Neal)
END:VALARM
END:VEVENT
BEGIN:VEVENT
UID:semones-268952@ygametime.com
DTSTAMP:20220130T180000Z
DTSTART;TZID=America/Chicago:20220130T120000
DURATION:PT0H60M0S
SUMMARY:ESD Eagles (J. O'Neal) vs JCC (T. Diamond)
DESCRIPTION:2nd Grade Girls | Basketball\nSemones Family YMCA\n
URL;VALUE=URI:https://ygametime.com/branch/semones/sports/2021-winter-basketball/11392/?utm_medium=calendar&utm_source=team_cal&utm_content=league_url#game-268952
LOCATION:JCC of Dallas - Court 2
BEGIN:VALARM
TRIGGER:-P2H
ACTION:DISPLAY
DESCRIPTION:ESD Eagles (J. O'Neal) vs JCC (T. Diamond)
END:VALARM
END:VEVENT
BEGIN:VEVENT
UID:semones-268988@ygametime.com
DTSTAMP:20220212T230000Z
DTSTART;TZID=America/Chicago:20220212T170000
DURATION:PT0H60M0S
SUMMARY:Spartan Sparklers - Green (N. Frommelt) vs ESD Eagles (J. O'Neal)
DESCRIPTION:2nd Grade Girls | Basketball\nSemones Family YMCA\n
URL;VALUE=URI:https://ygametime.com/branch/semones/sports/2021-winter-basketball/11392/?utm_medium=calendar&utm_source=team_cal&utm_content=league_url#game-268988
LOCATION:Holy Cross Lutheran Church & Community 
BEGIN:VALARM
TRIGGER:-P2H
ACTION:DISPLAY
DESCRIPTION:Spartan Sparklers - Green (N. Frommelt) vs ESD Eagles (J. O'Neal)
END:VALARM
END:VEVENT
BEGIN:VEVENT
UID:semones-268981@ygametime.com
DTSTAMP:20220219T230000Z
DTSTART;TZID=America/Chicago:20220219T170000
DURATION:PT0H60M0S
SUMMARY:ESD Eagles (J. O'Neal) vs Kramer (S. Ruffner)
DESCRIPTION:2nd Grade Girls | Basketball\nSemones Family YMCA\n
URL;VALUE=URI:https://ygametime.com/branch/semones/sports/2021-winter-basketball/11392/?utm_medium=calendar&utm_source=team_cal&utm_content=league_url#game-268981
LOCATION:Holy Cross Lutheran Church & Community 
BEGIN:VALARM
TRIGGER:-P2H
ACTION:DISPLAY
DESCRIPTION:ESD Eagles (J. O'Neal) vs Kramer (S. Ruffner)
END:VALARM
END:VEVENT
END:VCALENDAR

