BEGIN:VCALENDAR
VERSION:2.0
PRODID:-//YGAMETIME.com//YGT iCal Creator//EN
METHOD:PUBLISH
X-PUBLISHED-TTL:PT6H
REFRESH-INTERVAL;VALUE=DURATION:PT6H
CALSCALE:GREGORIAN
X-WR-CALNAME:YGAMETIME CALENDAR
BEGIN:VTIMEZONE
TZID:America/Chicago
X-LIC-LOCATION:America/Chicago
BEGIN:DAYLIGHT
TZOFFSETFROM:-0600
TZOFFSETTO:-0500
TZNAME:CDT
DTSTART:19700308T020000
RRULE:FREQ=YEARLY;BYMONTH=3;BYDAY=2SU
END:DAYLIGHT
BEGIN:STANDARD
TZOFFSETFROM:-0500
TZOFFSETTO:-0600
TZNAME:CST
DTSTART:19701101T020000
RRULE:FREQ=YEARLY;BYMONTH=11;BYDAY=1SU
END:STANDARD
END:VTIMEZONE
BEGIN:VEVENT
UID:semones-268931@ygametime.com
DTSTAMP:20211218T230000Z
DTSTART;TZID=America/Chicago:20211218T170000
DURATION:PT0H60M0S
SUMMARY:Dealey Dragons (J. Plauche) vs Dunking Daises (B. Miltenerger)
DESCRIPTION:2nd Grade Girls | Basketball\nSemones Family YMCA\n
URL;VALUE=URI:https://ygametime.com/branch/semones/sports/2021-winter-basketball/11392/?utm_medium=calendar&utm_source=team_cal&utm_content=league_url#game-268931
LOCATION:Holy Cross Lutheran Church & Community 
BEGIN:VALARM
TRIGGER:-P2H
ACTION:DISPLAY
DESCRIPTION:Dealey Dragons (J. Plauche) vs Dunking Daises (B. Miltenerger)
END:VALARM
END:VEVENT
BEGIN:VEVENT
UID:semones-268941@ygametime.com
DTSTAMP:20220108T150000Z
DTSTART;TZID=America/Chicago:20220108T090000
DURATION:PT0H60M0S
SUMMARY:Dynamo Daisies (S. Goldberg) vs Dunking Daises (B. Miltenerger)
DESCRIPTION:2nd Grade Girls | Basketball\nSemones Family YMCA\n
URL;VALUE=URI:https://ygametime.com/branch/semones/sports/2021-winter-basketball/11392/?utm_medium=calendar&utm_source=team_cal&utm_content=league_url#game-268941
LOCATION:Holy Cross Lutheran Church & Community 
BEGIN:VALARM
TRIGGER:-P2H
ACTION:DISPLAY
DESCRIPTION:Dynamo Daisies (S. Goldberg) vs Dunking Daises (B. Miltenerger)
END:VALARM
END:VEVENT
BEGIN:VEVENT
UID:semones-268927@ygametime.com
DTSTAMP:20220108T230000Z
DTSTART;TZID=America/Chicago:20220108T170000
DURATION:PT0H60M0S
SUMMARY:Dunking Daises (B. Miltenerger) vs Shooting Stars (B. Appleby)
DESCRIPTION:2nd Grade Girls | Basketball\nSemones Family YMCA\n
URL;VALUE=URI:https://ygametime.com/branch/semones/sports/2021-winter-basketball/11392/?utm_medium=calendar&utm_source=team_cal&utm_content=league_url#game-268927
LOCATION:Holy Cross Lutheran Church & Community 
BEGIN:VALARM
TRIGGER:-P2H
ACTION:DISPLAY
DESCRIPTION:Dunking Daises (B. Miltenerger) vs Shooting Stars (B. Appleby)
END:VALARM
END:VEVENT
BEGIN:VEVENT
UID:semones-268951@ygametime.com
DTSTAMP:20220115T220000Z
DTSTART;TZID=America/Chicago:20220115T160000
DURATION:PT0H60M0S
SUMMARY:Dunking Daises (B. Miltenerger) vs Koala Krew (A. Peterson)
DESCRIPTION:2nd Grade Girls | Basketball\nSemones Family YMCA\n
URL;VALUE=URI:https://ygametime.com/branch/semones/sports/2021-winter-basketball/11392/?utm_medium=calendar&utm_source=team_cal&utm_content=league_url#game-268951
LOCATION:Holy Cross Lutheran Church & Community 
BEGIN:VALARM
TRIGGER:-P2H
ACTION:DISPLAY
DESCRIPTION:Dunking Daises (B. Miltenerger) vs Koala Krew (A. Peterson)
END:VALARM
END:VEVENT
BEGIN:VEVENT
UID:semones-268961@ygametime.com
DTSTAMP:20220122T220000Z
DTSTART;TZID=America/Chicago:20220122T160000
DURATION:PT0H60M0S
SUMMARY:Shooting Stars (B. Appleby) vs Dunking Daises (B. Miltenerger)
DESCRIPTION:2nd Grade Girls | Basketball\nSemones Family YMCA\n
URL;VALUE=URI:https://ygametime.com/branch/semones/sports/2021-winter-basketball/11392/?utm_medium=calendar&utm_source=team_cal&utm_content=league_url#game-268961
LOCATION:Holy Cross Lutheran Church & Community 
BEGIN:VALARM
TRIGGER:-P2H
ACTION:DISPLAY
DESCRIPTION:Shooting Stars (B. Appleby) vs Dunking Daises (B. Miltenerger)
END:VALARM
END:VEVENT
BEGIN:VEVENT
UID:semones-268971@ygametime.com
DTSTAMP:20220129T180000Z
DTSTART;TZID=America/Chicago:20220129T120000
DURATION:PT0H60M0S
SUMMARY:Dunking Daises (B. Miltenerger) vs Withers (E. Leonard)
DESCRIPTION:2nd Grade Girls | Basketball\nSemones Family YMCA\n
URL;VALUE=URI:https://ygametime.com/branch/semones/sports/2021-winter-basketball/11392/?utm_medium=calendar&utm_source=team_cal&utm_content=league_url#game-268971
LOCATION:Holy Cross Lutheran Church & Community 
BEGIN:VALARM
TRIGGER:-P2H
ACTION:DISPLAY
DESCRIPTION:Dunking Daises (B. Miltenerger) vs Withers (E. Leonard)
END:VALARM
END:VEVENT
BEGIN:VEVENT
UID:semones-268978@ygametime.com
DTSTAMP:20220213T180000Z
DTSTART;TZID=America/Chicago:20220213T120000
DURATION:PT0H60M0S
SUMMARY:Dunking Daises (B. Miltenerger) vs JCC (T. Diamond)
DESCRIPTION:2nd Grade Girls | Basketball\nSemones Family YMCA\n
URL;VALUE=URI:https://ygametime.com/branch/semones/sports/2021-winter-basketball/11392/?utm_medium=calendar&utm_source=team_cal&utm_content=league_url#game-268978
LOCATION:JCC of Dallas - Court 2
BEGIN:VALARM
TRIGGER:-P2H
ACTION:DISPLAY
DESCRIPTION:Dunking Daises (B. Miltenerger) vs JCC (T. Diamond)
END:VALARM
END:VEVENT
BEGIN:VEVENT
UID:semones-268980@ygametime.com
DTSTAMP:20220219T220000Z
DTSTART;TZID=America/Chicago:20220219T160000
DURATION:PT0H60M0S
SUMMARY:Spartan Sparklers - White (J. Johnson) vs Dunking Daises (B. Miltenerger)
DESCRIPTION:2nd Grade Girls | Basketball\nSemones Family YMCA\n
URL;VALUE=URI:https://ygametime.com/branch/semones/sports/2021-winter-basketball/11392/?utm_medium=calendar&utm_source=team_cal&utm_content=league_url#game-268980
LOCATION:Holy Cross Lutheran Church & Community 
BEGIN:VALARM
TRIGGER:-P2H
ACTION:DISPLAY
DESCRIPTION:Spartan Sparklers - White (J. Johnson) vs Dunking Daises (B. Miltenerger)
END:VALARM
END:VEVENT
END:VCALENDAR

