BEGIN:VCALENDAR
VERSION:2.0
PRODID:-//YGAMETIME.com//YGT iCal Creator//EN
METHOD:PUBLISH
X-PUBLISHED-TTL:PT6H
REFRESH-INTERVAL;VALUE=DURATION:PT6H
CALSCALE:GREGORIAN
X-WR-CALNAME:YGAMETIME CALENDAR
BEGIN:VTIMEZONE
TZID:America/Chicago
X-LIC-LOCATION:America/Chicago
BEGIN:DAYLIGHT
TZOFFSETFROM:-0600
TZOFFSETTO:-0500
TZNAME:CDT
DTSTART:19700308T020000
RRULE:FREQ=YEARLY;BYMONTH=3;BYDAY=2SU
END:DAYLIGHT
BEGIN:STANDARD
TZOFFSETFROM:-0500
TZOFFSETTO:-0600
TZNAME:CST
DTSTART:19701101T020000
RRULE:FREQ=YEARLY;BYMONTH=11;BYDAY=1SU
END:STANDARD
END:VTIMEZONE
BEGIN:VEVENT
UID:semones-268915@ygametime.com
DTSTAMP:20211211T150000Z
DTSTART;TZID=America/Chicago:20211211T090000
DURATION:PT0H60M0S
SUMMARY:Dynamo Daisies (S. Goldberg) vs Hornet Stars (E. Antypas)
DESCRIPTION:2nd Grade Girls | Basketball\nSemones Family YMCA\n
URL;VALUE=URI:https://ygametime.com/branch/semones/sports/2021-winter-basketball/11392/?utm_medium=calendar&utm_source=team_cal&utm_content=league_url#game-268915
LOCATION:Holy Cross Lutheran Church & Community 
BEGIN:VALARM
TRIGGER:-P2H
ACTION:DISPLAY
DESCRIPTION:Dynamo Daisies (S. Goldberg) vs Hornet Stars (E. Antypas)
END:VALARM
END:VEVENT
BEGIN:VEVENT
UID:semones-268923@ygametime.com
DTSTAMP:20211218T150000Z
DTSTART;TZID=America/Chicago:20211218T090000
DURATION:PT0H60M0S
SUMMARY:Fire Wolves (A. Blount) vs Dynamo Daisies (S. Goldberg)
DESCRIPTION:2nd Grade Girls | Basketball\nSemones Family YMCA\n
URL;VALUE=URI:https://ygametime.com/branch/semones/sports/2021-winter-basketball/11392/?utm_medium=calendar&utm_source=team_cal&utm_content=league_url#game-268923
LOCATION:Holy Cross Lutheran Church & Community 
BEGIN:VALARM
TRIGGER:-P2H
ACTION:DISPLAY
DESCRIPTION:Fire Wolves (A. Blount) vs Dynamo Daisies (S. Goldberg)
END:VALARM
END:VEVENT
BEGIN:VEVENT
UID:semones-268941@ygametime.com
DTSTAMP:20220108T150000Z
DTSTART;TZID=America/Chicago:20220108T090000
DURATION:PT0H60M0S
SUMMARY:Dynamo Daisies (S. Goldberg) vs Dunking Daises (B. Miltenerger)
DESCRIPTION:2nd Grade Girls | Basketball\nSemones Family YMCA\n
URL;VALUE=URI:https://ygametime.com/branch/semones/sports/2021-winter-basketball/11392/?utm_medium=calendar&utm_source=team_cal&utm_content=league_url#game-268941
LOCATION:Holy Cross Lutheran Church & Community 
BEGIN:VALARM
TRIGGER:-P2H
ACTION:DISPLAY
DESCRIPTION:Dynamo Daisies (S. Goldberg) vs Dunking Daises (B. Miltenerger)
END:VALARM
END:VEVENT
BEGIN:VEVENT
UID:semones-268959@ygametime.com
DTSTAMP:20220122T200000Z
DTSTART;TZID=America/Chicago:20220122T140000
DURATION:PT0H60M0S
SUMMARY:Koala Krew (A. Peterson) vs Dynamo Daisies (S. Goldberg)
DESCRIPTION:2nd Grade Girls | Basketball\nSemones Family YMCA\n
URL;VALUE=URI:https://ygametime.com/branch/semones/sports/2021-winter-basketball/11392/?utm_medium=calendar&utm_source=team_cal&utm_content=league_url#game-268959
LOCATION:Holy Cross Lutheran Church & Community 
BEGIN:VALARM
TRIGGER:-P2H
ACTION:DISPLAY
DESCRIPTION:Koala Krew (A. Peterson) vs Dynamo Daisies (S. Goldberg)
END:VALARM
END:VEVENT
BEGIN:VEVENT
UID:semones-268969@ygametime.com
DTSTAMP:20220129T220000Z
DTSTART;TZID=America/Chicago:20220129T160000
DURATION:PT0H60M0S
SUMMARY:Dynamo Daisies (S. Goldberg) vs Shooting Stars (B. Appleby)
DESCRIPTION:2nd Grade Girls | Basketball\nSemones Family YMCA\n
URL;VALUE=URI:https://ygametime.com/branch/semones/sports/2021-winter-basketball/11392/?utm_medium=calendar&utm_source=team_cal&utm_content=league_url#game-268969
LOCATION:Holy Cross Lutheran Church & Community 
BEGIN:VALARM
TRIGGER:-P2H
ACTION:DISPLAY
DESCRIPTION:Dynamo Daisies (S. Goldberg) vs Shooting Stars (B. Appleby)
END:VALARM
END:VEVENT
BEGIN:VEVENT
UID:semones-268985@ygametime.com
DTSTAMP:20220212T200000Z
DTSTART;TZID=America/Chicago:20220212T140000
DURATION:PT0H60M0S
SUMMARY:Dynamo Daisies (S. Goldberg) vs Spartan Sparklers - White (J. Johnson)
DESCRIPTION:2nd Grade Girls | Basketball\nSemones Family YMCA\n
URL;VALUE=URI:https://ygametime.com/branch/semones/sports/2021-winter-basketball/11392/?utm_medium=calendar&utm_source=team_cal&utm_content=league_url#game-268985
LOCATION:Holy Cross Lutheran Church & Community 
BEGIN:VALARM
TRIGGER:-P2H
ACTION:DISPLAY
DESCRIPTION:Dynamo Daisies (S. Goldberg) vs Spartan Sparklers - White (J. Johnson)
END:VALARM
END:VEVENT
BEGIN:VEVENT
UID:semones-268979@ygametime.com
DTSTAMP:20220219T210000Z
DTSTART;TZID=America/Chicago:20220219T150000
DURATION:PT0H60M0S
SUMMARY:Withers (E. Leonard) vs Dynamo Daisies (S. Goldberg)
DESCRIPTION:2nd Grade Girls | Basketball\nSemones Family YMCA\n
URL;VALUE=URI:https://ygametime.com/branch/semones/sports/2021-winter-basketball/11392/?utm_medium=calendar&utm_source=team_cal&utm_content=league_url#game-268979
LOCATION:Holy Cross Lutheran Church & Community 
BEGIN:VALARM
TRIGGER:-P2H
ACTION:DISPLAY
DESCRIPTION:Withers (E. Leonard) vs Dynamo Daisies (S. Goldberg)
END:VALARM
END:VEVENT
END:VCALENDAR

