BEGIN:VCALENDAR
VERSION:2.0
PRODID:-//YGAMETIME.com//YGT iCal Creator//EN
METHOD:PUBLISH
X-PUBLISHED-TTL:PT6H
REFRESH-INTERVAL;VALUE=DURATION:PT6H
CALSCALE:GREGORIAN
X-WR-CALNAME:YGAMETIME CALENDAR
BEGIN:VTIMEZONE
TZID:America/Chicago
X-LIC-LOCATION:America/Chicago
BEGIN:DAYLIGHT
TZOFFSETFROM:-0600
TZOFFSETTO:-0500
TZNAME:CDT
DTSTART:19700308T020000
RRULE:FREQ=YEARLY;BYMONTH=3;BYDAY=2SU
END:DAYLIGHT
BEGIN:STANDARD
TZOFFSETFROM:-0500
TZOFFSETTO:-0600
TZNAME:CST
DTSTART:19701101T020000
RRULE:FREQ=YEARLY;BYMONTH=11;BYDAY=1SU
END:STANDARD
END:VTIMEZONE
BEGIN:VEVENT
UID:semones-268924@ygametime.com
DTSTAMP:20211211T190000Z
DTSTART;TZID=America/Chicago:20211211T130000
DURATION:PT0H60M0S
SUMMARY:DIS 2nd Girls (Coach Phil) vs Spartan Sparklers - White (J. Johnson)
DESCRIPTION:2nd Grade Girls | Basketball\nSemones Family YMCA\n
URL;VALUE=URI:https://ygametime.com/branch/semones/sports/2021-winter-basketball/11392/?utm_medium=calendar&utm_source=team_cal&utm_content=league_url#game-268924
LOCATION:Holy Cross Lutheran Church & Community 
BEGIN:VALARM
TRIGGER:-P2H
ACTION:DISPLAY
DESCRIPTION:DIS 2nd Girls (Coach Phil) vs Spartan Sparklers - White (J. Johnson)
END:VALARM
END:VEVENT
BEGIN:VEVENT
UID:semones-268916@ygametime.com
DTSTAMP:20211211T210000Z
DTSTART;TZID=America/Chicago:20211211T150000
DURATION:PT0H60M0S
SUMMARY:Withers Warrior Cats (N. Borrelli) vs DIS 2nd Girls (Coach Phil)
DESCRIPTION:2nd Grade Girls | Basketball\nSemones Family YMCA\n
URL;VALUE=URI:https://ygametime.com/branch/semones/sports/2021-winter-basketball/11392/?utm_medium=calendar&utm_source=team_cal&utm_content=league_url#game-268916
LOCATION:Holy Cross Lutheran Church & Community 
BEGIN:VALARM
TRIGGER:-P2H
ACTION:DISPLAY
DESCRIPTION:Withers Warrior Cats (N. Borrelli) vs DIS 2nd Girls (Coach Phil)
END:VALARM
END:VEVENT
BEGIN:VEVENT
UID:semones-268932@ygametime.com
DTSTAMP:20220108T140000Z
DTSTART;TZID=America/Chicago:20220108T080000
DURATION:PT0H60M0S
SUMMARY:ESD Eagles (J. O'Neal) vs DIS 2nd Girls (Coach Phil)
DESCRIPTION:2nd Grade Girls | Basketball\nSemones Family YMCA\n
URL;VALUE=URI:https://ygametime.com/branch/semones/sports/2021-winter-basketball/11392/?utm_medium=calendar&utm_source=team_cal&utm_content=league_url#game-268932
LOCATION:Holy Cross Lutheran Church & Community 
BEGIN:VALARM
TRIGGER:-P2H
ACTION:DISPLAY
DESCRIPTION:ESD Eagles (J. O'Neal) vs DIS 2nd Girls (Coach Phil)
END:VALARM
END:VEVENT
BEGIN:VEVENT
UID:semones-268950@ygametime.com
DTSTAMP:20220115T210000Z
DTSTART;TZID=America/Chicago:20220115T150000
DURATION:PT0H60M0S
SUMMARY:DIS 2nd Girls (Coach Phil) vs GSES Shooting Stars (D. Allgood)
DESCRIPTION:2nd Grade Girls | Basketball\nSemones Family YMCA\n
URL;VALUE=URI:https://ygametime.com/branch/semones/sports/2021-winter-basketball/11392/?utm_medium=calendar&utm_source=team_cal&utm_content=league_url#game-268950
LOCATION:Holy Cross Lutheran Church & Community 
BEGIN:VALARM
TRIGGER:-P2H
ACTION:DISPLAY
DESCRIPTION:DIS 2nd Girls (Coach Phil) vs GSES Shooting Stars (D. Allgood)
END:VALARM
END:VEVENT
BEGIN:VEVENT
UID:semones-268958@ygametime.com
DTSTAMP:20220122T190000Z
DTSTART;TZID=America/Chicago:20220122T130000
DURATION:PT0H60M0S
SUMMARY:DIS 2nd Girls (Coach Phil) vs True Blue Panthers (A. Martinez)
DESCRIPTION:2nd Grade Girls | Basketball\nSemones Family YMCA\n
URL;VALUE=URI:https://ygametime.com/branch/semones/sports/2021-winter-basketball/11392/?utm_medium=calendar&utm_source=team_cal&utm_content=league_url#game-268958
LOCATION:Holy Cross Lutheran Church & Community 
BEGIN:VALARM
TRIGGER:-P2H
ACTION:DISPLAY
DESCRIPTION:DIS 2nd Girls (Coach Phil) vs True Blue Panthers (A. Martinez)
END:VALARM
END:VEVENT
BEGIN:VEVENT
UID:semones-268968@ygametime.com
DTSTAMP:20220129T210000Z
DTSTART;TZID=America/Chicago:20220129T150000
DURATION:PT0H60M0S
SUMMARY:Greenhill Hornets (J Bowser) vs DIS 2nd Girls (Coach Phil)
DESCRIPTION:2nd Grade Girls | Basketball\nSemones Family YMCA\n
URL;VALUE=URI:https://ygametime.com/branch/semones/sports/2021-winter-basketball/11392/?utm_medium=calendar&utm_source=team_cal&utm_content=league_url#game-268968
LOCATION:Holy Cross Lutheran Church & Community 
BEGIN:VALARM
TRIGGER:-P2H
ACTION:DISPLAY
DESCRIPTION:Greenhill Hornets (J Bowser) vs DIS 2nd Girls (Coach Phil)
END:VALARM
END:VEVENT
BEGIN:VEVENT
UID:semones-268984@ygametime.com
DTSTAMP:20220212T160000Z
DTSTART;TZID=America/Chicago:20220212T100000
DURATION:PT0H60M0S
SUMMARY:DIS 2nd Girls (Coach Phil) vs Withers Warrior Cats (N. Borrelli)
DESCRIPTION:2nd Grade Girls | Basketball\nSemones Family YMCA\n
URL;VALUE=URI:https://ygametime.com/branch/semones/sports/2021-winter-basketball/11392/?utm_medium=calendar&utm_source=team_cal&utm_content=league_url#game-268984
LOCATION:Holy Cross Lutheran Church & Community 
BEGIN:VALARM
TRIGGER:-P2H
ACTION:DISPLAY
DESCRIPTION:DIS 2nd Girls (Coach Phil) vs Withers Warrior Cats (N. Borrelli)
END:VALARM
END:VEVENT
BEGIN:VEVENT
UID:semones-268987@ygametime.com
DTSTAMP:20220212T220000Z
DTSTART;TZID=America/Chicago:20220212T160000
DURATION:PT0H60M0S
SUMMARY:DIS 2nd Girls (Coach Phil) vs Electric Daisies (S. Wibom)
DESCRIPTION:2nd Grade Girls | Basketball\nSemones Family YMCA\n
URL;VALUE=URI:https://ygametime.com/branch/semones/sports/2021-winter-basketball/11392/?utm_medium=calendar&utm_source=team_cal&utm_content=league_url#game-268987
LOCATION:Holy Cross Lutheran Church & Community 
BEGIN:VALARM
TRIGGER:-P2H
ACTION:DISPLAY
DESCRIPTION:DIS 2nd Girls (Coach Phil) vs Electric Daisies (S. Wibom)
END:VALARM
END:VEVENT
END:VCALENDAR

