BEGIN:VCALENDAR
VERSION:2.0
PRODID:-//YGAMETIME.com//YGT iCal Creator//EN
METHOD:PUBLISH
X-PUBLISHED-TTL:PT6H
REFRESH-INTERVAL;VALUE=DURATION:PT6H
CALSCALE:GREGORIAN
X-WR-CALNAME:YGAMETIME CALENDAR
BEGIN:VTIMEZONE
TZID:America/Chicago
X-LIC-LOCATION:America/Chicago
BEGIN:DAYLIGHT
TZOFFSETFROM:-0600
TZOFFSETTO:-0500
TZNAME:CDT
DTSTART:19700308T020000
RRULE:FREQ=YEARLY;BYMONTH=3;BYDAY=2SU
END:DAYLIGHT
BEGIN:STANDARD
TZOFFSETFROM:-0500
TZOFFSETTO:-0600
TZNAME:CST
DTSTART:19701101T020000
RRULE:FREQ=YEARLY;BYMONTH=11;BYDAY=1SU
END:STANDARD
END:VTIMEZONE
BEGIN:VEVENT
UID:semones-268925@ygametime.com
DTSTAMP:20211218T170000Z
DTSTART;TZID=America/Chicago:20211218T110000
DURATION:PT0H60M0S
SUMMARY:Hornet Stars (E. Antypas) vs Koala Krew (A. Peterson)
DESCRIPTION:2nd Grade Girls | Basketball\nSemones Family YMCA\n
URL;VALUE=URI:https://ygametime.com/branch/semones/sports/2021-winter-basketball/11392/?utm_medium=calendar&utm_source=team_cal&utm_content=league_url#game-268925
LOCATION:Holy Cross Lutheran Church & Community 
BEGIN:VALARM
TRIGGER:-P2H
ACTION:DISPLAY
DESCRIPTION:Hornet Stars (E. Antypas) vs Koala Krew (A. Peterson)
END:VALARM
END:VEVENT
BEGIN:VEVENT
UID:semones-268933@ygametime.com
DTSTAMP:20220112T230000Z
DTSTART;TZID=America/Chicago:20220112T170000
DURATION:PT0H60M0S
SUMMARY:Koala Krew (A. Peterson) vs Fire Wolves (A. Blount)
DESCRIPTION:2nd Grade Girls | Basketball\nSemones Family YMCA\n
URL;VALUE=URI:https://ygametime.com/branch/semones/sports/2021-winter-basketball/11392/?utm_medium=calendar&utm_source=team_cal&utm_content=league_url#game-268933
LOCATION:Good Shepherd Episcopal School 
BEGIN:VALARM
TRIGGER:-P2H
ACTION:DISPLAY
DESCRIPTION:Koala Krew (A. Peterson) vs Fire Wolves (A. Blount)
END:VALARM
END:VEVENT
BEGIN:VEVENT
UID:semones-268951@ygametime.com
DTSTAMP:20220115T220000Z
DTSTART;TZID=America/Chicago:20220115T160000
DURATION:PT0H60M0S
SUMMARY:Dunking Daises (B. Miltenerger) vs Koala Krew (A. Peterson)
DESCRIPTION:2nd Grade Girls | Basketball\nSemones Family YMCA\n
URL;VALUE=URI:https://ygametime.com/branch/semones/sports/2021-winter-basketball/11392/?utm_medium=calendar&utm_source=team_cal&utm_content=league_url#game-268951
LOCATION:Holy Cross Lutheran Church & Community 
BEGIN:VALARM
TRIGGER:-P2H
ACTION:DISPLAY
DESCRIPTION:Dunking Daises (B. Miltenerger) vs Koala Krew (A. Peterson)
END:VALARM
END:VEVENT
BEGIN:VEVENT
UID:semones-268959@ygametime.com
DTSTAMP:20220122T200000Z
DTSTART;TZID=America/Chicago:20220122T140000
DURATION:PT0H60M0S
SUMMARY:Koala Krew (A. Peterson) vs Dynamo Daisies (S. Goldberg)
DESCRIPTION:2nd Grade Girls | Basketball\nSemones Family YMCA\n
URL;VALUE=URI:https://ygametime.com/branch/semones/sports/2021-winter-basketball/11392/?utm_medium=calendar&utm_source=team_cal&utm_content=league_url#game-268959
LOCATION:Holy Cross Lutheran Church & Community 
BEGIN:VALARM
TRIGGER:-P2H
ACTION:DISPLAY
DESCRIPTION:Koala Krew (A. Peterson) vs Dynamo Daisies (S. Goldberg)
END:VALARM
END:VEVENT
BEGIN:VEVENT
UID:semones-268967@ygametime.com
DTSTAMP:20220209T000000Z
DTSTART;TZID=America/Chicago:20220208T180000
DURATION:PT0H60M0S
SUMMARY:True Blue Panthers (A. Martinez) vs Koala Krew (A. Peterson)
DESCRIPTION:2nd Grade Girls | Basketball\nSemones Family YMCA\n
URL;VALUE=URI:https://ygametime.com/branch/semones/sports/2021-winter-basketball/11392/?utm_medium=calendar&utm_source=team_cal&utm_content=league_url#game-268967
LOCATION:Semones Family YMCA - Court 1
BEGIN:VALARM
TRIGGER:-P2H
ACTION:DISPLAY
DESCRIPTION:True Blue Panthers (A. Martinez) vs Koala Krew (A. Peterson)
END:VALARM
END:VEVENT
BEGIN:VEVENT
UID:semones-268986@ygametime.com
DTSTAMP:20220212T210000Z
DTSTART;TZID=America/Chicago:20220212T150000
DURATION:PT0H60M0S
SUMMARY:Koala Krew (A. Peterson) vs ESD Eagles (E. Elliott)
DESCRIPTION:2nd Grade Girls | Basketball\nSemones Family YMCA\n
URL;VALUE=URI:https://ygametime.com/branch/semones/sports/2021-winter-basketball/11392/?utm_medium=calendar&utm_source=team_cal&utm_content=league_url#game-268986
LOCATION:Holy Cross Lutheran Church & Community 
BEGIN:VALARM
TRIGGER:-P2H
ACTION:DISPLAY
DESCRIPTION:Koala Krew (A. Peterson) vs ESD Eagles (E. Elliott)
END:VALARM
END:VEVENT
BEGIN:VEVENT
UID:semones-268977@ygametime.com
DTSTAMP:20220219T190000Z
DTSTART;TZID=America/Chicago:20220219T130000
DURATION:PT0H60M0S
SUMMARY:Shooting Stars (B. Appleby) vs Koala Krew (A. Peterson)
DESCRIPTION:2nd Grade Girls | Basketball\nSemones Family YMCA\n
URL;VALUE=URI:https://ygametime.com/branch/semones/sports/2021-winter-basketball/11392/?utm_medium=calendar&utm_source=team_cal&utm_content=league_url#game-268977
LOCATION:Holy Cross Lutheran Church & Community 
BEGIN:VALARM
TRIGGER:-P2H
ACTION:DISPLAY
DESCRIPTION:Shooting Stars (B. Appleby) vs Koala Krew (A. Peterson)
END:VALARM
END:VEVENT
END:VCALENDAR

