BEGIN:VCALENDAR
VERSION:2.0
PRODID:-//YGAMETIME.com//YGT iCal Creator//EN
METHOD:PUBLISH
X-PUBLISHED-TTL:PT6H
REFRESH-INTERVAL;VALUE=DURATION:PT6H
CALSCALE:GREGORIAN
X-WR-CALNAME:YGAMETIME CALENDAR
BEGIN:VTIMEZONE
TZID:America/Chicago
X-LIC-LOCATION:America/Chicago
BEGIN:DAYLIGHT
TZOFFSETFROM:-0600
TZOFFSETTO:-0500
TZNAME:CDT
DTSTART:19700308T020000
RRULE:FREQ=YEARLY;BYMONTH=3;BYDAY=2SU
END:DAYLIGHT
BEGIN:STANDARD
TZOFFSETFROM:-0500
TZOFFSETTO:-0600
TZNAME:CST
DTSTART:19701101T020000
RRULE:FREQ=YEARLY;BYMONTH=11;BYDAY=1SU
END:STANDARD
END:VTIMEZONE
BEGIN:VEVENT
UID:semones-268918@ygametime.com
DTSTAMP:20211211T160000Z
DTSTART;TZID=America/Chicago:20211211T100000
DURATION:PT0H60M0S
SUMMARY:Grace Stallions (K. Clark) vs Greenhill Hornets (J Bowser)
DESCRIPTION:2nd Grade Girls | Basketball\nSemones Family YMCA\n
URL;VALUE=URI:https://ygametime.com/branch/semones/sports/2021-winter-basketball/11392/?utm_medium=calendar&utm_source=team_cal&utm_content=league_url#game-268918
LOCATION:Holy Cross Lutheran Church & Community 
BEGIN:VALARM
TRIGGER:-P2H
ACTION:DISPLAY
DESCRIPTION:Grace Stallions (K. Clark) vs Greenhill Hornets (J Bowser)
END:VALARM
END:VEVENT
BEGIN:VEVENT
UID:semones-268926@ygametime.com
DTSTAMP:20211218T180000Z
DTSTART;TZID=America/Chicago:20211218T120000
DURATION:PT0H60M0S
SUMMARY:Greenhill Hornets (J Bowser) vs Withers Warrior Cats (N. Borrelli)
DESCRIPTION:2nd Grade Girls | Basketball\nSemones Family YMCA\n
URL;VALUE=URI:https://ygametime.com/branch/semones/sports/2021-winter-basketball/11392/?utm_medium=calendar&utm_source=team_cal&utm_content=league_url#game-268926
LOCATION:Holy Cross Lutheran Church & Community 
BEGIN:VALARM
TRIGGER:-P2H
ACTION:DISPLAY
DESCRIPTION:Greenhill Hornets (J Bowser) vs Withers Warrior Cats (N. Borrelli)
END:VALARM
END:VEVENT
BEGIN:VEVENT
UID:semones-268934@ygametime.com
DTSTAMP:20220108T160000Z
DTSTART;TZID=America/Chicago:20220108T100000
DURATION:PT0H60M0S
SUMMARY:GSES Shooting Stars (D. Allgood) vs Greenhill Hornets (J Bowser)
DESCRIPTION:2nd Grade Girls | Basketball\nSemones Family YMCA\n
URL;VALUE=URI:https://ygametime.com/branch/semones/sports/2021-winter-basketball/11392/?utm_medium=calendar&utm_source=team_cal&utm_content=league_url#game-268934
LOCATION:Holy Cross Lutheran Church & Community 
BEGIN:VALARM
TRIGGER:-P2H
ACTION:DISPLAY
DESCRIPTION:GSES Shooting Stars (D. Allgood) vs Greenhill Hornets (J Bowser)
END:VALARM
END:VEVENT
BEGIN:VEVENT
UID:semones-268942@ygametime.com
DTSTAMP:20220115T140000Z
DTSTART;TZID=America/Chicago:20220115T080000
DURATION:PT0H60M0S
SUMMARY:Greenhill Hornets (J Bowser) vs ESD Eagles (J. O'Neal)
DESCRIPTION:2nd Grade Girls | Basketball\nSemones Family YMCA\n
URL;VALUE=URI:https://ygametime.com/branch/semones/sports/2021-winter-basketball/11392/?utm_medium=calendar&utm_source=team_cal&utm_content=league_url#game-268942
LOCATION:Holy Cross Lutheran Church & Community 
BEGIN:VALARM
TRIGGER:-P2H
ACTION:DISPLAY
DESCRIPTION:Greenhill Hornets (J Bowser) vs ESD Eagles (J. O'Neal)
END:VALARM
END:VEVENT
BEGIN:VEVENT
UID:semones-268960@ygametime.com
DTSTAMP:20220122T210000Z
DTSTART;TZID=America/Chicago:20220122T150000
DURATION:PT0H60M0S
SUMMARY:ESD Eagles (E. Elliott) vs Greenhill Hornets (J Bowser)
DESCRIPTION:2nd Grade Girls | Basketball\nSemones Family YMCA\n
URL;VALUE=URI:https://ygametime.com/branch/semones/sports/2021-winter-basketball/11392/?utm_medium=calendar&utm_source=team_cal&utm_content=league_url#game-268960
LOCATION:Holy Cross Lutheran Church & Community 
BEGIN:VALARM
TRIGGER:-P2H
ACTION:DISPLAY
DESCRIPTION:ESD Eagles (E. Elliott) vs Greenhill Hornets (J Bowser)
END:VALARM
END:VEVENT
BEGIN:VEVENT
UID:semones-268968@ygametime.com
DTSTAMP:20220129T210000Z
DTSTART;TZID=America/Chicago:20220129T150000
DURATION:PT0H60M0S
SUMMARY:Greenhill Hornets (J Bowser) vs DIS 2nd Girls (Coach Phil)
DESCRIPTION:2nd Grade Girls | Basketball\nSemones Family YMCA\n
URL;VALUE=URI:https://ygametime.com/branch/semones/sports/2021-winter-basketball/11392/?utm_medium=calendar&utm_source=team_cal&utm_content=league_url#game-268968
LOCATION:Holy Cross Lutheran Church & Community 
BEGIN:VALARM
TRIGGER:-P2H
ACTION:DISPLAY
DESCRIPTION:Greenhill Hornets (J Bowser) vs DIS 2nd Girls (Coach Phil)
END:VALARM
END:VEVENT
BEGIN:VEVENT
UID:semones-268976@ygametime.com
DTSTAMP:20220214T231500Z
DTSTART;TZID=America/Chicago:20220214T171500
DURATION:PT0H60M0S
SUMMARY:Greenhill Hornets (J Bowser) vs True Blue Panthers (A. Martinez)
DESCRIPTION:2nd Grade Girls | Basketball\nSemones Family YMCA\n
URL;VALUE=URI:https://ygametime.com/branch/semones/sports/2021-winter-basketball/11392/?utm_medium=calendar&utm_source=team_cal&utm_content=league_url#game-268976
LOCATION:Semones Family YMCA - Court 2
BEGIN:VALARM
TRIGGER:-P2H
ACTION:DISPLAY
DESCRIPTION:Greenhill Hornets (J Bowser) vs True Blue Panthers (A. Martinez)
END:VALARM
END:VEVENT
END:VCALENDAR

