BEGIN:VCALENDAR
VERSION:2.0
PRODID:-//YGAMETIME.com//YGT iCal Creator//EN
METHOD:PUBLISH
X-PUBLISHED-TTL:PT6H
REFRESH-INTERVAL;VALUE=DURATION:PT6H
CALSCALE:GREGORIAN
X-WR-CALNAME:YGAMETIME CALENDAR
BEGIN:VTIMEZONE
TZID:America/Chicago
X-LIC-LOCATION:America/Chicago
BEGIN:DAYLIGHT
TZOFFSETFROM:-0600
TZOFFSETTO:-0500
TZNAME:CDT
DTSTART:19700308T020000
RRULE:FREQ=YEARLY;BYMONTH=3;BYDAY=2SU
END:DAYLIGHT
BEGIN:STANDARD
TZOFFSETFROM:-0500
TZOFFSETTO:-0600
TZNAME:CST
DTSTART:19701101T020000
RRULE:FREQ=YEARLY;BYMONTH=11;BYDAY=1SU
END:STANDARD
END:VTIMEZONE
BEGIN:VEVENT
UID:semones-268920@ygametime.com
DTSTAMP:20211212T180000Z
DTSTART;TZID=America/Chicago:20211212T120000
DURATION:PT0H60M0S
SUMMARY:Electric Daisies (S. Wibom) vs JCC (T. Diamond)
DESCRIPTION:2nd Grade Girls | Basketball\nSemones Family YMCA\n
URL;VALUE=URI:https://ygametime.com/branch/semones/sports/2021-winter-basketball/11392/?utm_medium=calendar&utm_source=team_cal&utm_content=league_url#game-268920
LOCATION:JCC of Dallas - Court 2
BEGIN:VALARM
TRIGGER:-P2H
ACTION:DISPLAY
DESCRIPTION:Electric Daisies (S. Wibom) vs JCC (T. Diamond)
END:VALARM
END:VEVENT
BEGIN:VEVENT
UID:semones-268928@ygametime.com
DTSTAMP:20220109T180000Z
DTSTART;TZID=America/Chicago:20220109T120000
DURATION:PT0H60M0S
SUMMARY:JCC (T. Diamond) vs Grace Stallions (K. Clark)
DESCRIPTION:2nd Grade Girls | Basketball\nSemones Family YMCA\n
URL;VALUE=URI:https://ygametime.com/branch/semones/sports/2021-winter-basketball/11392/?utm_medium=calendar&utm_source=team_cal&utm_content=league_url#game-268928
LOCATION:JCC of Dallas - Court 2
BEGIN:VALARM
TRIGGER:-P2H
ACTION:DISPLAY
DESCRIPTION:JCC (T. Diamond) vs Grace Stallions (K. Clark)
END:VALARM
END:VEVENT
BEGIN:VEVENT
UID:semones-268936@ygametime.com
DTSTAMP:20220116T180000Z
DTSTART;TZID=America/Chicago:20220116T120000
DURATION:PT0H60M0S
SUMMARY:Withers Warrior Cats (N. Borrelli) vs JCC (T. Diamond)
DESCRIPTION:2nd Grade Girls | Basketball\nSemones Family YMCA\n
URL;VALUE=URI:https://ygametime.com/branch/semones/sports/2021-winter-basketball/11392/?utm_medium=calendar&utm_source=team_cal&utm_content=league_url#game-268936
LOCATION:JCC of Dallas - Court 2
BEGIN:VALARM
TRIGGER:-P2H
ACTION:DISPLAY
DESCRIPTION:Withers Warrior Cats (N. Borrelli) vs JCC (T. Diamond)
END:VALARM
END:VEVENT
BEGIN:VEVENT
UID:semones-268944@ygametime.com
DTSTAMP:20220123T180000Z
DTSTART;TZID=America/Chicago:20220123T120000
DURATION:PT0H60M0S
SUMMARY:JCC (T. Diamond) vs GSES Shooting Stars (D. Allgood)
DESCRIPTION:2nd Grade Girls | Basketball\nSemones Family YMCA\n
URL;VALUE=URI:https://ygametime.com/branch/semones/sports/2021-winter-basketball/11392/?utm_medium=calendar&utm_source=team_cal&utm_content=league_url#game-268944
LOCATION:JCC of Dallas - Court 2
BEGIN:VALARM
TRIGGER:-P2H
ACTION:DISPLAY
DESCRIPTION:JCC (T. Diamond) vs GSES Shooting Stars (D. Allgood)
END:VALARM
END:VEVENT
BEGIN:VEVENT
UID:semones-268952@ygametime.com
DTSTAMP:20220130T180000Z
DTSTART;TZID=America/Chicago:20220130T120000
DURATION:PT0H60M0S
SUMMARY:ESD Eagles (J. O'Neal) vs JCC (T. Diamond)
DESCRIPTION:2nd Grade Girls | Basketball\nSemones Family YMCA\n
URL;VALUE=URI:https://ygametime.com/branch/semones/sports/2021-winter-basketball/11392/?utm_medium=calendar&utm_source=team_cal&utm_content=league_url#game-268952
LOCATION:JCC of Dallas - Court 2
BEGIN:VALARM
TRIGGER:-P2H
ACTION:DISPLAY
DESCRIPTION:ESD Eagles (J. O'Neal) vs JCC (T. Diamond)
END:VALARM
END:VEVENT
BEGIN:VEVENT
UID:semones-268970@ygametime.com
DTSTAMP:20220206T180000Z
DTSTART;TZID=America/Chicago:20220206T120000
DURATION:PT0H60M0S
SUMMARY:JCC (T. Diamond) vs ESD Eagles (E. Elliott)
DESCRIPTION:2nd Grade Girls | Basketball\nSemones Family YMCA\n
URL;VALUE=URI:https://ygametime.com/branch/semones/sports/2021-winter-basketball/11392/?utm_medium=calendar&utm_source=team_cal&utm_content=league_url#game-268970
LOCATION:JCC of Dallas - Court 2
BEGIN:VALARM
TRIGGER:-P2H
ACTION:DISPLAY
DESCRIPTION:JCC (T. Diamond) vs ESD Eagles (E. Elliott)
END:VALARM
END:VEVENT
BEGIN:VEVENT
UID:semones-268978@ygametime.com
DTSTAMP:20220213T180000Z
DTSTART;TZID=America/Chicago:20220213T120000
DURATION:PT0H60M0S
SUMMARY:Dunking Daises (B. Miltenerger) vs JCC (T. Diamond)
DESCRIPTION:2nd Grade Girls | Basketball\nSemones Family YMCA\n
URL;VALUE=URI:https://ygametime.com/branch/semones/sports/2021-winter-basketball/11392/?utm_medium=calendar&utm_source=team_cal&utm_content=league_url#game-268978
LOCATION:JCC of Dallas - Court 2
BEGIN:VALARM
TRIGGER:-P2H
ACTION:DISPLAY
DESCRIPTION:Dunking Daises (B. Miltenerger) vs JCC (T. Diamond)
END:VALARM
END:VEVENT
END:VCALENDAR

