BEGIN:VCALENDAR
VERSION:2.0
PRODID:-//YGAMETIME.com//YGT iCal Creator//EN
METHOD:PUBLISH
X-PUBLISHED-TTL:PT6H
REFRESH-INTERVAL;VALUE=DURATION:PT6H
CALSCALE:GREGORIAN
X-WR-CALNAME:YGAMETIME CALENDAR
BEGIN:VTIMEZONE
TZID:America/Chicago
X-LIC-LOCATION:America/Chicago
BEGIN:DAYLIGHT
TZOFFSETFROM:-0600
TZOFFSETTO:-0500
TZNAME:CDT
DTSTART:19700308T020000
RRULE:FREQ=YEARLY;BYMONTH=3;BYDAY=2SU
END:DAYLIGHT
BEGIN:STANDARD
TZOFFSETFROM:-0500
TZOFFSETTO:-0600
TZNAME:CST
DTSTART:19701101T020000
RRULE:FREQ=YEARLY;BYMONTH=11;BYDAY=1SU
END:STANDARD
END:VTIMEZONE
BEGIN:VEVENT
UID:semones-265902@ygametime.com
DTSTAMP:20211211T160000Z
DTSTART;TZID=America/Chicago:20211211T100000
DURATION:PT0H60M0S
SUMMARY:GSES Cougars 1 (J. Kimble) vs PHPS Hurricanes (C. Richards)
DESCRIPTION:2nd Grade Boys | Basketball\nSemones Family YMCA\n
URL;VALUE=URI:https://ygametime.com/branch/semones/sports/2021-winter-basketball/11494/?utm_medium=calendar&utm_source=team_cal&utm_content=league_url#game-265902
LOCATION:Withers Elementary
BEGIN:VALARM
TRIGGER:-P2H
ACTION:DISPLAY
DESCRIPTION:GSES Cougars 1 (J. Kimble) vs PHPS Hurricanes (C. Richards)
END:VALARM
END:VEVENT
BEGIN:VEVENT
UID:semones-265913@ygametime.com
DTSTAMP:20211218T150000Z
DTSTART;TZID=America/Chicago:20211218T090000
DURATION:PT0H60M0S
SUMMARY:PHPS Hurricanes (C. Richards) vs GSES Cougars 1 (J. Kimble)
DESCRIPTION:2nd Grade Boys | Basketball\nSemones Family YMCA\n
URL;VALUE=URI:https://ygametime.com/branch/semones/sports/2021-winter-basketball/11494/?utm_medium=calendar&utm_source=team_cal&utm_content=league_url#game-265913
LOCATION:Withers Elementary
BEGIN:VALARM
TRIGGER:-P2H
ACTION:DISPLAY
DESCRIPTION:PHPS Hurricanes (C. Richards) vs GSES Cougars 1 (J. Kimble)
END:VALARM
END:VEVENT
BEGIN:VEVENT
UID:semones-265924@ygametime.com
DTSTAMP:20220108T150000Z
DTSTART;TZID=America/Chicago:20220108T090000
DURATION:PT0H60M0S
SUMMARY:Dealey (D. Mendez) vs PHPS Hurricanes (C. Richards)
DESCRIPTION:2nd Grade Boys | Basketball\nSemones Family YMCA\n
URL;VALUE=URI:https://ygametime.com/branch/semones/sports/2021-winter-basketball/11494/?utm_medium=calendar&utm_source=team_cal&utm_content=league_url#game-265924
LOCATION:Withers Elementary
BEGIN:VALARM
TRIGGER:-P2H
ACTION:DISPLAY
DESCRIPTION:Dealey (D. Mendez) vs PHPS Hurricanes (C. Richards)
END:VALARM
END:VEVENT
BEGIN:VEVENT
UID:semones-265946@ygametime.com
DTSTAMP:20220122T230000Z
DTSTART;TZID=America/Chicago:20220122T170000
DURATION:PT0H60M0S
SUMMARY:St. Marks Lions (C. Kennington) vs PHPS Hurricanes (C. Richards)
DESCRIPTION:2nd Grade Boys | Basketball\nSemones Family YMCA\n
URL;VALUE=URI:https://ygametime.com/branch/semones/sports/2021-winter-basketball/11494/?utm_medium=calendar&utm_source=team_cal&utm_content=league_url#game-265946
LOCATION:Withers Elementary
BEGIN:VALARM
TRIGGER:-P2H
ACTION:DISPLAY
DESCRIPTION:St. Marks Lions (C. Kennington) vs PHPS Hurricanes (C. Richards)
END:VALARM
END:VEVENT
BEGIN:VEVENT
UID:semones-265935@ygametime.com
DTSTAMP:20220123T210000Z
DTSTART;TZID=America/Chicago:20220123T150000
DURATION:PT0H60M0S
SUMMARY:PHPS Hurricanes (C. Richards) vs JCC (D. Nathan)
DESCRIPTION:2nd Grade Boys | Basketball\nSemones Family YMCA\n
URL;VALUE=URI:https://ygametime.com/branch/semones/sports/2021-winter-basketball/11494/?utm_medium=calendar&utm_source=team_cal&utm_content=league_url#game-265935
LOCATION:JCC of Dallas - Court 2
BEGIN:VALARM
TRIGGER:-P2H
ACTION:DISPLAY
DESCRIPTION:PHPS Hurricanes (C. Richards) vs JCC (D. Nathan)
END:VALARM
END:VEVENT
BEGIN:VEVENT
UID:semones-265957@ygametime.com
DTSTAMP:20220129T150000Z
DTSTART;TZID=America/Chicago:20220129T090000
DURATION:PT0H60M0S
SUMMARY:PHPS Hurricanes (C. Richards) vs Wither Wildcats (A. Gaddis)
DESCRIPTION:2nd Grade Boys | Basketball\nSemones Family YMCA\n
URL;VALUE=URI:https://ygametime.com/branch/semones/sports/2021-winter-basketball/11494/?utm_medium=calendar&utm_source=team_cal&utm_content=league_url#game-265957
LOCATION:Withers Elementary
BEGIN:VALARM
TRIGGER:-P2H
ACTION:DISPLAY
DESCRIPTION:PHPS Hurricanes (C. Richards) vs Wither Wildcats (A. Gaddis)
END:VALARM
END:VEVENT
BEGIN:VEVENT
UID:semones-265968@ygametime.com
DTSTAMP:20220212T150000Z
DTSTART;TZID=America/Chicago:20220212T090000
DURATION:PT0H60M0S
SUMMARY:Greenhill Hornets (J. Johnson) vs PHPS Hurricanes (C. Richards)
DESCRIPTION:2nd Grade Boys | Basketball\nSemones Family YMCA\n
URL;VALUE=URI:https://ygametime.com/branch/semones/sports/2021-winter-basketball/11494/?utm_medium=calendar&utm_source=team_cal&utm_content=league_url#game-265968
LOCATION:Withers Elementary
BEGIN:VALARM
TRIGGER:-P2H
ACTION:DISPLAY
DESCRIPTION:Greenhill Hornets (J. Johnson) vs PHPS Hurricanes (C. Richards)
END:VALARM
END:VEVENT
BEGIN:VEVENT
UID:semones-265971@ygametime.com
DTSTAMP:20220212T180000Z
DTSTART;TZID=America/Chicago:20220212T120000
DURATION:PT0H60M0S
SUMMARY:Wesley Prep Panthers (J. Tyra) vs PHPS Hurricanes (C. Richards)
DESCRIPTION:2nd Grade Boys | Basketball\nSemones Family YMCA\n
URL;VALUE=URI:https://ygametime.com/branch/semones/sports/2021-winter-basketball/11494/?utm_medium=calendar&utm_source=team_cal&utm_content=league_url#game-265971
LOCATION:Withers Elementary
BEGIN:VALARM
TRIGGER:-P2H
ACTION:DISPLAY
DESCRIPTION:Wesley Prep Panthers (J. Tyra) vs PHPS Hurricanes (C. Richards)
END:VALARM
END:VEVENT
END:VCALENDAR

