BEGIN:VCALENDAR
VERSION:2.0
PRODID:-//YGAMETIME.com//YGT iCal Creator//EN
METHOD:PUBLISH
X-PUBLISHED-TTL:PT6H
REFRESH-INTERVAL;VALUE=DURATION:PT6H
CALSCALE:GREGORIAN
X-WR-CALNAME:YGAMETIME CALENDAR
BEGIN:VTIMEZONE
TZID:America/Chicago
X-LIC-LOCATION:America/Chicago
BEGIN:DAYLIGHT
TZOFFSETFROM:-0600
TZOFFSETTO:-0500
TZNAME:CDT
DTSTART:19700308T020000
RRULE:FREQ=YEARLY;BYMONTH=3;BYDAY=2SU
END:DAYLIGHT
BEGIN:STANDARD
TZOFFSETFROM:-0500
TZOFFSETTO:-0600
TZNAME:CST
DTSTART:19701101T020000
RRULE:FREQ=YEARLY;BYMONTH=11;BYDAY=1SU
END:STANDARD
END:VTIMEZONE
BEGIN:VEVENT
UID:semones-265903@ygametime.com
DTSTAMP:20211211T150000Z
DTSTART;TZID=America/Chicago:20211211T090000
DURATION:PT0H60M0S
SUMMARY:Lighting Cats (M. Dorn) vs Kramer (D. Lacy)
DESCRIPTION:2nd Grade Boys | Basketball\nSemones Family YMCA\n
URL;VALUE=URI:https://ygametime.com/branch/semones/sports/2021-winter-basketball/11494/?utm_medium=calendar&utm_source=team_cal&utm_content=league_url#game-265903
LOCATION:Withers Elementary
BEGIN:VALARM
TRIGGER:-P2H
ACTION:DISPLAY
DESCRIPTION:Lighting Cats (M. Dorn) vs Kramer (D. Lacy)
END:VALARM
END:VEVENT
BEGIN:VEVENT
UID:semones-265914@ygametime.com
DTSTAMP:20211218T160000Z
DTSTART;TZID=America/Chicago:20211218T100000
DURATION:PT0H60M0S
SUMMARY:GSES Cougars 2 (G. Blanton) vs Lighting Cats (M. Dorn)
DESCRIPTION:2nd Grade Boys | Basketball\nSemones Family YMCA\n
URL;VALUE=URI:https://ygametime.com/branch/semones/sports/2021-winter-basketball/11494/?utm_medium=calendar&utm_source=team_cal&utm_content=league_url#game-265914
LOCATION:Withers Elementary
BEGIN:VALARM
TRIGGER:-P2H
ACTION:DISPLAY
DESCRIPTION:GSES Cougars 2 (G. Blanton) vs Lighting Cats (M. Dorn)
END:VALARM
END:VEVENT
BEGIN:VEVENT
UID:semones-265925@ygametime.com
DTSTAMP:20220108T160000Z
DTSTART;TZID=America/Chicago:20220108T100000
DURATION:PT0H60M0S
SUMMARY:Lighting Cats (M. Dorn) vs Spartans Mavericks (K. McCartin)
DESCRIPTION:2nd Grade Boys | Basketball\nSemones Family YMCA\n
URL;VALUE=URI:https://ygametime.com/branch/semones/sports/2021-winter-basketball/11494/?utm_medium=calendar&utm_source=team_cal&utm_content=league_url#game-265925
LOCATION:Withers Elementary
BEGIN:VALARM
TRIGGER:-P2H
ACTION:DISPLAY
DESCRIPTION:Lighting Cats (M. Dorn) vs Spartans Mavericks (K. McCartin)
END:VALARM
END:VEVENT
BEGIN:VEVENT
UID:semones-265936@ygametime.com
DTSTAMP:20220115T160000Z
DTSTART;TZID=America/Chicago:20220115T100000
DURATION:PT0H60M0S
SUMMARY:St. Marks Lion (J. Wagner) vs Lighting Cats (M. Dorn)
DESCRIPTION:2nd Grade Boys | Basketball\nSemones Family YMCA\n
URL;VALUE=URI:https://ygametime.com/branch/semones/sports/2021-winter-basketball/11494/?utm_medium=calendar&utm_source=team_cal&utm_content=league_url#game-265936
LOCATION:Withers Elementary
BEGIN:VALARM
TRIGGER:-P2H
ACTION:DISPLAY
DESCRIPTION:St. Marks Lion (J. Wagner) vs Lighting Cats (M. Dorn)
END:VALARM
END:VEVENT
BEGIN:VEVENT
UID:semones-265947@ygametime.com
DTSTAMP:20220122T140000Z
DTSTART;TZID=America/Chicago:20220122T080000
DURATION:PT0H60M0S
SUMMARY:Lighting Cats (M. Dorn) vs St. Marks Lions (J. Myhre)
DESCRIPTION:2nd Grade Boys | Basketball\nSemones Family YMCA\n
URL;VALUE=URI:https://ygametime.com/branch/semones/sports/2021-winter-basketball/11494/?utm_medium=calendar&utm_source=team_cal&utm_content=league_url#game-265947
LOCATION:Withers Elementary
BEGIN:VALARM
TRIGGER:-P2H
ACTION:DISPLAY
DESCRIPTION:Lighting Cats (M. Dorn) vs St. Marks Lions (J. Myhre)
END:VALARM
END:VEVENT
BEGIN:VEVENT
UID:semones-265958@ygametime.com
DTSTAMP:20220129T160000Z
DTSTART;TZID=America/Chicago:20220129T100000
DURATION:PT0H60M0S
SUMMARY:Spartans (L. Stephens) vs Lighting Cats (M. Dorn)
DESCRIPTION:2nd Grade Boys | Basketball\nSemones Family YMCA\n
URL;VALUE=URI:https://ygametime.com/branch/semones/sports/2021-winter-basketball/11494/?utm_medium=calendar&utm_source=team_cal&utm_content=league_url#game-265958
LOCATION:Withers Elementary
BEGIN:VALARM
TRIGGER:-P2H
ACTION:DISPLAY
DESCRIPTION:Spartans (L. Stephens) vs Lighting Cats (M. Dorn)
END:VALARM
END:VEVENT
BEGIN:VEVENT
UID:semones-265969@ygametime.com
DTSTAMP:20220212T160000Z
DTSTART;TZID=America/Chicago:20220212T100000
DURATION:PT0H60M0S
SUMMARY:Lighting Cats (M. Dorn) vs Dolphins 2 (D. Smith)
DESCRIPTION:2nd Grade Boys | Basketball\nSemones Family YMCA\n
URL;VALUE=URI:https://ygametime.com/branch/semones/sports/2021-winter-basketball/11494/?utm_medium=calendar&utm_source=team_cal&utm_content=league_url#game-265969
LOCATION:Withers Elementary
BEGIN:VALARM
TRIGGER:-P2H
ACTION:DISPLAY
DESCRIPTION:Lighting Cats (M. Dorn) vs Dolphins 2 (D. Smith)
END:VALARM
END:VEVENT
END:VCALENDAR

