BEGIN:VCALENDAR
VERSION:2.0
PRODID:-//YGAMETIME.com//YGT iCal Creator//EN
METHOD:PUBLISH
X-PUBLISHED-TTL:PT6H
REFRESH-INTERVAL;VALUE=DURATION:PT6H
CALSCALE:GREGORIAN
X-WR-CALNAME:YGAMETIME CALENDAR
BEGIN:VTIMEZONE
TZID:America/Chicago
X-LIC-LOCATION:America/Chicago
BEGIN:DAYLIGHT
TZOFFSETFROM:-0600
TZOFFSETTO:-0500
TZNAME:CDT
DTSTART:19700308T020000
RRULE:FREQ=YEARLY;BYMONTH=3;BYDAY=2SU
END:DAYLIGHT
BEGIN:STANDARD
TZOFFSETFROM:-0500
TZOFFSETTO:-0600
TZNAME:CST
DTSTART:19701101T020000
RRULE:FREQ=YEARLY;BYMONTH=11;BYDAY=1SU
END:STANDARD
END:VTIMEZONE
BEGIN:VEVENT
UID:semones-265906@ygametime.com
DTSTAMP:20211211T190000Z
DTSTART;TZID=America/Chicago:20211211T130000
DURATION:PT0H60M0S
SUMMARY:Dealey (D. Mendez) vs Wesley Prep Panthers (M. Luth)
DESCRIPTION:2nd Grade Boys | Basketball\nSemones Family YMCA\n
URL;VALUE=URI:https://ygametime.com/branch/semones/sports/2021-winter-basketball/11494/?utm_medium=calendar&utm_source=team_cal&utm_content=league_url#game-265906
LOCATION:Withers Elementary
BEGIN:VALARM
TRIGGER:-P2H
ACTION:DISPLAY
DESCRIPTION:Dealey (D. Mendez) vs Wesley Prep Panthers (M. Luth)
END:VALARM
END:VEVENT
BEGIN:VEVENT
UID:semones-265928@ygametime.com
DTSTAMP:20220108T190000Z
DTSTART;TZID=America/Chicago:20220108T130000
DURATION:PT0H60M0S
SUMMARY:St. Marks Lions (C. Kennington) vs Wesley Prep Panthers (M. Luth)
DESCRIPTION:2nd Grade Boys | Basketball\nSemones Family YMCA\n
URL;VALUE=URI:https://ygametime.com/branch/semones/sports/2021-winter-basketball/11494/?utm_medium=calendar&utm_source=team_cal&utm_content=league_url#game-265928
LOCATION:Withers Elementary
BEGIN:VALARM
TRIGGER:-P2H
ACTION:DISPLAY
DESCRIPTION:St. Marks Lions (C. Kennington) vs Wesley Prep Panthers (M. Luth)
END:VALARM
END:VEVENT
BEGIN:VEVENT
UID:semones-265917@ygametime.com
DTSTAMP:20220109T210000Z
DTSTART;TZID=America/Chicago:20220109T150000
DURATION:PT0H60M0S
SUMMARY:Wesley Prep Panthers (M. Luth) vs JCC (D. Nathan)
DESCRIPTION:2nd Grade Boys | Basketball\nSemones Family YMCA\n
URL;VALUE=URI:https://ygametime.com/branch/semones/sports/2021-winter-basketball/11494/?utm_medium=calendar&utm_source=team_cal&utm_content=league_url#game-265917
LOCATION:JCC of Dallas - Court 2
BEGIN:VALARM
TRIGGER:-P2H
ACTION:DISPLAY
DESCRIPTION:Wesley Prep Panthers (M. Luth) vs JCC (D. Nathan)
END:VALARM
END:VEVENT
BEGIN:VEVENT
UID:semones-265950@ygametime.com
DTSTAMP:20220122T190000Z
DTSTART;TZID=America/Chicago:20220122T130000
DURATION:PT0H60M0S
SUMMARY:Greenhill Hornets (J. Johnson) vs Wesley Prep Panthers (M. Luth)
DESCRIPTION:2nd Grade Boys | Basketball\nSemones Family YMCA\n
URL;VALUE=URI:https://ygametime.com/branch/semones/sports/2021-winter-basketball/11494/?utm_medium=calendar&utm_source=team_cal&utm_content=league_url#game-265950
LOCATION:Withers Elementary
BEGIN:VALARM
TRIGGER:-P2H
ACTION:DISPLAY
DESCRIPTION:Greenhill Hornets (J. Johnson) vs Wesley Prep Panthers (M. Luth)
END:VALARM
END:VEVENT
BEGIN:VEVENT
UID:semones-265961@ygametime.com
DTSTAMP:20220129T190000Z
DTSTART;TZID=America/Chicago:20220129T130000
DURATION:PT0H60M0S
SUMMARY:Wesley Prep Panthers (M. Luth) vs Dolphins 1 (C. Fredericks)
DESCRIPTION:2nd Grade Boys | Basketball\nSemones Family YMCA\n
URL;VALUE=URI:https://ygametime.com/branch/semones/sports/2021-winter-basketball/11494/?utm_medium=calendar&utm_source=team_cal&utm_content=league_url#game-265961
LOCATION:Withers Elementary
BEGIN:VALARM
TRIGGER:-P2H
ACTION:DISPLAY
DESCRIPTION:Wesley Prep Panthers (M. Luth) vs Dolphins 1 (C. Fredericks)
END:VALARM
END:VEVENT
BEGIN:VEVENT
UID:semones-265939@ygametime.com
DTSTAMP:20220209T000000Z
DTSTART;TZID=America/Chicago:20220208T180000
DURATION:PT0H60M0S
SUMMARY:Wesley Prep Panthers (M. Luth) vs Wither Wildcats (A. Gaddis)
DESCRIPTION:2nd Grade Boys | Basketball\nSemones Family YMCA\n
URL;VALUE=URI:https://ygametime.com/branch/semones/sports/2021-winter-basketball/11494/?utm_medium=calendar&utm_source=team_cal&utm_content=league_url#game-265939
LOCATION:Semones Family YMCA - Court 2
BEGIN:VALARM
TRIGGER:-P2H
ACTION:DISPLAY
DESCRIPTION:Wesley Prep Panthers (M. Luth) vs Wither Wildcats (A. Gaddis)
END:VALARM
END:VEVENT
BEGIN:VEVENT
UID:semones-265977@ygametime.com
DTSTAMP:20220212T200000Z
DTSTART;TZID=America/Chicago:20220212T140000
DURATION:PT0H60M0S
SUMMARY:Wither Wildcats (A. Gaddis) vs Wesley Prep Panthers (M. Luth)
DESCRIPTION:2nd Grade Boys | Basketball\nSemones Family YMCA\n
URL;VALUE=URI:https://ygametime.com/branch/semones/sports/2021-winter-basketball/11494/?utm_medium=calendar&utm_source=team_cal&utm_content=league_url#game-265977
LOCATION:Withers Elementary
BEGIN:VALARM
TRIGGER:-P2H
ACTION:DISPLAY
DESCRIPTION:Wither Wildcats (A. Gaddis) vs Wesley Prep Panthers (M. Luth)
END:VALARM
END:VEVENT
END:VCALENDAR

