BEGIN:VCALENDAR
VERSION:2.0
PRODID:-//YGAMETIME.com//YGT iCal Creator//EN
METHOD:PUBLISH
X-PUBLISHED-TTL:PT6H
REFRESH-INTERVAL;VALUE=DURATION:PT6H
CALSCALE:GREGORIAN
X-WR-CALNAME:YGAMETIME CALENDAR
BEGIN:VTIMEZONE
TZID:America/Chicago
X-LIC-LOCATION:America/Chicago
BEGIN:DAYLIGHT
TZOFFSETFROM:-0600
TZOFFSETTO:-0500
TZNAME:CDT
DTSTART:19700308T020000
RRULE:FREQ=YEARLY;BYMONTH=3;BYDAY=2SU
END:DAYLIGHT
BEGIN:STANDARD
TZOFFSETFROM:-0500
TZOFFSETTO:-0600
TZNAME:CST
DTSTART:19701101T020000
RRULE:FREQ=YEARLY;BYMONTH=11;BYDAY=1SU
END:STANDARD
END:VTIMEZONE
BEGIN:VEVENT
UID:semones-265907@ygametime.com
DTSTAMP:20211211T200000Z
DTSTART;TZID=America/Chicago:20211211T140000
DURATION:PT0H60M0S
SUMMARY:Dolphins 1 (C. Fredericks) vs Spartans Mavericks (K. McCartin)
DESCRIPTION:2nd Grade Boys | Basketball\nSemones Family YMCA\n
URL;VALUE=URI:https://ygametime.com/branch/semones/sports/2021-winter-basketball/11494/?utm_medium=calendar&utm_source=team_cal&utm_content=league_url#game-265907
LOCATION:Withers Elementary
BEGIN:VALARM
TRIGGER:-P2H
ACTION:DISPLAY
DESCRIPTION:Dolphins 1 (C. Fredericks) vs Spartans Mavericks (K. McCartin)
END:VALARM
END:VEVENT
BEGIN:VEVENT
UID:semones-265918@ygametime.com
DTSTAMP:20211218T190000Z
DTSTART;TZID=America/Chicago:20211218T130000
DURATION:PT0H60M0S
SUMMARY:St. Marks Lion (J. Wagner) vs Dolphins 1 (C. Fredericks)
DESCRIPTION:2nd Grade Boys | Basketball\nSemones Family YMCA\n
URL;VALUE=URI:https://ygametime.com/branch/semones/sports/2021-winter-basketball/11494/?utm_medium=calendar&utm_source=team_cal&utm_content=league_url#game-265918
LOCATION:Withers Elementary
BEGIN:VALARM
TRIGGER:-P2H
ACTION:DISPLAY
DESCRIPTION:St. Marks Lion (J. Wagner) vs Dolphins 1 (C. Fredericks)
END:VALARM
END:VEVENT
BEGIN:VEVENT
UID:semones-265929@ygametime.com
DTSTAMP:20220108T200000Z
DTSTART;TZID=America/Chicago:20220108T140000
DURATION:PT0H60M0S
SUMMARY:Dolphins 1 (C. Fredericks) vs St. Marks Lions (J. Myhre)
DESCRIPTION:2nd Grade Boys | Basketball\nSemones Family YMCA\n
URL;VALUE=URI:https://ygametime.com/branch/semones/sports/2021-winter-basketball/11494/?utm_medium=calendar&utm_source=team_cal&utm_content=league_url#game-265929
LOCATION:Withers Elementary
BEGIN:VALARM
TRIGGER:-P2H
ACTION:DISPLAY
DESCRIPTION:Dolphins 1 (C. Fredericks) vs St. Marks Lions (J. Myhre)
END:VALARM
END:VEVENT
BEGIN:VEVENT
UID:semones-265940@ygametime.com
DTSTAMP:20220115T200000Z
DTSTART;TZID=America/Chicago:20220115T140000
DURATION:PT0H60M0S
SUMMARY:Spartans (L. Stephens) vs Dolphins 1 (C. Fredericks)
DESCRIPTION:2nd Grade Boys | Basketball\nSemones Family YMCA\n
URL;VALUE=URI:https://ygametime.com/branch/semones/sports/2021-winter-basketball/11494/?utm_medium=calendar&utm_source=team_cal&utm_content=league_url#game-265940
LOCATION:Withers Elementary
BEGIN:VALARM
TRIGGER:-P2H
ACTION:DISPLAY
DESCRIPTION:Spartans (L. Stephens) vs Dolphins 1 (C. Fredericks)
END:VALARM
END:VEVENT
BEGIN:VEVENT
UID:semones-265951@ygametime.com
DTSTAMP:20220122T200000Z
DTSTART;TZID=America/Chicago:20220122T140000
DURATION:PT0H60M0S
SUMMARY:Dolphins 1 (C. Fredericks) vs Dolphins 2 (D. Smith)
DESCRIPTION:2nd Grade Boys | Basketball\nSemones Family YMCA\n
URL;VALUE=URI:https://ygametime.com/branch/semones/sports/2021-winter-basketball/11494/?utm_medium=calendar&utm_source=team_cal&utm_content=league_url#game-265951
LOCATION:Withers Elementary
BEGIN:VALARM
TRIGGER:-P2H
ACTION:DISPLAY
DESCRIPTION:Dolphins 1 (C. Fredericks) vs Dolphins 2 (D. Smith)
END:VALARM
END:VEVENT
BEGIN:VEVENT
UID:semones-265961@ygametime.com
DTSTAMP:20220129T190000Z
DTSTART;TZID=America/Chicago:20220129T130000
DURATION:PT0H60M0S
SUMMARY:Wesley Prep Panthers (M. Luth) vs Dolphins 1 (C. Fredericks)
DESCRIPTION:2nd Grade Boys | Basketball\nSemones Family YMCA\n
URL;VALUE=URI:https://ygametime.com/branch/semones/sports/2021-winter-basketball/11494/?utm_medium=calendar&utm_source=team_cal&utm_content=league_url#game-265961
LOCATION:Withers Elementary
BEGIN:VALARM
TRIGGER:-P2H
ACTION:DISPLAY
DESCRIPTION:Wesley Prep Panthers (M. Luth) vs Dolphins 1 (C. Fredericks)
END:VALARM
END:VEVENT
BEGIN:VEVENT
UID:semones-265970@ygametime.com
DTSTAMP:20220212T170000Z
DTSTART;TZID=America/Chicago:20220212T110000
DURATION:PT0H60M0S
SUMMARY:Dolphins 1 (C. Fredericks) vs SMS Bearcats (J. Tamayo)
DESCRIPTION:2nd Grade Boys | Basketball\nSemones Family YMCA\n
URL;VALUE=URI:https://ygametime.com/branch/semones/sports/2021-winter-basketball/11494/?utm_medium=calendar&utm_source=team_cal&utm_content=league_url#game-265970
LOCATION:Withers Elementary
BEGIN:VALARM
TRIGGER:-P2H
ACTION:DISPLAY
DESCRIPTION:Dolphins 1 (C. Fredericks) vs SMS Bearcats (J. Tamayo)
END:VALARM
END:VEVENT
END:VCALENDAR

