BEGIN:VCALENDAR
VERSION:2.0
PRODID:-//YGAMETIME.com//YGT iCal Creator//EN
METHOD:PUBLISH
X-PUBLISHED-TTL:PT6H
REFRESH-INTERVAL;VALUE=DURATION:PT6H
CALSCALE:GREGORIAN
X-WR-CALNAME:YGAMETIME CALENDAR
BEGIN:VTIMEZONE
TZID:America/Chicago
X-LIC-LOCATION:America/Chicago
BEGIN:DAYLIGHT
TZOFFSETFROM:-0600
TZOFFSETTO:-0500
TZNAME:CDT
DTSTART:19700308T020000
RRULE:FREQ=YEARLY;BYMONTH=3;BYDAY=2SU
END:DAYLIGHT
BEGIN:STANDARD
TZOFFSETFROM:-0500
TZOFFSETTO:-0600
TZNAME:CST
DTSTART:19701101T020000
RRULE:FREQ=YEARLY;BYMONTH=11;BYDAY=1SU
END:STANDARD
END:VTIMEZONE
BEGIN:VEVENT
UID:semones-265903@ygametime.com
DTSTAMP:20211211T150000Z
DTSTART;TZID=America/Chicago:20211211T090000
DURATION:PT0H60M0S
SUMMARY:Lighting Cats (M. Dorn) vs Kramer (D. Lacy)
DESCRIPTION:2nd Grade Boys | Basketball\nSemones Family YMCA\n
URL;VALUE=URI:https://ygametime.com/branch/semones/sports/2021-winter-basketball/11494/?utm_medium=calendar&utm_source=team_cal&utm_content=league_url#game-265903
LOCATION:Withers Elementary
BEGIN:VALARM
TRIGGER:-P2H
ACTION:DISPLAY
DESCRIPTION:Lighting Cats (M. Dorn) vs Kramer (D. Lacy)
END:VALARM
END:VEVENT
BEGIN:VEVENT
UID:semones-265912@ygametime.com
DTSTAMP:20211218T140000Z
DTSTART;TZID=America/Chicago:20211218T080000
DURATION:PT0H60M0S
SUMMARY:Kramer (D. Lacy) vs Lamplighter Sharks (A. Stephanopoulos)
DESCRIPTION:2nd Grade Boys | Basketball\nSemones Family YMCA\n
URL;VALUE=URI:https://ygametime.com/branch/semones/sports/2021-winter-basketball/11494/?utm_medium=calendar&utm_source=team_cal&utm_content=league_url#game-265912
LOCATION:Withers Elementary
BEGIN:VALARM
TRIGGER:-P2H
ACTION:DISPLAY
DESCRIPTION:Kramer (D. Lacy) vs Lamplighter Sharks (A. Stephanopoulos)
END:VALARM
END:VEVENT
BEGIN:VEVENT
UID:semones-265932@ygametime.com
DTSTAMP:20220108T230000Z
DTSTART;TZID=America/Chicago:20220108T170000
DURATION:PT0H60M0S
SUMMARY:Kramer (D. Lacy) vs Hornets (R. Colston)
DESCRIPTION:2nd Grade Boys | Basketball\nSemones Family YMCA\n
URL;VALUE=URI:https://ygametime.com/branch/semones/sports/2021-winter-basketball/11494/?utm_medium=calendar&utm_source=team_cal&utm_content=league_url#game-265932
LOCATION:Withers Elementary
BEGIN:VALARM
TRIGGER:-P2H
ACTION:DISPLAY
DESCRIPTION:Kramer (D. Lacy) vs Hornets (R. Colston)
END:VALARM
END:VEVENT
BEGIN:VEVENT
UID:semones-265943@ygametime.com
DTSTAMP:20220115T190000Z
DTSTART;TZID=America/Chicago:20220115T130000
DURATION:PT0H60M0S
SUMMARY:GSES Cougars 2 (G. Blanton) vs Kramer (D. Lacy)
DESCRIPTION:2nd Grade Boys | Basketball\nSemones Family YMCA\n
URL;VALUE=URI:https://ygametime.com/branch/semones/sports/2021-winter-basketball/11494/?utm_medium=calendar&utm_source=team_cal&utm_content=league_url#game-265943
LOCATION:Withers Elementary
BEGIN:VALARM
TRIGGER:-P2H
ACTION:DISPLAY
DESCRIPTION:GSES Cougars 2 (G. Blanton) vs Kramer (D. Lacy)
END:VALARM
END:VEVENT
BEGIN:VEVENT
UID:semones-265954@ygametime.com
DTSTAMP:20220122T150000Z
DTSTART;TZID=America/Chicago:20220122T090000
DURATION:PT0H60M0S
SUMMARY:Kramer (D. Lacy) vs Spartans Mavericks (K. McCartin)
DESCRIPTION:2nd Grade Boys | Basketball\nSemones Family YMCA\n
URL;VALUE=URI:https://ygametime.com/branch/semones/sports/2021-winter-basketball/11494/?utm_medium=calendar&utm_source=team_cal&utm_content=league_url#game-265954
LOCATION:Withers Elementary
BEGIN:VALARM
TRIGGER:-P2H
ACTION:DISPLAY
DESCRIPTION:Kramer (D. Lacy) vs Spartans Mavericks (K. McCartin)
END:VALARM
END:VEVENT
BEGIN:VEVENT
UID:semones-265965@ygametime.com
DTSTAMP:20220129T230000Z
DTSTART;TZID=America/Chicago:20220129T170000
DURATION:PT0H60M0S
SUMMARY:St. Marks Lion (J. Wagner) vs Kramer (D. Lacy)
DESCRIPTION:2nd Grade Boys | Basketball\nSemones Family YMCA\n
URL;VALUE=URI:https://ygametime.com/branch/semones/sports/2021-winter-basketball/11494/?utm_medium=calendar&utm_source=team_cal&utm_content=league_url#game-265965
LOCATION:Withers Elementary
BEGIN:VALARM
TRIGGER:-P2H
ACTION:DISPLAY
DESCRIPTION:St. Marks Lion (J. Wagner) vs Kramer (D. Lacy)
END:VALARM
END:VEVENT
BEGIN:VEVENT
UID:semones-265976@ygametime.com
DTSTAMP:20220212T190000Z
DTSTART;TZID=America/Chicago:20220212T130000
DURATION:PT0H60M0S
SUMMARY:Kramer (D. Lacy) vs Spartans (L. Stephens)
DESCRIPTION:2nd Grade Boys | Basketball\nSemones Family YMCA\n
URL;VALUE=URI:https://ygametime.com/branch/semones/sports/2021-winter-basketball/11494/?utm_medium=calendar&utm_source=team_cal&utm_content=league_url#game-265976
LOCATION:Withers Elementary
BEGIN:VALARM
TRIGGER:-P2H
ACTION:DISPLAY
DESCRIPTION:Kramer (D. Lacy) vs Spartans (L. Stephens)
END:VALARM
END:VEVENT
END:VCALENDAR

