BEGIN:VCALENDAR
VERSION:2.0
PRODID:-//YGAMETIME.com//YGT iCal Creator//EN
METHOD:PUBLISH
X-PUBLISHED-TTL:PT6H
REFRESH-INTERVAL;VALUE=DURATION:PT6H
CALSCALE:GREGORIAN
X-WR-CALNAME:YGAMETIME CALENDAR
BEGIN:VTIMEZONE
TZID:America/Chicago
X-LIC-LOCATION:America/Chicago
BEGIN:DAYLIGHT
TZOFFSETFROM:-0600
TZOFFSETTO:-0500
TZNAME:CDT
DTSTART:19700308T020000
RRULE:FREQ=YEARLY;BYMONTH=3;BYDAY=2SU
END:DAYLIGHT
BEGIN:STANDARD
TZOFFSETFROM:-0500
TZOFFSETTO:-0600
TZNAME:CST
DTSTART:19701101T020000
RRULE:FREQ=YEARLY;BYMONTH=11;BYDAY=1SU
END:STANDARD
END:VTIMEZONE
BEGIN:VEVENT
UID:semones-265908@ygametime.com
DTSTAMP:20211212T210000Z
DTSTART;TZID=America/Chicago:20211212T150000
DURATION:PT0H60M0S
SUMMARY:JCC (D. Nathan) vs Dolphins 2 (D. Smith)
DESCRIPTION:2nd Grade Boys | Basketball\nSemones Family YMCA\n
URL;VALUE=URI:https://ygametime.com/branch/semones/sports/2021-winter-basketball/11494/?utm_medium=calendar&utm_source=team_cal&utm_content=league_url#game-265908
LOCATION:JCC of Dallas - Court 2
BEGIN:VALARM
TRIGGER:-P2H
ACTION:DISPLAY
DESCRIPTION:JCC (D. Nathan) vs Dolphins 2 (D. Smith)
END:VALARM
END:VEVENT
BEGIN:VEVENT
UID:semones-265917@ygametime.com
DTSTAMP:20220109T210000Z
DTSTART;TZID=America/Chicago:20220109T150000
DURATION:PT0H60M0S
SUMMARY:Wesley Prep Panthers (M. Luth) vs JCC (D. Nathan)
DESCRIPTION:2nd Grade Boys | Basketball\nSemones Family YMCA\n
URL;VALUE=URI:https://ygametime.com/branch/semones/sports/2021-winter-basketball/11494/?utm_medium=calendar&utm_source=team_cal&utm_content=league_url#game-265917
LOCATION:JCC of Dallas - Court 2
BEGIN:VALARM
TRIGGER:-P2H
ACTION:DISPLAY
DESCRIPTION:Wesley Prep Panthers (M. Luth) vs JCC (D. Nathan)
END:VALARM
END:VEVENT
BEGIN:VEVENT
UID:semones-265926@ygametime.com
DTSTAMP:20220116T210000Z
DTSTART;TZID=America/Chicago:20220116T150000
DURATION:PT0H60M0S
SUMMARY:JCC (D. Nathan) vs SMS Bearcats (J. Tamayo)
DESCRIPTION:2nd Grade Boys | Basketball\nSemones Family YMCA\n
URL;VALUE=URI:https://ygametime.com/branch/semones/sports/2021-winter-basketball/11494/?utm_medium=calendar&utm_source=team_cal&utm_content=league_url#game-265926
LOCATION:JCC of Dallas - Court 2
BEGIN:VALARM
TRIGGER:-P2H
ACTION:DISPLAY
DESCRIPTION:JCC (D. Nathan) vs SMS Bearcats (J. Tamayo)
END:VALARM
END:VEVENT
BEGIN:VEVENT
UID:semones-265935@ygametime.com
DTSTAMP:20220123T210000Z
DTSTART;TZID=America/Chicago:20220123T150000
DURATION:PT0H60M0S
SUMMARY:PHPS Hurricanes (C. Richards) vs JCC (D. Nathan)
DESCRIPTION:2nd Grade Boys | Basketball\nSemones Family YMCA\n
URL;VALUE=URI:https://ygametime.com/branch/semones/sports/2021-winter-basketball/11494/?utm_medium=calendar&utm_source=team_cal&utm_content=league_url#game-265935
LOCATION:JCC of Dallas - Court 2
BEGIN:VALARM
TRIGGER:-P2H
ACTION:DISPLAY
DESCRIPTION:PHPS Hurricanes (C. Richards) vs JCC (D. Nathan)
END:VALARM
END:VEVENT
BEGIN:VEVENT
UID:semones-265955@ygametime.com
DTSTAMP:20220130T210000Z
DTSTART;TZID=America/Chicago:20220130T150000
DURATION:PT0H60M0S
SUMMARY:JCC (D. Nathan) vs St. Marks Lion (J. Wagner)
DESCRIPTION:2nd Grade Boys | Basketball\nSemones Family YMCA\n
URL;VALUE=URI:https://ygametime.com/branch/semones/sports/2021-winter-basketball/11494/?utm_medium=calendar&utm_source=team_cal&utm_content=league_url#game-265955
LOCATION:JCC of Dallas - Court 2
BEGIN:VALARM
TRIGGER:-P2H
ACTION:DISPLAY
DESCRIPTION:JCC (D. Nathan) vs St. Marks Lion (J. Wagner)
END:VALARM
END:VEVENT
BEGIN:VEVENT
UID:semones-265964@ygametime.com
DTSTAMP:20220206T210000Z
DTSTART;TZID=America/Chicago:20220206T150000
DURATION:PT0H60M0S
SUMMARY:GSES Cougars 1 (J. Kimble) vs JCC (D. Nathan)
DESCRIPTION:2nd Grade Boys | Basketball\nSemones Family YMCA\n
URL;VALUE=URI:https://ygametime.com/branch/semones/sports/2021-winter-basketball/11494/?utm_medium=calendar&utm_source=team_cal&utm_content=league_url#game-265964
LOCATION:JCC of Dallas - Court 2
BEGIN:VALARM
TRIGGER:-P2H
ACTION:DISPLAY
DESCRIPTION:GSES Cougars 1 (J. Kimble) vs JCC (D. Nathan)
END:VALARM
END:VEVENT
BEGIN:VEVENT
UID:semones-265973@ygametime.com
DTSTAMP:20220213T210000Z
DTSTART;TZID=America/Chicago:20220213T150000
DURATION:PT0H60M0S
SUMMARY:JCC (D. Nathan) vs Dealey (D. Mendez)
DESCRIPTION:2nd Grade Boys | Basketball\nSemones Family YMCA\n
URL;VALUE=URI:https://ygametime.com/branch/semones/sports/2021-winter-basketball/11494/?utm_medium=calendar&utm_source=team_cal&utm_content=league_url#game-265973
LOCATION:JCC of Dallas - Court 2
BEGIN:VALARM
TRIGGER:-P2H
ACTION:DISPLAY
DESCRIPTION:JCC (D. Nathan) vs Dealey (D. Mendez)
END:VALARM
END:VEVENT
END:VCALENDAR

