BEGIN:VCALENDAR
VERSION:2.0
PRODID:-//YGAMETIME.com//YGT iCal Creator//EN
METHOD:PUBLISH
X-PUBLISHED-TTL:PT6H
REFRESH-INTERVAL;VALUE=DURATION:PT6H
CALSCALE:GREGORIAN
X-WR-CALNAME:YGAMETIME CALENDAR
BEGIN:VTIMEZONE
TZID:America/Chicago
X-LIC-LOCATION:America/Chicago
BEGIN:DAYLIGHT
TZOFFSETFROM:-0600
TZOFFSETTO:-0500
TZNAME:CDT
DTSTART:19700308T020000
RRULE:FREQ=YEARLY;BYMONTH=3;BYDAY=2SU
END:DAYLIGHT
BEGIN:STANDARD
TZOFFSETFROM:-0500
TZOFFSETTO:-0600
TZNAME:CST
DTSTART:19701101T020000
RRULE:FREQ=YEARLY;BYMONTH=11;BYDAY=1SU
END:STANDARD
END:VTIMEZONE
BEGIN:VEVENT
UID:semones-268583@ygametime.com
DTSTAMP:20211218T170000Z
DTSTART;TZID=America/Chicago:20211218T110000
DURATION:PT0H60M0S
SUMMARY:Bearcat Ballers 2 (J. Regas) vs Coram Deo Lions (B. Gaultney)
DESCRIPTION:3rd Grade Girls | Basketball\nSemones Family YMCA\n
URL;VALUE=URI:https://ygametime.com/branch/semones/sports/2021-winter-basketball/11391/?utm_medium=calendar&utm_source=team_cal&utm_content=league_url#game-268583
LOCATION:Good Shepherd Episcopal School 
BEGIN:VALARM
TRIGGER:-P2H
ACTION:DISPLAY
DESCRIPTION:Bearcat Ballers 2 (J. Regas) vs Coram Deo Lions (B. Gaultney)
END:VALARM
END:VEVENT
BEGIN:VEVENT
UID:semones-268591@ygametime.com
DTSTAMP:20220108T190000Z
DTSTART;TZID=America/Chicago:20220108T130000
DURATION:PT0H60M0S
SUMMARY:Coram Deo Lions (B. Gaultney) vs Dunkin' Daisies (M. Hardy)
DESCRIPTION:3rd Grade Girls | Basketball\nSemones Family YMCA\n
URL;VALUE=URI:https://ygametime.com/branch/semones/sports/2021-winter-basketball/11391/?utm_medium=calendar&utm_source=team_cal&utm_content=league_url#game-268591
LOCATION:Good Shepherd Episcopal School 
BEGIN:VALARM
TRIGGER:-P2H
ACTION:DISPLAY
DESCRIPTION:Coram Deo Lions (B. Gaultney) vs Dunkin' Daisies (M. Hardy)
END:VALARM
END:VEVENT
BEGIN:VEVENT
UID:semones-268599@ygametime.com
DTSTAMP:20220116T220000Z
DTSTART;TZID=America/Chicago:20220116T160000
DURATION:PT0H60M0S
SUMMARY:JCC (D. Eber) vs Coram Deo Lions (B. Gaultney)
DESCRIPTION:3rd Grade Girls | Basketball\nSemones Family YMCA\n
URL;VALUE=URI:https://ygametime.com/branch/semones/sports/2021-winter-basketball/11391/?utm_medium=calendar&utm_source=team_cal&utm_content=league_url#game-268599
LOCATION:JCC of Dallas - Court 1
BEGIN:VALARM
TRIGGER:-P2H
ACTION:DISPLAY
DESCRIPTION:JCC (D. Eber) vs Coram Deo Lions (B. Gaultney)
END:VALARM
END:VEVENT
BEGIN:VEVENT
UID:semones-268607@ygametime.com
DTSTAMP:20220122T150000Z
DTSTART;TZID=America/Chicago:20220122T090000
DURATION:PT0H60M0S
SUMMARY:Coram Deo Lions (B. Gaultney) vs Purple Power (E. Hunt)
DESCRIPTION:3rd Grade Girls | Basketball\nSemones Family YMCA\n
URL;VALUE=URI:https://ygametime.com/branch/semones/sports/2021-winter-basketball/11391/?utm_medium=calendar&utm_source=team_cal&utm_content=league_url#game-268607
LOCATION:Good Shepherd Episcopal School 
BEGIN:VALARM
TRIGGER:-P2H
ACTION:DISPLAY
DESCRIPTION:Coram Deo Lions (B. Gaultney) vs Purple Power (E. Hunt)
END:VALARM
END:VEVENT
BEGIN:VEVENT
UID:semones-268615@ygametime.com
DTSTAMP:20220129T140000Z
DTSTART;TZID=America/Chicago:20220129T080000
DURATION:PT0H60M0S
SUMMARY:Shooting Stars - Black (M. Gonzalez) vs Coram Deo Lions (B. Gaultney)
DESCRIPTION:3rd Grade Girls | Basketball\nSemones Family YMCA\n
URL;VALUE=URI:https://ygametime.com/branch/semones/sports/2021-winter-basketball/11391/?utm_medium=calendar&utm_source=team_cal&utm_content=league_url#game-268615
LOCATION:Good Shepherd Episcopal School 
BEGIN:VALARM
TRIGGER:-P2H
ACTION:DISPLAY
DESCRIPTION:Shooting Stars - Black (M. Gonzalez) vs Coram Deo Lions (B. Gaultney)
END:VALARM
END:VEVENT
BEGIN:VEVENT
UID:semones-268639@ygametime.com
DTSTAMP:20220212T180000Z
DTSTART;TZID=America/Chicago:20220212T120000
DURATION:PT0H60M0S
SUMMARY:Shooting Stars - Yellow (J. Landry) vs Coram Deo Lions (B. Gaultney)
DESCRIPTION:3rd Grade Girls | Basketball\nSemones Family YMCA\n
URL;VALUE=URI:https://ygametime.com/branch/semones/sports/2021-winter-basketball/11391/?utm_medium=calendar&utm_source=team_cal&utm_content=league_url#game-268639
LOCATION:Good Shepherd Episcopal School 
BEGIN:VALARM
TRIGGER:-P2H
ACTION:DISPLAY
DESCRIPTION:Shooting Stars - Yellow (J. Landry) vs Coram Deo Lions (B. Gaultney)
END:VALARM
END:VEVENT
BEGIN:VEVENT
UID:semones-268633@ygametime.com
DTSTAMP:20220219T220000Z
DTSTART;TZID=America/Chicago:20220219T160000
DURATION:PT0H60M0S
SUMMARY:Coram Deo Lions (B. Gaultney) vs Shooting Stars - Yellow (J. Landry)
DESCRIPTION:3rd Grade Girls | Basketball\nSemones Family YMCA\n
URL;VALUE=URI:https://ygametime.com/branch/semones/sports/2021-winter-basketball/11391/?utm_medium=calendar&utm_source=team_cal&utm_content=league_url#game-268633
LOCATION:Good Shepherd Episcopal School 
BEGIN:VALARM
TRIGGER:-P2H
ACTION:DISPLAY
DESCRIPTION:Coram Deo Lions (B. Gaultney) vs Shooting Stars - Yellow (J. Landry)
END:VALARM
END:VEVENT
END:VCALENDAR

