BEGIN:VCALENDAR
VERSION:2.0
PRODID:-//YGAMETIME.com//YGT iCal Creator//EN
METHOD:PUBLISH
X-PUBLISHED-TTL:PT6H
REFRESH-INTERVAL;VALUE=DURATION:PT6H
CALSCALE:GREGORIAN
X-WR-CALNAME:YGAMETIME CALENDAR
BEGIN:VTIMEZONE
TZID:America/Chicago
X-LIC-LOCATION:America/Chicago
BEGIN:DAYLIGHT
TZOFFSETFROM:-0600
TZOFFSETTO:-0500
TZNAME:CDT
DTSTART:19700308T020000
RRULE:FREQ=YEARLY;BYMONTH=3;BYDAY=2SU
END:DAYLIGHT
BEGIN:STANDARD
TZOFFSETFROM:-0500
TZOFFSETTO:-0600
TZNAME:CST
DTSTART:19701101T020000
RRULE:FREQ=YEARLY;BYMONTH=11;BYDAY=1SU
END:STANDARD
END:VTIMEZONE
BEGIN:VEVENT
UID:semones-268567@ygametime.com
DTSTAMP:20211211T160000Z
DTSTART;TZID=America/Chicago:20211211T100000
DURATION:PT0H60M0S
SUMMARY:Spartan Ballers (F. Gibson) vs Bearcat Ballers 1 (J. Regas)
DESCRIPTION:3rd Grade Girls | Basketball\nSemones Family YMCA\n
URL;VALUE=URI:https://ygametime.com/branch/semones/sports/2021-winter-basketball/11391/?utm_medium=calendar&utm_source=team_cal&utm_content=league_url#game-268567
LOCATION:Good Shepherd Episcopal School 
BEGIN:VALARM
TRIGGER:-P2H
ACTION:DISPLAY
DESCRIPTION:Spartan Ballers (F. Gibson) vs Bearcat Ballers 1 (J. Regas)
END:VALARM
END:VEVENT
BEGIN:VEVENT
UID:semones-268575@ygametime.com
DTSTAMP:20211218T150000Z
DTSTART;TZID=America/Chicago:20211218T090000
DURATION:PT0H60M0S
SUMMARY:Bearcat Ballers 1 (J. Regas) vs Crusaders Red (B. Walton)
DESCRIPTION:3rd Grade Girls | Basketball\nSemones Family YMCA\n
URL;VALUE=URI:https://ygametime.com/branch/semones/sports/2021-winter-basketball/11391/?utm_medium=calendar&utm_source=team_cal&utm_content=league_url#game-268575
LOCATION:Good Shepherd Episcopal School 
BEGIN:VALARM
TRIGGER:-P2H
ACTION:DISPLAY
DESCRIPTION:Bearcat Ballers 1 (J. Regas) vs Crusaders Red (B. Walton)
END:VALARM
END:VEVENT
BEGIN:VEVENT
UID:semones-268578@ygametime.com
DTSTAMP:20211218T180000Z
DTSTART;TZID=America/Chicago:20211218T120000
DURATION:PT0H60M0S
SUMMARY:Bearcat Ballers 1 (J. Regas) vs Daisy Fire (P. O'Brien)
DESCRIPTION:3rd Grade Girls | Basketball\nSemones Family YMCA\n
URL;VALUE=URI:https://ygametime.com/branch/semones/sports/2021-winter-basketball/11391/?utm_medium=calendar&utm_source=team_cal&utm_content=league_url#game-268578
LOCATION:Good Shepherd Episcopal School 
BEGIN:VALARM
TRIGGER:-P2H
ACTION:DISPLAY
DESCRIPTION:Bearcat Ballers 1 (J. Regas) vs Daisy Fire (P. O'Brien)
END:VALARM
END:VEVENT
BEGIN:VEVENT
UID:semones-268593@ygametime.com
DTSTAMP:20220108T210000Z
DTSTART;TZID=America/Chicago:20220108T150000
DURATION:PT0H60M0S
SUMMARY:Bearcat Ballers 1 (J. Regas) vs Dealey Dragons (M. Bower)
DESCRIPTION:3rd Grade Girls | Basketball\nSemones Family YMCA\n
URL;VALUE=URI:https://ygametime.com/branch/semones/sports/2021-winter-basketball/11391/?utm_medium=calendar&utm_source=team_cal&utm_content=league_url#game-268593
LOCATION:Good Shepherd Episcopal School 
BEGIN:VALARM
TRIGGER:-P2H
ACTION:DISPLAY
DESCRIPTION:Bearcat Ballers 1 (J. Regas) vs Dealey Dragons (M. Bower)
END:VALARM
END:VEVENT
BEGIN:VEVENT
UID:semones-268603@ygametime.com
DTSTAMP:20220115T190000Z
DTSTART;TZID=America/Chicago:20220115T130000
DURATION:PT0H60M0S
SUMMARY:Crusaders Gold (T. Bledsoe) vs Bearcat Ballers 1 (J. Regas)
DESCRIPTION:3rd Grade Girls | Basketball\nSemones Family YMCA\n
URL;VALUE=URI:https://ygametime.com/branch/semones/sports/2021-winter-basketball/11391/?utm_medium=calendar&utm_source=team_cal&utm_content=league_url#game-268603
LOCATION:Good Shepherd Episcopal School 
BEGIN:VALARM
TRIGGER:-P2H
ACTION:DISPLAY
DESCRIPTION:Crusaders Gold (T. Bledsoe) vs Bearcat Ballers 1 (J. Regas)
END:VALARM
END:VEVENT
BEGIN:VEVENT
UID:semones-268613@ygametime.com
DTSTAMP:20220122T210000Z
DTSTART;TZID=America/Chicago:20220122T150000
DURATION:PT0H60M0S
SUMMARY:Bearcat Ballers 1 (J. Regas) vs Daisy Shooting Stars (K. Lodes)
DESCRIPTION:3rd Grade Girls | Basketball\nSemones Family YMCA\n
URL;VALUE=URI:https://ygametime.com/branch/semones/sports/2021-winter-basketball/11391/?utm_medium=calendar&utm_source=team_cal&utm_content=league_url#game-268613
LOCATION:Good Shepherd Episcopal School 
BEGIN:VALARM
TRIGGER:-P2H
ACTION:DISPLAY
DESCRIPTION:Bearcat Ballers 1 (J. Regas) vs Daisy Shooting Stars (K. Lodes)
END:VALARM
END:VEVENT
BEGIN:VEVENT
UID:semones-268616@ygametime.com
DTSTAMP:20220129T150000Z
DTSTART;TZID=America/Chicago:20220129T090000
DURATION:PT0H60M0S
SUMMARY:Bearcat Ballers 1 (J. Regas) vs Spartan Ballers (F. Gibson)
DESCRIPTION:3rd Grade Girls | Basketball\nSemones Family YMCA\n
URL;VALUE=URI:https://ygametime.com/branch/semones/sports/2021-winter-basketball/11391/?utm_medium=calendar&utm_source=team_cal&utm_content=league_url#game-268616
LOCATION:Good Shepherd Episcopal School 
BEGIN:VALARM
TRIGGER:-P2H
ACTION:DISPLAY
DESCRIPTION:Bearcat Ballers 1 (J. Regas) vs Spartan Ballers (F. Gibson)
END:VALARM
END:VEVENT
BEGIN:VEVENT
UID:semones-268623@ygametime.com
DTSTAMP:20220129T160000Z
DTSTART;TZID=America/Chicago:20220129T100000
DURATION:PT0H60M0S
SUMMARY:ESD Eagles (T. Crowell) vs Bearcat Ballers 1 (J. Regas)
DESCRIPTION:3rd Grade Girls | Basketball\nSemones Family YMCA\n
URL;VALUE=URI:https://ygametime.com/branch/semones/sports/2021-winter-basketball/11391/?utm_medium=calendar&utm_source=team_cal&utm_content=league_url#game-268623
LOCATION:Good Shepherd Episcopal School 
BEGIN:VALARM
TRIGGER:-P2H
ACTION:DISPLAY
DESCRIPTION:ESD Eagles (T. Crowell) vs Bearcat Ballers 1 (J. Regas)
END:VALARM
END:VEVENT
BEGIN:VEVENT
UID:semones-268638@ygametime.com
DTSTAMP:20220212T200000Z
DTSTART;TZID=America/Chicago:20220212T140000
DURATION:PT0H60M0S
SUMMARY:Crusaders White (E. Ubinas) vs Bearcat Ballers 1 (J. Regas)
DESCRIPTION:3rd Grade Girls | Basketball\nSemones Family YMCA\n
URL;VALUE=URI:https://ygametime.com/branch/semones/sports/2021-winter-basketball/11391/?utm_medium=calendar&utm_source=team_cal&utm_content=league_url#game-268638
LOCATION:Good Shepherd Episcopal School 
BEGIN:VALARM
TRIGGER:-P2H
ACTION:DISPLAY
DESCRIPTION:Crusaders White (E. Ubinas) vs Bearcat Ballers 1 (J. Regas)
END:VALARM
END:VEVENT
BEGIN:VEVENT
UID:semones-268625@ygametime.com
DTSTAMP:20220219T140000Z
DTSTART;TZID=America/Chicago:20220219T080000
DURATION:PT0H60M0S
SUMMARY:Bearcat Ballers 1 (J. Regas) vs Greenhill Hornets (C. Lazard)
DESCRIPTION:3rd Grade Girls | Basketball\nSemones Family YMCA\n
URL;VALUE=URI:https://ygametime.com/branch/semones/sports/2021-winter-basketball/11391/?utm_medium=calendar&utm_source=team_cal&utm_content=league_url#game-268625
LOCATION:Good Shepherd Episcopal School 
BEGIN:VALARM
TRIGGER:-P2H
ACTION:DISPLAY
DESCRIPTION:Bearcat Ballers 1 (J. Regas) vs Greenhill Hornets (C. Lazard)
END:VALARM
END:VEVENT
END:VCALENDAR

