BEGIN:VCALENDAR
VERSION:2.0
PRODID:-//YGAMETIME.com//YGT iCal Creator//EN
METHOD:PUBLISH
X-PUBLISHED-TTL:PT6H
REFRESH-INTERVAL;VALUE=DURATION:PT6H
CALSCALE:GREGORIAN
X-WR-CALNAME:YGAMETIME CALENDAR
BEGIN:VTIMEZONE
TZID:America/Chicago
X-LIC-LOCATION:America/Chicago
BEGIN:DAYLIGHT
TZOFFSETFROM:-0600
TZOFFSETTO:-0500
TZNAME:CDT
DTSTART:19700308T020000
RRULE:FREQ=YEARLY;BYMONTH=3;BYDAY=2SU
END:DAYLIGHT
BEGIN:STANDARD
TZOFFSETFROM:-0500
TZOFFSETTO:-0600
TZNAME:CST
DTSTART:19701101T020000
RRULE:FREQ=YEARLY;BYMONTH=11;BYDAY=1SU
END:STANDARD
END:VTIMEZONE
BEGIN:VEVENT
UID:semones-268570@ygametime.com
DTSTAMP:20211212T220000Z
DTSTART;TZID=America/Chicago:20211212T160000
DURATION:PT0H60M0S
SUMMARY:Daisy Fire (P. O'Brien) vs JCC (D. Eber)
DESCRIPTION:3rd Grade Girls | Basketball\nSemones Family YMCA\n
URL;VALUE=URI:https://ygametime.com/branch/semones/sports/2021-winter-basketball/11391/?utm_medium=calendar&utm_source=team_cal&utm_content=league_url#game-268570
LOCATION:JCC of Dallas - Court 1
BEGIN:VALARM
TRIGGER:-P2H
ACTION:DISPLAY
DESCRIPTION:Daisy Fire (P. O'Brien) vs JCC (D. Eber)
END:VALARM
END:VEVENT
BEGIN:VEVENT
UID:semones-268578@ygametime.com
DTSTAMP:20211218T180000Z
DTSTART;TZID=America/Chicago:20211218T120000
DURATION:PT0H60M0S
SUMMARY:Bearcat Ballers 1 (J. Regas) vs Daisy Fire (P. O'Brien)
DESCRIPTION:3rd Grade Girls | Basketball\nSemones Family YMCA\n
URL;VALUE=URI:https://ygametime.com/branch/semones/sports/2021-winter-basketball/11391/?utm_medium=calendar&utm_source=team_cal&utm_content=league_url#game-268578
LOCATION:Good Shepherd Episcopal School 
BEGIN:VALARM
TRIGGER:-P2H
ACTION:DISPLAY
DESCRIPTION:Bearcat Ballers 1 (J. Regas) vs Daisy Fire (P. O'Brien)
END:VALARM
END:VEVENT
BEGIN:VEVENT
UID:semones-268586@ygametime.com
DTSTAMP:20220108T150000Z
DTSTART;TZID=America/Chicago:20220108T090000
DURATION:PT0H60M0S
SUMMARY:Daisy Fire (P. O'Brien) vs Shooting Stars - Black (M. Gonzalez)
DESCRIPTION:3rd Grade Girls | Basketball\nSemones Family YMCA\n
URL;VALUE=URI:https://ygametime.com/branch/semones/sports/2021-winter-basketball/11391/?utm_medium=calendar&utm_source=team_cal&utm_content=league_url#game-268586
LOCATION:Good Shepherd Episcopal School 
BEGIN:VALARM
TRIGGER:-P2H
ACTION:DISPLAY
DESCRIPTION:Daisy Fire (P. O'Brien) vs Shooting Stars - Black (M. Gonzalez)
END:VALARM
END:VEVENT
BEGIN:VEVENT
UID:semones-268612@ygametime.com
DTSTAMP:20220122T170000Z
DTSTART;TZID=America/Chicago:20220122T110000
DURATION:PT0H60M0S
SUMMARY:Daisy Fire (P. O'Brien) vs Crusaders White (E. Ubinas)
DESCRIPTION:3rd Grade Girls | Basketball\nSemones Family YMCA\n
URL;VALUE=URI:https://ygametime.com/branch/semones/sports/2021-winter-basketball/11391/?utm_medium=calendar&utm_source=team_cal&utm_content=league_url#game-268612
LOCATION:Good Shepherd Episcopal School 
BEGIN:VALARM
TRIGGER:-P2H
ACTION:DISPLAY
DESCRIPTION:Daisy Fire (P. O'Brien) vs Crusaders White (E. Ubinas)
END:VALARM
END:VEVENT
BEGIN:VEVENT
UID:semones-268620@ygametime.com
DTSTAMP:20220129T190000Z
DTSTART;TZID=America/Chicago:20220129T130000
DURATION:PT0H60M0S
SUMMARY:Dealey Dragons (M. Bower) vs Daisy Fire (P. O'Brien)
DESCRIPTION:3rd Grade Girls | Basketball\nSemones Family YMCA\n
URL;VALUE=URI:https://ygametime.com/branch/semones/sports/2021-winter-basketball/11391/?utm_medium=calendar&utm_source=team_cal&utm_content=league_url#game-268620
LOCATION:Good Shepherd Episcopal School 
BEGIN:VALARM
TRIGGER:-P2H
ACTION:DISPLAY
DESCRIPTION:Dealey Dragons (M. Bower) vs Daisy Fire (P. O'Brien)
END:VALARM
END:VEVENT
BEGIN:VEVENT
UID:semones-268604@ygametime.com
DTSTAMP:20220209T230000Z
DTSTART;TZID=America/Chicago:20220209T170000
DURATION:PT0H60M0S
SUMMARY:Shooting Stars - Yellow (J. Landry) vs Daisy Fire (P. O'Brien)
DESCRIPTION:3rd Grade Girls | Basketball\nSemones Family YMCA\n
URL;VALUE=URI:https://ygametime.com/branch/semones/sports/2021-winter-basketball/11391/?utm_medium=calendar&utm_source=team_cal&utm_content=league_url#game-268604
LOCATION:Semones Family YMCA - Court 1
BEGIN:VALARM
TRIGGER:-P2H
ACTION:DISPLAY
DESCRIPTION:Shooting Stars - Yellow (J. Landry) vs Daisy Fire (P. O'Brien)
END:VALARM
END:VEVENT
BEGIN:VEVENT
UID:semones-268630@ygametime.com
DTSTAMP:20220219T190000Z
DTSTART;TZID=America/Chicago:20220219T130000
DURATION:PT0H60M0S
SUMMARY:GSES Shooting Stars (C. Flume) vs Daisy Fire (P. O'Brien)
DESCRIPTION:3rd Grade Girls | Basketball\nSemones Family YMCA\n
URL;VALUE=URI:https://ygametime.com/branch/semones/sports/2021-winter-basketball/11391/?utm_medium=calendar&utm_source=team_cal&utm_content=league_url#game-268630
LOCATION:Good Shepherd Episcopal School 
BEGIN:VALARM
TRIGGER:-P2H
ACTION:DISPLAY
DESCRIPTION:GSES Shooting Stars (C. Flume) vs Daisy Fire (P. O'Brien)
END:VALARM
END:VEVENT
END:VCALENDAR

