BEGIN:VCALENDAR
VERSION:2.0
PRODID:-//YGAMETIME.com//YGT iCal Creator//EN
METHOD:PUBLISH
X-PUBLISHED-TTL:PT6H
REFRESH-INTERVAL;VALUE=DURATION:PT6H
CALSCALE:GREGORIAN
X-WR-CALNAME:YGAMETIME CALENDAR
BEGIN:VTIMEZONE
TZID:America/Chicago
X-LIC-LOCATION:America/Chicago
BEGIN:DAYLIGHT
TZOFFSETFROM:-0600
TZOFFSETTO:-0500
TZNAME:CDT
DTSTART:19700308T020000
RRULE:FREQ=YEARLY;BYMONTH=3;BYDAY=2SU
END:DAYLIGHT
BEGIN:STANDARD
TZOFFSETFROM:-0500
TZOFFSETTO:-0600
TZNAME:CST
DTSTART:19701101T020000
RRULE:FREQ=YEARLY;BYMONTH=11;BYDAY=1SU
END:STANDARD
END:VTIMEZONE
BEGIN:VEVENT
UID:semones-268705@ygametime.com
DTSTAMP:20211211T140000Z
DTSTART;TZID=America/Chicago:20211211T080000
DURATION:PT0H60M0S
SUMMARY:Kramer (K. Scovell) vs Lamplighter Nets (S. Fine)
DESCRIPTION:3rd Grade Boys | Basketball\nSemones Family YMCA\n
URL;VALUE=URI:https://ygametime.com/branch/semones/sports/2021-winter-basketball/11495/?utm_medium=calendar&utm_source=team_cal&utm_content=league_url#game-268705
LOCATION:Polk Recreation Center
BEGIN:VALARM
TRIGGER:-P2H
ACTION:DISPLAY
DESCRIPTION:Kramer (K. Scovell) vs Lamplighter Nets (S. Fine)
END:VALARM
END:VEVENT
BEGIN:VEVENT
UID:semones-268720@ygametime.com
DTSTAMP:20211218T180000Z
DTSTART;TZID=America/Chicago:20211218T120000
DURATION:PT0H60M0S
SUMMARY:Lamplighter Nets (S. Fine) vs Greenhill 2 (Mohan Badu)
DESCRIPTION:3rd Grade Boys | Basketball\nSemones Family YMCA\n
URL;VALUE=URI:https://ygametime.com/branch/semones/sports/2021-winter-basketball/11495/?utm_medium=calendar&utm_source=team_cal&utm_content=league_url#game-268720
LOCATION:Polk Recreation Center
BEGIN:VALARM
TRIGGER:-P2H
ACTION:DISPLAY
DESCRIPTION:Lamplighter Nets (S. Fine) vs Greenhill 2 (Mohan Badu)
END:VALARM
END:VEVENT
BEGIN:VEVENT
UID:semones-268725@ygametime.com
DTSTAMP:20220108T190000Z
DTSTART;TZID=America/Chicago:20220108T130000
DURATION:PT0H60M0S
SUMMARY:Spartans (Z. Couch) vs Lamplighter Nets (S. Fine)
DESCRIPTION:3rd Grade Boys | Basketball\nSemones Family YMCA\n
URL;VALUE=URI:https://ygametime.com/branch/semones/sports/2021-winter-basketball/11495/?utm_medium=calendar&utm_source=team_cal&utm_content=league_url#game-268725
LOCATION:Polk Recreation Center
BEGIN:VALARM
TRIGGER:-P2H
ACTION:DISPLAY
DESCRIPTION:Spartans (Z. Couch) vs Lamplighter Nets (S. Fine)
END:VALARM
END:VEVENT
BEGIN:VEVENT
UID:semones-268734@ygametime.com
DTSTAMP:20220123T210000Z
DTSTART;TZID=America/Chicago:20220123T150000
DURATION:PT0H60M0S
SUMMARY:Lamplighter Nets (S. Fine) vs JCC (C. Goldberg)
DESCRIPTION:3rd Grade Boys | Basketball\nSemones Family YMCA\n
URL;VALUE=URI:https://ygametime.com/branch/semones/sports/2021-winter-basketball/11495/?utm_medium=calendar&utm_source=team_cal&utm_content=league_url#game-268734
LOCATION:JCC of Dallas - Court 1
BEGIN:VALARM
TRIGGER:-P2H
ACTION:DISPLAY
DESCRIPTION:Lamplighter Nets (S. Fine) vs JCC (C. Goldberg)
END:VALARM
END:VEVENT
BEGIN:VEVENT
UID:semones-268741@ygametime.com
DTSTAMP:20220123T230000Z
DTSTART;TZID=America/Chicago:20220123T170000
DURATION:PT0H60M0S
SUMMARY:JCC (S. Tam) vs Lamplighter Nets (S. Fine)
DESCRIPTION:3rd Grade Boys | Basketball\nSemones Family YMCA\n
URL;VALUE=URI:https://ygametime.com/branch/semones/sports/2021-winter-basketball/11495/?utm_medium=calendar&utm_source=team_cal&utm_content=league_url#game-268741
LOCATION:JCC of Dallas - Court 2
BEGIN:VALARM
TRIGGER:-P2H
ACTION:DISPLAY
DESCRIPTION:JCC (S. Tam) vs Lamplighter Nets (S. Fine)
END:VALARM
END:VEVENT
BEGIN:VEVENT
UID:semones-268748@ygametime.com
DTSTAMP:20220129T190000Z
DTSTART;TZID=America/Chicago:20220129T130000
DURATION:PT0H60M0S
SUMMARY:Lamplighter Nets (S. Fine) vs Lions (S. Ziegler)
DESCRIPTION:3rd Grade Boys | Basketball\nSemones Family YMCA\n
URL;VALUE=URI:https://ygametime.com/branch/semones/sports/2021-winter-basketball/11495/?utm_medium=calendar&utm_source=team_cal&utm_content=league_url#game-268748
LOCATION:Polk Recreation Center
BEGIN:VALARM
TRIGGER:-P2H
ACTION:DISPLAY
DESCRIPTION:Lamplighter Nets (S. Fine) vs Lions (S. Ziegler)
END:VALARM
END:VEVENT
BEGIN:VEVENT
UID:semones-268755@ygametime.com
DTSTAMP:20220219T170000Z
DTSTART;TZID=America/Chicago:20220219T110000
DURATION:PT0H60M0S
SUMMARY:Bucks (P. Behringer) vs Lamplighter Nets (S. Fine)
DESCRIPTION:3rd Grade Boys | Basketball\nSemones Family YMCA\n
URL;VALUE=URI:https://ygametime.com/branch/semones/sports/2021-winter-basketball/11495/?utm_medium=calendar&utm_source=team_cal&utm_content=league_url#game-268755
LOCATION:Polk Recreation Center
BEGIN:VALARM
TRIGGER:-P2H
ACTION:DISPLAY
DESCRIPTION:Bucks (P. Behringer) vs Lamplighter Nets (S. Fine)
END:VALARM
END:VEVENT
END:VCALENDAR

