BEGIN:VCALENDAR
VERSION:2.0
PRODID:-//YGAMETIME.com//YGT iCal Creator//EN
METHOD:PUBLISH
X-PUBLISHED-TTL:PT6H
REFRESH-INTERVAL;VALUE=DURATION:PT6H
CALSCALE:GREGORIAN
X-WR-CALNAME:YGAMETIME CALENDAR
BEGIN:VTIMEZONE
TZID:America/Chicago
X-LIC-LOCATION:America/Chicago
BEGIN:DAYLIGHT
TZOFFSETFROM:-0600
TZOFFSETTO:-0500
TZNAME:CDT
DTSTART:19700308T020000
RRULE:FREQ=YEARLY;BYMONTH=3;BYDAY=2SU
END:DAYLIGHT
BEGIN:STANDARD
TZOFFSETFROM:-0500
TZOFFSETTO:-0600
TZNAME:CST
DTSTART:19701101T020000
RRULE:FREQ=YEARLY;BYMONTH=11;BYDAY=1SU
END:STANDARD
END:VTIMEZONE
BEGIN:VEVENT
UID:semones-268706@ygametime.com
DTSTAMP:20211211T150000Z
DTSTART;TZID=America/Chicago:20211211T090000
DURATION:PT0H60M0S
SUMMARY:Greenhill 2 (Mohan Badu) vs GSES Red (B. Landry)
DESCRIPTION:3rd Grade Boys | Basketball\nSemones Family YMCA\n
URL;VALUE=URI:https://ygametime.com/branch/semones/sports/2021-winter-basketball/11495/?utm_medium=calendar&utm_source=team_cal&utm_content=league_url#game-268706
LOCATION:Polk Recreation Center
BEGIN:VALARM
TRIGGER:-P2H
ACTION:DISPLAY
DESCRIPTION:Greenhill 2 (Mohan Badu) vs GSES Red (B. Landry)
END:VALARM
END:VEVENT
BEGIN:VEVENT
UID:semones-268722@ygametime.com
DTSTAMP:20220108T160000Z
DTSTART;TZID=America/Chicago:20220108T100000
DURATION:PT0H60M0S
SUMMARY:Lions (S. Ziegler) vs GSES Red (B. Landry)
DESCRIPTION:3rd Grade Boys | Basketball\nSemones Family YMCA\n
URL;VALUE=URI:https://ygametime.com/branch/semones/sports/2021-winter-basketball/11495/?utm_medium=calendar&utm_source=team_cal&utm_content=league_url#game-268722
LOCATION:Polk Recreation Center
BEGIN:VALARM
TRIGGER:-P2H
ACTION:DISPLAY
DESCRIPTION:Lions (S. Ziegler) vs GSES Red (B. Landry)
END:VALARM
END:VEVENT
BEGIN:VEVENT
UID:semones-268714@ygametime.com
DTSTAMP:20220109T210000Z
DTSTART;TZID=America/Chicago:20220109T150000
DURATION:PT0H60M0S
SUMMARY:GSES Red (B. Landry) vs JCC (C. Goldberg)
DESCRIPTION:3rd Grade Boys | Basketball\nSemones Family YMCA\n
URL;VALUE=URI:https://ygametime.com/branch/semones/sports/2021-winter-basketball/11495/?utm_medium=calendar&utm_source=team_cal&utm_content=league_url#game-268714
LOCATION:JCC of Dallas - Court 1
BEGIN:VALARM
TRIGGER:-P2H
ACTION:DISPLAY
DESCRIPTION:GSES Red (B. Landry) vs JCC (C. Goldberg)
END:VALARM
END:VEVENT
BEGIN:VEVENT
UID:semones-268737@ygametime.com
DTSTAMP:20220122T150000Z
DTSTART;TZID=America/Chicago:20220122T090000
DURATION:PT0H60M0S
SUMMARY:Spartans (Z. Couch) vs GSES Red (B. Landry)
DESCRIPTION:3rd Grade Boys | Basketball\nSemones Family YMCA\n
URL;VALUE=URI:https://ygametime.com/branch/semones/sports/2021-winter-basketball/11495/?utm_medium=calendar&utm_source=team_cal&utm_content=league_url#game-268737
LOCATION:Polk Recreation Center
BEGIN:VALARM
TRIGGER:-P2H
ACTION:DISPLAY
DESCRIPTION:Spartans (Z. Couch) vs GSES Red (B. Landry)
END:VALARM
END:VEVENT
BEGIN:VEVENT
UID:semones-268745@ygametime.com
DTSTAMP:20220129T210000Z
DTSTART;TZID=America/Chicago:20220129T150000
DURATION:PT0H60M0S
SUMMARY:GSES Red (B. Landry) vs Dealey Dragons (J. Araujo)
DESCRIPTION:3rd Grade Boys | Basketball\nSemones Family YMCA\n
URL;VALUE=URI:https://ygametime.com/branch/semones/sports/2021-winter-basketball/11495/?utm_medium=calendar&utm_source=team_cal&utm_content=league_url#game-268745
LOCATION:Polk Recreation Center
BEGIN:VALARM
TRIGGER:-P2H
ACTION:DISPLAY
DESCRIPTION:GSES Red (B. Landry) vs Dealey Dragons (J. Araujo)
END:VALARM
END:VEVENT
BEGIN:VEVENT
UID:semones-268730@ygametime.com
DTSTAMP:20220210T230000Z
DTSTART;TZID=America/Chicago:20220210T170000
DURATION:PT0H60M0S
SUMMARY:GSES Red (B. Landry) vs Lions Hoops (B. Harbour)
DESCRIPTION:3rd Grade Boys | Basketball\nSemones Family YMCA\n
URL;VALUE=URI:https://ygametime.com/branch/semones/sports/2021-winter-basketball/11495/?utm_medium=calendar&utm_source=team_cal&utm_content=league_url#game-268730
LOCATION:Semones Family YMCA - Full Court
BEGIN:VALARM
TRIGGER:-P2H
ACTION:DISPLAY
DESCRIPTION:GSES Red (B. Landry) vs Lions Hoops (B. Harbour)
END:VALARM
END:VEVENT
BEGIN:VEVENT
UID:semones-268761@ygametime.com
DTSTAMP:20220212T160000Z
DTSTART;TZID=America/Chicago:20220212T100000
DURATION:PT0H60M0S
SUMMARY:GSES Red (B. Landry) vs Dragons (A. Kahn)
DESCRIPTION:3rd Grade Boys | Basketball\nSemones Family YMCA\n
URL;VALUE=URI:https://ygametime.com/branch/semones/sports/2021-winter-basketball/11495/?utm_medium=calendar&utm_source=team_cal&utm_content=league_url#game-268761
LOCATION:Polk Recreation Center
BEGIN:VALARM
TRIGGER:-P2H
ACTION:DISPLAY
DESCRIPTION:GSES Red (B. Landry) vs Dragons (A. Kahn)
END:VALARM
END:VEVENT
BEGIN:VEVENT
UID:semones-268753@ygametime.com
DTSTAMP:20220219T200000Z
DTSTART;TZID=America/Chicago:20220219T140000
DURATION:PT0H60M0S
SUMMARY:Wesley Prep Panthers (D. Hinnant) vs GSES Red (B. Landry)
DESCRIPTION:3rd Grade Boys | Basketball\nSemones Family YMCA\n
URL;VALUE=URI:https://ygametime.com/branch/semones/sports/2021-winter-basketball/11495/?utm_medium=calendar&utm_source=team_cal&utm_content=league_url#game-268753
LOCATION:Polk Recreation Center
BEGIN:VALARM
TRIGGER:-P2H
ACTION:DISPLAY
DESCRIPTION:Wesley Prep Panthers (D. Hinnant) vs GSES Red (B. Landry)
END:VALARM
END:VEVENT
END:VCALENDAR

