BEGIN:VCALENDAR
VERSION:2.0
PRODID:-//YGAMETIME.com//YGT iCal Creator//EN
METHOD:PUBLISH
X-PUBLISHED-TTL:PT6H
REFRESH-INTERVAL;VALUE=DURATION:PT6H
CALSCALE:GREGORIAN
X-WR-CALNAME:YGAMETIME CALENDAR
BEGIN:VTIMEZONE
TZID:America/Chicago
X-LIC-LOCATION:America/Chicago
BEGIN:DAYLIGHT
TZOFFSETFROM:-0600
TZOFFSETTO:-0500
TZNAME:CDT
DTSTART:19700308T020000
RRULE:FREQ=YEARLY;BYMONTH=3;BYDAY=2SU
END:DAYLIGHT
BEGIN:STANDARD
TZOFFSETFROM:-0500
TZOFFSETTO:-0600
TZNAME:CST
DTSTART:19701101T020000
RRULE:FREQ=YEARLY;BYMONTH=11;BYDAY=1SU
END:STANDARD
END:VTIMEZONE
BEGIN:VEVENT
UID:semones-268708@ygametime.com
DTSTAMP:20211212T210000Z
DTSTART;TZID=America/Chicago:20211212T150000
DURATION:PT0H60M0S
SUMMARY:JCC (C. Goldberg) vs Spartans (M. Malkowski)
DESCRIPTION:3rd Grade Boys | Basketball\nSemones Family YMCA\n
URL;VALUE=URI:https://ygametime.com/branch/semones/sports/2021-winter-basketball/11495/?utm_medium=calendar&utm_source=team_cal&utm_content=league_url#game-268708
LOCATION:JCC of Dallas - Court 1
BEGIN:VALARM
TRIGGER:-P2H
ACTION:DISPLAY
DESCRIPTION:JCC (C. Goldberg) vs Spartans (M. Malkowski)
END:VALARM
END:VEVENT
BEGIN:VEVENT
UID:semones-268716@ygametime.com
DTSTAMP:20211218T150000Z
DTSTART;TZID=America/Chicago:20211218T090000
DURATION:PT0H60M0S
SUMMARY:Spartans (M. Malkowski) vs Lions (S. Ziegler)
DESCRIPTION:3rd Grade Boys | Basketball\nSemones Family YMCA\n
URL;VALUE=URI:https://ygametime.com/branch/semones/sports/2021-winter-basketball/11495/?utm_medium=calendar&utm_source=team_cal&utm_content=league_url#game-268716
LOCATION:Polk Recreation Center
BEGIN:VALARM
TRIGGER:-P2H
ACTION:DISPLAY
DESCRIPTION:Spartans (M. Malkowski) vs Lions (S. Ziegler)
END:VALARM
END:VEVENT
BEGIN:VEVENT
UID:semones-268724@ygametime.com
DTSTAMP:20220108T180000Z
DTSTART;TZID=America/Chicago:20220108T120000
DURATION:PT0H60M0S
SUMMARY:Lions Hoops (B. Harbour) vs Spartans (M. Malkowski)
DESCRIPTION:3rd Grade Boys | Basketball\nSemones Family YMCA\n
URL;VALUE=URI:https://ygametime.com/branch/semones/sports/2021-winter-basketball/11495/?utm_medium=calendar&utm_source=team_cal&utm_content=league_url#game-268724
LOCATION:Polk Recreation Center
BEGIN:VALARM
TRIGGER:-P2H
ACTION:DISPLAY
DESCRIPTION:Lions Hoops (B. Harbour) vs Spartans (M. Malkowski)
END:VALARM
END:VEVENT
BEGIN:VEVENT
UID:semones-268732@ygametime.com
DTSTAMP:20220115T190000Z
DTSTART;TZID=America/Chicago:20220115T130000
DURATION:PT0H60M0S
SUMMARY:Alcuin Hawks (L. Gonzalez) vs Spartans (M. Malkowski)
DESCRIPTION:3rd Grade Boys | Basketball\nSemones Family YMCA\n
URL;VALUE=URI:https://ygametime.com/branch/semones/sports/2021-winter-basketball/11495/?utm_medium=calendar&utm_source=team_cal&utm_content=league_url#game-268732
LOCATION:Polk Recreation Center
BEGIN:VALARM
TRIGGER:-P2H
ACTION:DISPLAY
DESCRIPTION:Alcuin Hawks (L. Gonzalez) vs Spartans (M. Malkowski)
END:VALARM
END:VEVENT
BEGIN:VEVENT
UID:semones-268739@ygametime.com
DTSTAMP:20220122T170000Z
DTSTART;TZID=America/Chicago:20220122T110000
DURATION:PT0H60M0S
SUMMARY:Dealey Dragons (J. Araujo) vs Spartans (M. Malkowski)
DESCRIPTION:3rd Grade Boys | Basketball\nSemones Family YMCA\n
URL;VALUE=URI:https://ygametime.com/branch/semones/sports/2021-winter-basketball/11495/?utm_medium=calendar&utm_source=team_cal&utm_content=league_url#game-268739
LOCATION:Polk Recreation Center
BEGIN:VALARM
TRIGGER:-P2H
ACTION:DISPLAY
DESCRIPTION:Dealey Dragons (J. Araujo) vs Spartans (M. Malkowski)
END:VALARM
END:VEVENT
BEGIN:VEVENT
UID:semones-268747@ygametime.com
DTSTAMP:20220129T180000Z
DTSTART;TZID=America/Chicago:20220129T120000
DURATION:PT0H60M0S
SUMMARY:Spartans (M. Malkowski) vs Wesley Prep Panthers (D. Hinnant)
DESCRIPTION:3rd Grade Boys | Basketball\nSemones Family YMCA\n
URL;VALUE=URI:https://ygametime.com/branch/semones/sports/2021-winter-basketball/11495/?utm_medium=calendar&utm_source=team_cal&utm_content=league_url#game-268747
LOCATION:Polk Recreation Center
BEGIN:VALARM
TRIGGER:-P2H
ACTION:DISPLAY
DESCRIPTION:Spartans (M. Malkowski) vs Wesley Prep Panthers (D. Hinnant)
END:VALARM
END:VEVENT
BEGIN:VEVENT
UID:semones-268767@ygametime.com
DTSTAMP:20220212T210000Z
DTSTART;TZID=America/Chicago:20220212T150000
DURATION:PT0H60M0S
SUMMARY:Spartans (M. Malkowski) vs Kramer (K. Scovell)
DESCRIPTION:3rd Grade Boys | Basketball\nSemones Family YMCA\n
URL;VALUE=URI:https://ygametime.com/branch/semones/sports/2021-winter-basketball/11495/?utm_medium=calendar&utm_source=team_cal&utm_content=league_url#game-268767
LOCATION:Polk Recreation Center
BEGIN:VALARM
TRIGGER:-P2H
ACTION:DISPLAY
DESCRIPTION:Spartans (M. Malkowski) vs Kramer (K. Scovell)
END:VALARM
END:VEVENT
BEGIN:VEVENT
UID:semones-268754@ygametime.com
DTSTAMP:20220219T160000Z
DTSTART;TZID=America/Chicago:20220219T100000
DURATION:PT0H60M0S
SUMMARY:Dragons (A. Kahn) vs Spartans (M. Malkowski)
DESCRIPTION:3rd Grade Boys | Basketball\nSemones Family YMCA\n
URL;VALUE=URI:https://ygametime.com/branch/semones/sports/2021-winter-basketball/11495/?utm_medium=calendar&utm_source=team_cal&utm_content=league_url#game-268754
LOCATION:Polk Recreation Center
BEGIN:VALARM
TRIGGER:-P2H
ACTION:DISPLAY
DESCRIPTION:Dragons (A. Kahn) vs Spartans (M. Malkowski)
END:VALARM
END:VEVENT
END:VCALENDAR

