BEGIN:VCALENDAR
VERSION:2.0
PRODID:-//YGAMETIME.com//YGT iCal Creator//EN
METHOD:PUBLISH
X-PUBLISHED-TTL:PT6H
REFRESH-INTERVAL;VALUE=DURATION:PT6H
CALSCALE:GREGORIAN
X-WR-CALNAME:YGAMETIME CALENDAR
BEGIN:VTIMEZONE
TZID:America/Chicago
X-LIC-LOCATION:America/Chicago
BEGIN:DAYLIGHT
TZOFFSETFROM:-0600
TZOFFSETTO:-0500
TZNAME:CDT
DTSTART:19700308T020000
RRULE:FREQ=YEARLY;BYMONTH=3;BYDAY=2SU
END:DAYLIGHT
BEGIN:STANDARD
TZOFFSETFROM:-0500
TZOFFSETTO:-0600
TZNAME:CST
DTSTART:19701101T020000
RRULE:FREQ=YEARLY;BYMONTH=11;BYDAY=1SU
END:STANDARD
END:VTIMEZONE
BEGIN:VEVENT
UID:semones-268709@ygametime.com
DTSTAMP:20211212T230000Z
DTSTART;TZID=America/Chicago:20211212T170000
DURATION:PT0H60M0S
SUMMARY:Wesley Prep Panthers (D. Hinnant) vs JCC (S. Tam)
DESCRIPTION:3rd Grade Boys | Basketball\nSemones Family YMCA\n
URL;VALUE=URI:https://ygametime.com/branch/semones/sports/2021-winter-basketball/11495/?utm_medium=calendar&utm_source=team_cal&utm_content=league_url#game-268709
LOCATION:JCC of Dallas - Court 2
BEGIN:VALARM
TRIGGER:-P2H
ACTION:DISPLAY
DESCRIPTION:Wesley Prep Panthers (D. Hinnant) vs JCC (S. Tam)
END:VALARM
END:VEVENT
BEGIN:VEVENT
UID:semones-268715@ygametime.com
DTSTAMP:20220109T230000Z
DTSTART;TZID=America/Chicago:20220109T170000
DURATION:PT0H60M0S
SUMMARY:JCC (S. Tam) vs Dragons (A. Kahn)
DESCRIPTION:3rd Grade Boys | Basketball\nSemones Family YMCA\n
URL;VALUE=URI:https://ygametime.com/branch/semones/sports/2021-winter-basketball/11495/?utm_medium=calendar&utm_source=team_cal&utm_content=league_url#game-268715
LOCATION:JCC of Dallas - Court 2
BEGIN:VALARM
TRIGGER:-P2H
ACTION:DISPLAY
DESCRIPTION:JCC (S. Tam) vs Dragons (A. Kahn)
END:VALARM
END:VEVENT
BEGIN:VEVENT
UID:semones-268721@ygametime.com
DTSTAMP:20220116T230000Z
DTSTART;TZID=America/Chicago:20220116T170000
DURATION:PT0H60M0S
SUMMARY:Kramer (K. Scovell) vs JCC (S. Tam)
DESCRIPTION:3rd Grade Boys | Basketball\nSemones Family YMCA\n
URL;VALUE=URI:https://ygametime.com/branch/semones/sports/2021-winter-basketball/11495/?utm_medium=calendar&utm_source=team_cal&utm_content=league_url#game-268721
LOCATION:JCC of Dallas - Court 2
BEGIN:VALARM
TRIGGER:-P2H
ACTION:DISPLAY
DESCRIPTION:Kramer (K. Scovell) vs JCC (S. Tam)
END:VALARM
END:VEVENT
BEGIN:VEVENT
UID:semones-268741@ygametime.com
DTSTAMP:20220123T230000Z
DTSTART;TZID=America/Chicago:20220123T170000
DURATION:PT0H60M0S
SUMMARY:JCC (S. Tam) vs Lamplighter Nets (S. Fine)
DESCRIPTION:3rd Grade Boys | Basketball\nSemones Family YMCA\n
URL;VALUE=URI:https://ygametime.com/branch/semones/sports/2021-winter-basketball/11495/?utm_medium=calendar&utm_source=team_cal&utm_content=league_url#game-268741
LOCATION:JCC of Dallas - Court 2
BEGIN:VALARM
TRIGGER:-P2H
ACTION:DISPLAY
DESCRIPTION:JCC (S. Tam) vs Lamplighter Nets (S. Fine)
END:VALARM
END:VEVENT
BEGIN:VEVENT
UID:semones-268735@ygametime.com
DTSTAMP:20220130T230000Z
DTSTART;TZID=America/Chicago:20220130T170000
DURATION:PT0H60M0S
SUMMARY:JCC (S. Tam) vs Lions Hoops (B. Harbour)
DESCRIPTION:3rd Grade Boys | Basketball\nSemones Family YMCA\n
URL;VALUE=URI:https://ygametime.com/branch/semones/sports/2021-winter-basketball/11495/?utm_medium=calendar&utm_source=team_cal&utm_content=league_url#game-268735
LOCATION:JCC of Dallas - Court 2
BEGIN:VALARM
TRIGGER:-P2H
ACTION:DISPLAY
DESCRIPTION:JCC (S. Tam) vs Lions Hoops (B. Harbour)
END:VALARM
END:VEVENT
BEGIN:VEVENT
UID:semones-268749@ygametime.com
DTSTAMP:20220206T230000Z
DTSTART;TZID=America/Chicago:20220206T170000
DURATION:PT0H60M0S
SUMMARY:Bucks (P. Behringer) vs JCC (S. Tam)
DESCRIPTION:3rd Grade Boys | Basketball\nSemones Family YMCA\n
URL;VALUE=URI:https://ygametime.com/branch/semones/sports/2021-winter-basketball/11495/?utm_medium=calendar&utm_source=team_cal&utm_content=league_url#game-268749
LOCATION:JCC of Dallas - Court 2
BEGIN:VALARM
TRIGGER:-P2H
ACTION:DISPLAY
DESCRIPTION:Bucks (P. Behringer) vs JCC (S. Tam)
END:VALARM
END:VEVENT
BEGIN:VEVENT
UID:semones-268763@ygametime.com
DTSTAMP:20220213T170000Z
DTSTART;TZID=America/Chicago:20220213T110000
DURATION:PT0H60M0S
SUMMARY:Alcuin Hawks (L. Gonzalez) vs JCC (S. Tam)
DESCRIPTION:3rd Grade Boys | Basketball\nSemones Family YMCA\n
URL;VALUE=URI:https://ygametime.com/branch/semones/sports/2021-winter-basketball/11495/?utm_medium=calendar&utm_source=team_cal&utm_content=league_url#game-268763
LOCATION:JCC of Dallas - Court 2
BEGIN:VALARM
TRIGGER:-P2H
ACTION:DISPLAY
DESCRIPTION:Alcuin Hawks (L. Gonzalez) vs JCC (S. Tam)
END:VALARM
END:VEVENT
END:VCALENDAR

