BEGIN:VCALENDAR
VERSION:2.0
PRODID:-//YGAMETIME.com//YGT iCal Creator//EN
METHOD:PUBLISH
X-PUBLISHED-TTL:PT6H
REFRESH-INTERVAL;VALUE=DURATION:PT6H
CALSCALE:GREGORIAN
X-WR-CALNAME:YGAMETIME CALENDAR
BEGIN:VTIMEZONE
TZID:America/Chicago
X-LIC-LOCATION:America/Chicago
BEGIN:DAYLIGHT
TZOFFSETFROM:-0600
TZOFFSETTO:-0500
TZNAME:CDT
DTSTART:19700308T020000
RRULE:FREQ=YEARLY;BYMONTH=3;BYDAY=2SU
END:DAYLIGHT
BEGIN:STANDARD
TZOFFSETFROM:-0500
TZOFFSETTO:-0600
TZNAME:CST
DTSTART:19701101T020000
RRULE:FREQ=YEARLY;BYMONTH=11;BYDAY=1SU
END:STANDARD
END:VTIMEZONE
BEGIN:VEVENT
UID:semones-268711@ygametime.com
DTSTAMP:20211211T180000Z
DTSTART;TZID=America/Chicago:20211211T120000
DURATION:PT0H60M0S
SUMMARY:Dealey Dragons (J. Araujo) vs Bucks (P. Behringer)
DESCRIPTION:3rd Grade Boys | Basketball\nSemones Family YMCA\n
URL;VALUE=URI:https://ygametime.com/branch/semones/sports/2021-winter-basketball/11495/?utm_medium=calendar&utm_source=team_cal&utm_content=league_url#game-268711
LOCATION:Polk Recreation Center
BEGIN:VALARM
TRIGGER:-P2H
ACTION:DISPLAY
DESCRIPTION:Dealey Dragons (J. Araujo) vs Bucks (P. Behringer)
END:VALARM
END:VEVENT
BEGIN:VEVENT
UID:semones-268717@ygametime.com
DTSTAMP:20211218T160000Z
DTSTART;TZID=America/Chicago:20211218T100000
DURATION:PT0H60M0S
SUMMARY:Bucks (P. Behringer) vs Wesley Prep Panthers (D. Hinnant)
DESCRIPTION:3rd Grade Boys | Basketball\nSemones Family YMCA\n
URL;VALUE=URI:https://ygametime.com/branch/semones/sports/2021-winter-basketball/11495/?utm_medium=calendar&utm_source=team_cal&utm_content=league_url#game-268717
LOCATION:Polk Recreation Center
BEGIN:VALARM
TRIGGER:-P2H
ACTION:DISPLAY
DESCRIPTION:Bucks (P. Behringer) vs Wesley Prep Panthers (D. Hinnant)
END:VALARM
END:VEVENT
BEGIN:VEVENT
UID:semones-268723@ygametime.com
DTSTAMP:20220108T170000Z
DTSTART;TZID=America/Chicago:20220108T110000
DURATION:PT0H60M0S
SUMMARY:Dragons (A. Kahn) vs Bucks (P. Behringer)
DESCRIPTION:3rd Grade Boys | Basketball\nSemones Family YMCA\n
URL;VALUE=URI:https://ygametime.com/branch/semones/sports/2021-winter-basketball/11495/?utm_medium=calendar&utm_source=team_cal&utm_content=league_url#game-268723
LOCATION:Polk Recreation Center
BEGIN:VALARM
TRIGGER:-P2H
ACTION:DISPLAY
DESCRIPTION:Dragons (A. Kahn) vs Bucks (P. Behringer)
END:VALARM
END:VEVENT
BEGIN:VEVENT
UID:semones-268729@ygametime.com
DTSTAMP:20220115T160000Z
DTSTART;TZID=America/Chicago:20220115T100000
DURATION:PT0H60M0S
SUMMARY:Bucks (P. Behringer) vs Kramer (K. Scovell)
DESCRIPTION:3rd Grade Boys | Basketball\nSemones Family YMCA\n
URL;VALUE=URI:https://ygametime.com/branch/semones/sports/2021-winter-basketball/11495/?utm_medium=calendar&utm_source=team_cal&utm_content=league_url#game-268729
LOCATION:Polk Recreation Center
BEGIN:VALARM
TRIGGER:-P2H
ACTION:DISPLAY
DESCRIPTION:Bucks (P. Behringer) vs Kramer (K. Scovell)
END:VALARM
END:VEVENT
BEGIN:VEVENT
UID:semones-268743@ygametime.com
DTSTAMP:20220122T200000Z
DTSTART;TZID=America/Chicago:20220122T140000
DURATION:PT0H60M0S
SUMMARY:DIS 3rd Boys (Coach Clement) vs Bucks (P. Behringer)
DESCRIPTION:3rd Grade Boys | Basketball\nSemones Family YMCA\n
URL;VALUE=URI:https://ygametime.com/branch/semones/sports/2021-winter-basketball/11495/?utm_medium=calendar&utm_source=team_cal&utm_content=league_url#game-268743
LOCATION:Polk Recreation Center
BEGIN:VALARM
TRIGGER:-P2H
ACTION:DISPLAY
DESCRIPTION:DIS 3rd Boys (Coach Clement) vs Bucks (P. Behringer)
END:VALARM
END:VEVENT
BEGIN:VEVENT
UID:semones-268749@ygametime.com
DTSTAMP:20220206T230000Z
DTSTART;TZID=America/Chicago:20220206T170000
DURATION:PT0H60M0S
SUMMARY:Bucks (P. Behringer) vs JCC (S. Tam)
DESCRIPTION:3rd Grade Boys | Basketball\nSemones Family YMCA\n
URL;VALUE=URI:https://ygametime.com/branch/semones/sports/2021-winter-basketball/11495/?utm_medium=calendar&utm_source=team_cal&utm_content=league_url#game-268749
LOCATION:JCC of Dallas - Court 2
BEGIN:VALARM
TRIGGER:-P2H
ACTION:DISPLAY
DESCRIPTION:Bucks (P. Behringer) vs JCC (S. Tam)
END:VALARM
END:VEVENT
BEGIN:VEVENT
UID:semones-268764@ygametime.com
DTSTAMP:20220212T180000Z
DTSTART;TZID=America/Chicago:20220212T120000
DURATION:PT0H60M0S
SUMMARY:Bucks (P. Behringer) vs Dealey Dragons (J. Araujo)
DESCRIPTION:3rd Grade Boys | Basketball\nSemones Family YMCA\n
URL;VALUE=URI:https://ygametime.com/branch/semones/sports/2021-winter-basketball/11495/?utm_medium=calendar&utm_source=team_cal&utm_content=league_url#game-268764
LOCATION:Polk Recreation Center
BEGIN:VALARM
TRIGGER:-P2H
ACTION:DISPLAY
DESCRIPTION:Bucks (P. Behringer) vs Dealey Dragons (J. Araujo)
END:VALARM
END:VEVENT
BEGIN:VEVENT
UID:semones-268755@ygametime.com
DTSTAMP:20220219T170000Z
DTSTART;TZID=America/Chicago:20220219T110000
DURATION:PT0H60M0S
SUMMARY:Bucks (P. Behringer) vs Lamplighter Nets (S. Fine)
DESCRIPTION:3rd Grade Boys | Basketball\nSemones Family YMCA\n
URL;VALUE=URI:https://ygametime.com/branch/semones/sports/2021-winter-basketball/11495/?utm_medium=calendar&utm_source=team_cal&utm_content=league_url#game-268755
LOCATION:Polk Recreation Center
BEGIN:VALARM
TRIGGER:-P2H
ACTION:DISPLAY
DESCRIPTION:Bucks (P. Behringer) vs Lamplighter Nets (S. Fine)
END:VALARM
END:VEVENT
END:VCALENDAR

