BEGIN:VCALENDAR
VERSION:2.0
PRODID:-//YGAMETIME.com//YGT iCal Creator//EN
METHOD:PUBLISH
X-PUBLISHED-TTL:PT6H
REFRESH-INTERVAL;VALUE=DURATION:PT6H
CALSCALE:GREGORIAN
X-WR-CALNAME:YGAMETIME CALENDAR
BEGIN:VTIMEZONE
TZID:America/Chicago
X-LIC-LOCATION:America/Chicago
BEGIN:DAYLIGHT
TZOFFSETFROM:-0600
TZOFFSETTO:-0500
TZNAME:CDT
DTSTART:19700308T020000
RRULE:FREQ=YEARLY;BYMONTH=3;BYDAY=2SU
END:DAYLIGHT
BEGIN:STANDARD
TZOFFSETFROM:-0500
TZOFFSETTO:-0600
TZNAME:CST
DTSTART:19701101T020000
RRULE:FREQ=YEARLY;BYMONTH=11;BYDAY=1SU
END:STANDARD
END:VTIMEZONE
BEGIN:VEVENT
UID:semones-268577@ygametime.com
DTSTAMP:20211218T160000Z
DTSTART;TZID=America/Chicago:20211218T100000
DURATION:PT0H60M0S
SUMMARY:Crusaders Gold (T. Bledsoe) vs GSES Shooting Stars (C. Flume)
DESCRIPTION:3rd Grade Girls | Basketball\nSemones Family YMCA\n
URL;VALUE=URI:https://ygametime.com/branch/semones/sports/2021-winter-basketball/11391/?utm_medium=calendar&utm_source=team_cal&utm_content=league_url#game-268577
LOCATION:Good Shepherd Episcopal School 
BEGIN:VALARM
TRIGGER:-P2H
ACTION:DISPLAY
DESCRIPTION:Crusaders Gold (T. Bledsoe) vs GSES Shooting Stars (C. Flume)
END:VALARM
END:VEVENT
BEGIN:VEVENT
UID:semones-268588@ygametime.com
DTSTAMP:20220108T170000Z
DTSTART;TZID=America/Chicago:20220108T110000
DURATION:PT0H60M0S
SUMMARY:GSES Shooting Stars (C. Flume) vs Purple Power (E. Hunt)
DESCRIPTION:3rd Grade Girls | Basketball\nSemones Family YMCA\n
URL;VALUE=URI:https://ygametime.com/branch/semones/sports/2021-winter-basketball/11391/?utm_medium=calendar&utm_source=team_cal&utm_content=league_url#game-268588
LOCATION:Good Shepherd Episcopal School 
BEGIN:VALARM
TRIGGER:-P2H
ACTION:DISPLAY
DESCRIPTION:GSES Shooting Stars (C. Flume) vs Purple Power (E. Hunt)
END:VALARM
END:VEVENT
BEGIN:VEVENT
UID:semones-268580@ygametime.com
DTSTAMP:20220109T220000Z
DTSTART;TZID=America/Chicago:20220109T160000
DURATION:PT0H60M0S
SUMMARY:JCC (D. Eber) vs GSES Shooting Stars (C. Flume)
DESCRIPTION:3rd Grade Girls | Basketball\nSemones Family YMCA\n
URL;VALUE=URI:https://ygametime.com/branch/semones/sports/2021-winter-basketball/11391/?utm_medium=calendar&utm_source=team_cal&utm_content=league_url#game-268580
LOCATION:JCC of Dallas - Court 1
BEGIN:VALARM
TRIGGER:-P2H
ACTION:DISPLAY
DESCRIPTION:JCC (D. Eber) vs GSES Shooting Stars (C. Flume)
END:VALARM
END:VEVENT
BEGIN:VEVENT
UID:semones-268596@ygametime.com
DTSTAMP:20220115T150000Z
DTSTART;TZID=America/Chicago:20220115T090000
DURATION:PT0H60M0S
SUMMARY:Shooting Stars - Black (M. Gonzalez) vs GSES Shooting Stars (C. Flume)
DESCRIPTION:3rd Grade Girls | Basketball\nSemones Family YMCA\n
URL;VALUE=URI:https://ygametime.com/branch/semones/sports/2021-winter-basketball/11391/?utm_medium=calendar&utm_source=team_cal&utm_content=league_url#game-268596
LOCATION:Good Shepherd Episcopal School 
BEGIN:VALARM
TRIGGER:-P2H
ACTION:DISPLAY
DESCRIPTION:Shooting Stars - Black (M. Gonzalez) vs GSES Shooting Stars (C. Flume)
END:VALARM
END:VEVENT
BEGIN:VEVENT
UID:semones-268614@ygametime.com
DTSTAMP:20220122T220000Z
DTSTART;TZID=America/Chicago:20220122T160000
DURATION:PT0H60M0S
SUMMARY:GSES Shooting Stars (C. Flume) vs Shooting Stars - Yellow (J. Landry)
DESCRIPTION:3rd Grade Girls | Basketball\nSemones Family YMCA\n
URL;VALUE=URI:https://ygametime.com/branch/semones/sports/2021-winter-basketball/11391/?utm_medium=calendar&utm_source=team_cal&utm_content=league_url#game-268614
LOCATION:Good Shepherd Episcopal School 
BEGIN:VALARM
TRIGGER:-P2H
ACTION:DISPLAY
DESCRIPTION:GSES Shooting Stars (C. Flume) vs Shooting Stars - Yellow (J. Landry)
END:VALARM
END:VEVENT
BEGIN:VEVENT
UID:semones-268622@ygametime.com
DTSTAMP:20220129T210000Z
DTSTART;TZID=America/Chicago:20220129T150000
DURATION:PT0H60M0S
SUMMARY:Crusaders White (E. Ubinas) vs GSES Shooting Stars (C. Flume)
DESCRIPTION:3rd Grade Girls | Basketball\nSemones Family YMCA\n
URL;VALUE=URI:https://ygametime.com/branch/semones/sports/2021-winter-basketball/11391/?utm_medium=calendar&utm_source=team_cal&utm_content=league_url#game-268622
LOCATION:Good Shepherd Episcopal School 
BEGIN:VALARM
TRIGGER:-P2H
ACTION:DISPLAY
DESCRIPTION:Crusaders White (E. Ubinas) vs GSES Shooting Stars (C. Flume)
END:VALARM
END:VEVENT
BEGIN:VEVENT
UID:semones-268572@ygametime.com
DTSTAMP:20220209T010000Z
DTSTART;TZID=America/Chicago:20220208T190000
DURATION:PT0H60M0S
SUMMARY:GSES Shooting Stars (C. Flume) vs Dunkin' Daisies (M. Hardy)
DESCRIPTION:3rd Grade Girls | Basketball\nSemones Family YMCA\n
URL;VALUE=URI:https://ygametime.com/branch/semones/sports/2021-winter-basketball/11391/?utm_medium=calendar&utm_source=team_cal&utm_content=league_url#game-268572
LOCATION:Semones Family YMCA - Full Court
BEGIN:VALARM
TRIGGER:-P2H
ACTION:DISPLAY
DESCRIPTION:GSES Shooting Stars (C. Flume) vs Dunkin' Daisies (M. Hardy)
END:VALARM
END:VEVENT
BEGIN:VEVENT
UID:semones-268630@ygametime.com
DTSTAMP:20220219T190000Z
DTSTART;TZID=America/Chicago:20220219T130000
DURATION:PT0H60M0S
SUMMARY:GSES Shooting Stars (C. Flume) vs Daisy Fire (P. O'Brien)
DESCRIPTION:3rd Grade Girls | Basketball\nSemones Family YMCA\n
URL;VALUE=URI:https://ygametime.com/branch/semones/sports/2021-winter-basketball/11391/?utm_medium=calendar&utm_source=team_cal&utm_content=league_url#game-268630
LOCATION:Good Shepherd Episcopal School 
BEGIN:VALARM
TRIGGER:-P2H
ACTION:DISPLAY
DESCRIPTION:GSES Shooting Stars (C. Flume) vs Daisy Fire (P. O'Brien)
END:VALARM
END:VEVENT
END:VCALENDAR

