BEGIN:VCALENDAR
VERSION:2.0
PRODID:-//YGAMETIME.com//YGT iCal Creator//EN
METHOD:PUBLISH
X-PUBLISHED-TTL:PT6H
REFRESH-INTERVAL;VALUE=DURATION:PT6H
CALSCALE:GREGORIAN
X-WR-CALNAME:YGAMETIME CALENDAR
BEGIN:VTIMEZONE
TZID:America/Chicago
X-LIC-LOCATION:America/Chicago
BEGIN:DAYLIGHT
TZOFFSETFROM:-0600
TZOFFSETTO:-0500
TZNAME:CDT
DTSTART:19700308T020000
RRULE:FREQ=YEARLY;BYMONTH=3;BYDAY=2SU
END:DAYLIGHT
BEGIN:STANDARD
TZOFFSETFROM:-0500
TZOFFSETTO:-0600
TZNAME:CST
DTSTART:19701101T020000
RRULE:FREQ=YEARLY;BYMONTH=11;BYDAY=1SU
END:STANDARD
END:VTIMEZONE
BEGIN:VEVENT
UID:semones-268573@ygametime.com
DTSTAMP:20211211T200000Z
DTSTART;TZID=America/Chicago:20211211T140000
DURATION:PT0H60M0S
SUMMARY:Greenhill Hornets (C. Lazard) vs ESD Eagles (T. Crowell)
DESCRIPTION:3rd Grade Girls | Basketball\nSemones Family YMCA\n
URL;VALUE=URI:https://ygametime.com/branch/semones/sports/2021-winter-basketball/11391/?utm_medium=calendar&utm_source=team_cal&utm_content=league_url#game-268573
LOCATION:Good Shepherd Episcopal School 
BEGIN:VALARM
TRIGGER:-P2H
ACTION:DISPLAY
DESCRIPTION:Greenhill Hornets (C. Lazard) vs ESD Eagles (T. Crowell)
END:VALARM
END:VEVENT
BEGIN:VEVENT
UID:semones-268581@ygametime.com
DTSTAMP:20211218T190000Z
DTSTART;TZID=America/Chicago:20211218T130000
DURATION:PT0H60M0S
SUMMARY:ESD Eagles (T. Crowell) vs Grace Ponies (K. Whitten)
DESCRIPTION:3rd Grade Girls | Basketball\nSemones Family YMCA\n
URL;VALUE=URI:https://ygametime.com/branch/semones/sports/2021-winter-basketball/11391/?utm_medium=calendar&utm_source=team_cal&utm_content=league_url#game-268581
LOCATION:Good Shepherd Episcopal School 
BEGIN:VALARM
TRIGGER:-P2H
ACTION:DISPLAY
DESCRIPTION:ESD Eagles (T. Crowell) vs Grace Ponies (K. Whitten)
END:VALARM
END:VEVENT
BEGIN:VEVENT
UID:semones-268597@ygametime.com
DTSTAMP:20220115T160000Z
DTSTART;TZID=America/Chicago:20220115T100000
DURATION:PT0H60M0S
SUMMARY:ESD Eagles (T. Crowell) vs Spartan Ballers (F. Gibson)
DESCRIPTION:3rd Grade Girls | Basketball\nSemones Family YMCA\n
URL;VALUE=URI:https://ygametime.com/branch/semones/sports/2021-winter-basketball/11391/?utm_medium=calendar&utm_source=team_cal&utm_content=league_url#game-268597
LOCATION:Good Shepherd Episcopal School 
BEGIN:VALARM
TRIGGER:-P2H
ACTION:DISPLAY
DESCRIPTION:ESD Eagles (T. Crowell) vs Spartan Ballers (F. Gibson)
END:VALARM
END:VEVENT
BEGIN:VEVENT
UID:semones-268605@ygametime.com
DTSTAMP:20220122T140000Z
DTSTART;TZID=America/Chicago:20220122T080000
DURATION:PT0H60M0S
SUMMARY:Crusaders Red (B. Walton) vs ESD Eagles (T. Crowell)
DESCRIPTION:3rd Grade Girls | Basketball\nSemones Family YMCA\n
URL;VALUE=URI:https://ygametime.com/branch/semones/sports/2021-winter-basketball/11391/?utm_medium=calendar&utm_source=team_cal&utm_content=league_url#game-268605
LOCATION:Good Shepherd Episcopal School 
BEGIN:VALARM
TRIGGER:-P2H
ACTION:DISPLAY
DESCRIPTION:Crusaders Red (B. Walton) vs ESD Eagles (T. Crowell)
END:VALARM
END:VEVENT
BEGIN:VEVENT
UID:semones-268623@ygametime.com
DTSTAMP:20220129T160000Z
DTSTART;TZID=America/Chicago:20220129T100000
DURATION:PT0H60M0S
SUMMARY:ESD Eagles (T. Crowell) vs Bearcat Ballers 1 (J. Regas)
DESCRIPTION:3rd Grade Girls | Basketball\nSemones Family YMCA\n
URL;VALUE=URI:https://ygametime.com/branch/semones/sports/2021-winter-basketball/11391/?utm_medium=calendar&utm_source=team_cal&utm_content=league_url#game-268623
LOCATION:Good Shepherd Episcopal School 
BEGIN:VALARM
TRIGGER:-P2H
ACTION:DISPLAY
DESCRIPTION:ESD Eagles (T. Crowell) vs Bearcat Ballers 1 (J. Regas)
END:VALARM
END:VEVENT
BEGIN:VEVENT
UID:semones-268589@ygametime.com
DTSTAMP:20220210T000000Z
DTSTART;TZID=America/Chicago:20220209T180000
DURATION:PT0H60M0S
SUMMARY:Spartanettes (J. Polzer) vs ESD Eagles (T. Crowell)
DESCRIPTION:3rd Grade Girls | Basketball\nSemones Family YMCA\n
URL;VALUE=URI:https://ygametime.com/branch/semones/sports/2021-winter-basketball/11391/?utm_medium=calendar&utm_source=team_cal&utm_content=league_url#game-268589
LOCATION:Semones Family YMCA - Court 2
BEGIN:VALARM
TRIGGER:-P2H
ACTION:DISPLAY
DESCRIPTION:Spartanettes (J. Polzer) vs ESD Eagles (T. Crowell)
END:VALARM
END:VEVENT
BEGIN:VEVENT
UID:semones-268631@ygametime.com
DTSTAMP:20220219T200000Z
DTSTART;TZID=America/Chicago:20220219T140000
DURATION:PT0H60M0S
SUMMARY:Crusaders Gold (T. Bledsoe) vs ESD Eagles (T. Crowell)
DESCRIPTION:3rd Grade Girls | Basketball\nSemones Family YMCA\n
URL;VALUE=URI:https://ygametime.com/branch/semones/sports/2021-winter-basketball/11391/?utm_medium=calendar&utm_source=team_cal&utm_content=league_url#game-268631
LOCATION:Good Shepherd Episcopal School 
BEGIN:VALARM
TRIGGER:-P2H
ACTION:DISPLAY
DESCRIPTION:Crusaders Gold (T. Bledsoe) vs ESD Eagles (T. Crowell)
END:VALARM
END:VEVENT
END:VCALENDAR

