BEGIN:VCALENDAR
VERSION:2.0
PRODID:-//YGAMETIME.com//YGT iCal Creator//EN
METHOD:PUBLISH
X-PUBLISHED-TTL:PT6H
REFRESH-INTERVAL;VALUE=DURATION:PT6H
CALSCALE:GREGORIAN
X-WR-CALNAME:YGAMETIME CALENDAR
BEGIN:VTIMEZONE
TZID:America/Chicago
X-LIC-LOCATION:America/Chicago
BEGIN:DAYLIGHT
TZOFFSETFROM:-0600
TZOFFSETTO:-0500
TZNAME:CDT
DTSTART:19700308T020000
RRULE:FREQ=YEARLY;BYMONTH=3;BYDAY=2SU
END:DAYLIGHT
BEGIN:STANDARD
TZOFFSETFROM:-0500
TZOFFSETTO:-0600
TZNAME:CST
DTSTART:19701101T020000
RRULE:FREQ=YEARLY;BYMONTH=11;BYDAY=1SU
END:STANDARD
END:VTIMEZONE
BEGIN:VEVENT
UID:semones-268793@ygametime.com
DTSTAMP:20211212T180000Z
DTSTART;TZID=America/Chicago:20211212T120000
DURATION:PT0H60M0S
SUMMARY:Kramer (R. Bushart) vs Sudie Lions (D. Bailey)
DESCRIPTION:4th Grade Girls | Basketball\nSemones Family YMCA\n
URL;VALUE=URI:https://ygametime.com/branch/semones/sports/2021-winter-basketball/11390/?utm_medium=calendar&utm_source=team_cal&utm_content=league_url#game-268793
LOCATION:Good Shepherd Episcopal School 
BEGIN:VALARM
TRIGGER:-P2H
ACTION:DISPLAY
DESCRIPTION:Kramer (R. Bushart) vs Sudie Lions (D. Bailey)
END:VALARM
END:VEVENT
BEGIN:VEVENT
UID:semones-268806@ygametime.com
DTSTAMP:20211219T230000Z
DTSTART;TZID=America/Chicago:20211219T170000
DURATION:PT0H60M0S
SUMMARY:Sudie Lions (D. Bailey) vs Dragons (C. Bricker)
DESCRIPTION:4th Grade Girls | Basketball\nSemones Family YMCA\n
URL;VALUE=URI:https://ygametime.com/branch/semones/sports/2021-winter-basketball/11390/?utm_medium=calendar&utm_source=team_cal&utm_content=league_url#game-268806
LOCATION:Good Shepherd Episcopal School 
BEGIN:VALARM
TRIGGER:-P2H
ACTION:DISPLAY
DESCRIPTION:Sudie Lions (D. Bailey) vs Dragons (C. Bricker)
END:VALARM
END:VEVENT
BEGIN:VEVENT
UID:semones-268812@ygametime.com
DTSTAMP:20220109T230000Z
DTSTART;TZID=America/Chicago:20220109T170000
DURATION:PT0H60M0S
SUMMARY:Hoopsie Daisies (R. Savage) vs Sudie Lions (D. Bailey)
DESCRIPTION:4th Grade Girls | Basketball\nSemones Family YMCA\n
URL;VALUE=URI:https://ygametime.com/branch/semones/sports/2021-winter-basketball/11390/?utm_medium=calendar&utm_source=team_cal&utm_content=league_url#game-268812
LOCATION:Good Shepherd Episcopal School 
BEGIN:VALARM
TRIGGER:-P2H
ACTION:DISPLAY
DESCRIPTION:Hoopsie Daisies (R. Savage) vs Sudie Lions (D. Bailey)
END:VALARM
END:VEVENT
BEGIN:VEVENT
UID:semones-268818@ygametime.com
DTSTAMP:20220116T220000Z
DTSTART;TZID=America/Chicago:20220116T160000
DURATION:PT0H60M0S
SUMMARY:Sudie Lions (D. Bailey) vs Parish Panthers (A. Martinez)
DESCRIPTION:4th Grade Girls | Basketball\nSemones Family YMCA\n
URL;VALUE=URI:https://ygametime.com/branch/semones/sports/2021-winter-basketball/11390/?utm_medium=calendar&utm_source=team_cal&utm_content=league_url#game-268818
LOCATION:Good Shepherd Episcopal School 
BEGIN:VALARM
TRIGGER:-P2H
ACTION:DISPLAY
DESCRIPTION:Sudie Lions (D. Bailey) vs Parish Panthers (A. Martinez)
END:VALARM
END:VEVENT
BEGIN:VEVENT
UID:semones-268824@ygametime.com
DTSTAMP:20220123T210000Z
DTSTART;TZID=America/Chicago:20220123T150000
DURATION:PT0H60M0S
SUMMARY:Lighting (S. Guillory) vs Sudie Lions (D. Bailey)
DESCRIPTION:4th Grade Girls | Basketball\nSemones Family YMCA\n
URL;VALUE=URI:https://ygametime.com/branch/semones/sports/2021-winter-basketball/11390/?utm_medium=calendar&utm_source=team_cal&utm_content=league_url#game-268824
LOCATION:Good Shepherd Episcopal School 
BEGIN:VALARM
TRIGGER:-P2H
ACTION:DISPLAY
DESCRIPTION:Lighting (S. Guillory) vs Sudie Lions (D. Bailey)
END:VALARM
END:VEVENT
BEGIN:VEVENT
UID:semones-268830@ygametime.com
DTSTAMP:20220130T200000Z
DTSTART;TZID=America/Chicago:20220130T140000
DURATION:PT0H60M0S
SUMMARY:Sudie Lions (D. Bailey) vs DIS 4th Girls (Coach Phil)
DESCRIPTION:4th Grade Girls | Basketball\nSemones Family YMCA\n
URL;VALUE=URI:https://ygametime.com/branch/semones/sports/2021-winter-basketball/11390/?utm_medium=calendar&utm_source=team_cal&utm_content=league_url#game-268830
LOCATION:Good Shepherd Episcopal School 
BEGIN:VALARM
TRIGGER:-P2H
ACTION:DISPLAY
DESCRIPTION:Sudie Lions (D. Bailey) vs DIS 4th Girls (Coach Phil)
END:VALARM
END:VEVENT
BEGIN:VEVENT
UID:semones-268836@ygametime.com
DTSTAMP:20220206T190000Z
DTSTART;TZID=America/Chicago:20220206T130000
DURATION:PT0H60M0S
SUMMARY:St. Monica Lady Bearcats (S. Vattamattam) vs Sudie Lions (D. Bailey)
DESCRIPTION:4th Grade Girls | Basketball\nSemones Family YMCA\n
URL;VALUE=URI:https://ygametime.com/branch/semones/sports/2021-winter-basketball/11390/?utm_medium=calendar&utm_source=team_cal&utm_content=league_url#game-268836
LOCATION:Good Shepherd Episcopal School 
BEGIN:VALARM
TRIGGER:-P2H
ACTION:DISPLAY
DESCRIPTION:St. Monica Lady Bearcats (S. Vattamattam) vs Sudie Lions (D. Bailey)
END:VALARM
END:VEVENT
END:VCALENDAR

