BEGIN:VCALENDAR
VERSION:2.0
PRODID:-//YGAMETIME.com//YGT iCal Creator//EN
METHOD:PUBLISH
X-PUBLISHED-TTL:PT6H
REFRESH-INTERVAL;VALUE=DURATION:PT6H
CALSCALE:GREGORIAN
X-WR-CALNAME:YGAMETIME CALENDAR
BEGIN:VTIMEZONE
TZID:America/Chicago
X-LIC-LOCATION:America/Chicago
BEGIN:DAYLIGHT
TZOFFSETFROM:-0600
TZOFFSETTO:-0500
TZNAME:CDT
DTSTART:19700308T020000
RRULE:FREQ=YEARLY;BYMONTH=3;BYDAY=2SU
END:DAYLIGHT
BEGIN:STANDARD
TZOFFSETFROM:-0500
TZOFFSETTO:-0600
TZNAME:CST
DTSTART:19701101T020000
RRULE:FREQ=YEARLY;BYMONTH=11;BYDAY=1SU
END:STANDARD
END:VTIMEZONE
BEGIN:VEVENT
UID:semones-268794@ygametime.com
DTSTAMP:20211213T000000Z
DTSTART;TZID=America/Chicago:20211212T180000
DURATION:PT0H60M0S
SUMMARY:Dragons (C. Bricker) vs Sudie Lions (F. Feuille)
DESCRIPTION:4th Grade Girls | Basketball\nSemones Family YMCA\n
URL;VALUE=URI:https://ygametime.com/branch/semones/sports/2021-winter-basketball/11390/?utm_medium=calendar&utm_source=team_cal&utm_content=league_url#game-268794
LOCATION:Good Shepherd Episcopal School 
BEGIN:VALARM
TRIGGER:-P2H
ACTION:DISPLAY
DESCRIPTION:Dragons (C. Bricker) vs Sudie Lions (F. Feuille)
END:VALARM
END:VEVENT
BEGIN:VEVENT
UID:semones-268801@ygametime.com
DTSTAMP:20211219T210000Z
DTSTART;TZID=America/Chicago:20211219T150000
DURATION:PT0H60M0S
SUMMARY:Sudie Lions (F. Feuille) vs Parish Panthers (A. Martinez)
DESCRIPTION:4th Grade Girls | Basketball\nSemones Family YMCA\n
URL;VALUE=URI:https://ygametime.com/branch/semones/sports/2021-winter-basketball/11390/?utm_medium=calendar&utm_source=team_cal&utm_content=league_url#game-268801
LOCATION:Good Shepherd Episcopal School 
BEGIN:VALARM
TRIGGER:-P2H
ACTION:DISPLAY
DESCRIPTION:Sudie Lions (F. Feuille) vs Parish Panthers (A. Martinez)
END:VALARM
END:VEVENT
BEGIN:VEVENT
UID:semones-268808@ygametime.com
DTSTAMP:20220109T190000Z
DTSTART;TZID=America/Chicago:20220109T130000
DURATION:PT0H60M0S
SUMMARY:DIS 4th Girls (Coach Phil) vs Sudie Lions (F. Feuille)
DESCRIPTION:4th Grade Girls | Basketball\nSemones Family YMCA\n
URL;VALUE=URI:https://ygametime.com/branch/semones/sports/2021-winter-basketball/11390/?utm_medium=calendar&utm_source=team_cal&utm_content=league_url#game-268808
LOCATION:Good Shepherd Episcopal School 
BEGIN:VALARM
TRIGGER:-P2H
ACTION:DISPLAY
DESCRIPTION:DIS 4th Girls (Coach Phil) vs Sudie Lions (F. Feuille)
END:VALARM
END:VEVENT
BEGIN:VEVENT
UID:semones-268819@ygametime.com
DTSTAMP:20220116T230000Z
DTSTART;TZID=America/Chicago:20220116T170000
DURATION:PT0H60M0S
SUMMARY:Lighting (S. Guillory) vs Sudie Lions (F. Feuille)
DESCRIPTION:4th Grade Girls | Basketball\nSemones Family YMCA\n
URL;VALUE=URI:https://ygametime.com/branch/semones/sports/2021-winter-basketball/11390/?utm_medium=calendar&utm_source=team_cal&utm_content=league_url#game-268819
LOCATION:Good Shepherd Episcopal School 
BEGIN:VALARM
TRIGGER:-P2H
ACTION:DISPLAY
DESCRIPTION:Lighting (S. Guillory) vs Sudie Lions (F. Feuille)
END:VALARM
END:VEVENT
BEGIN:VEVENT
UID:semones-268821@ygametime.com
DTSTAMP:20220123T230000Z
DTSTART;TZID=America/Chicago:20220123T170000
DURATION:PT0H60M0S
SUMMARY:Rim Rockets (R. Hanratty) vs Sudie Lions (F. Feuille)
DESCRIPTION:4th Grade Girls | Basketball\nSemones Family YMCA\n
URL;VALUE=URI:https://ygametime.com/branch/semones/sports/2021-winter-basketball/11390/?utm_medium=calendar&utm_source=team_cal&utm_content=league_url#game-268821
LOCATION:Good Shepherd Episcopal School 
BEGIN:VALARM
TRIGGER:-P2H
ACTION:DISPLAY
DESCRIPTION:Rim Rockets (R. Hanratty) vs Sudie Lions (F. Feuille)
END:VALARM
END:VEVENT
BEGIN:VEVENT
UID:semones-268828@ygametime.com
DTSTAMP:20220130T180000Z
DTSTART;TZID=America/Chicago:20220130T120000
DURATION:PT0H60M0S
SUMMARY:Sudie Lions (F. Feuille) vs Hoopsie Daisies (R. Savage)
DESCRIPTION:4th Grade Girls | Basketball\nSemones Family YMCA\n
URL;VALUE=URI:https://ygametime.com/branch/semones/sports/2021-winter-basketball/11390/?utm_medium=calendar&utm_source=team_cal&utm_content=league_url#game-268828
LOCATION:Good Shepherd Episcopal School 
BEGIN:VALARM
TRIGGER:-P2H
ACTION:DISPLAY
DESCRIPTION:Sudie Lions (F. Feuille) vs Hoopsie Daisies (R. Savage)
END:VALARM
END:VEVENT
BEGIN:VEVENT
UID:semones-268835@ygametime.com
DTSTAMP:20220208T000000Z
DTSTART;TZID=America/Chicago:20220207T180000
DURATION:PT0H60M0S
SUMMARY:Dunking Daisies (D. Allgood) vs Sudie Lions (F. Feuille)
DESCRIPTION:4th Grade Girls | Basketball\nSemones Family YMCA\n
URL;VALUE=URI:https://ygametime.com/branch/semones/sports/2021-winter-basketball/11390/?utm_medium=calendar&utm_source=team_cal&utm_content=league_url#game-268835
LOCATION:Good Shepherd Episcopal School 
BEGIN:VALARM
TRIGGER:-P2H
ACTION:DISPLAY
DESCRIPTION:Dunking Daisies (D. Allgood) vs Sudie Lions (F. Feuille)
END:VALARM
END:VEVENT
BEGIN:VEVENT
UID:semones-268848@ygametime.com
DTSTAMP:20220214T000000Z
DTSTART;TZID=America/Chicago:20220213T180000
DURATION:PT0H60M0S
SUMMARY:Sudie Lions (F. Feuille) vs Kramer (R. Bushart)
DESCRIPTION:4th Grade Girls | Basketball\nSemones Family YMCA\n
URL;VALUE=URI:https://ygametime.com/branch/semones/sports/2021-winter-basketball/11390/?utm_medium=calendar&utm_source=team_cal&utm_content=league_url#game-268848
LOCATION:Good Shepherd Episcopal School 
BEGIN:VALARM
TRIGGER:-P2H
ACTION:DISPLAY
DESCRIPTION:Sudie Lions (F. Feuille) vs Kramer (R. Bushart)
END:VALARM
END:VEVENT
END:VCALENDAR

