BEGIN:VCALENDAR
VERSION:2.0
PRODID:-//YGAMETIME.com//YGT iCal Creator//EN
METHOD:PUBLISH
X-PUBLISHED-TTL:PT6H
REFRESH-INTERVAL;VALUE=DURATION:PT6H
CALSCALE:GREGORIAN
X-WR-CALNAME:YGAMETIME CALENDAR
BEGIN:VTIMEZONE
TZID:America/Chicago
X-LIC-LOCATION:America/Chicago
BEGIN:DAYLIGHT
TZOFFSETFROM:-0600
TZOFFSETTO:-0500
TZNAME:CDT
DTSTART:19700308T020000
RRULE:FREQ=YEARLY;BYMONTH=3;BYDAY=2SU
END:DAYLIGHT
BEGIN:STANDARD
TZOFFSETFROM:-0500
TZOFFSETTO:-0600
TZNAME:CST
DTSTART:19701101T020000
RRULE:FREQ=YEARLY;BYMONTH=11;BYDAY=1SU
END:STANDARD
END:VTIMEZONE
BEGIN:VEVENT
UID:semones-268796@ygametime.com
DTSTAMP:20211212T210000Z
DTSTART;TZID=America/Chicago:20211212T150000
DURATION:PT0H60M0S
SUMMARY:Parish Panthers (A. Martinez) vs GSES Cougar Ballers (W. Dunwoody)
DESCRIPTION:4th Grade Girls | Basketball\nSemones Family YMCA\n
URL;VALUE=URI:https://ygametime.com/branch/semones/sports/2021-winter-basketball/11390/?utm_medium=calendar&utm_source=team_cal&utm_content=league_url#game-268796
LOCATION:Good Shepherd Episcopal School 
BEGIN:VALARM
TRIGGER:-P2H
ACTION:DISPLAY
DESCRIPTION:Parish Panthers (A. Martinez) vs GSES Cougar Ballers (W. Dunwoody)
END:VALARM
END:VEVENT
BEGIN:VEVENT
UID:semones-268816@ygametime.com
DTSTAMP:20220116T200000Z
DTSTART;TZID=America/Chicago:20220116T140000
DURATION:PT0H60M0S
SUMMARY:GSES Cougar Ballers (W. Dunwoody) vs Rim Rockets (R. Hanratty)
DESCRIPTION:4th Grade Girls | Basketball\nSemones Family YMCA\n
URL;VALUE=URI:https://ygametime.com/branch/semones/sports/2021-winter-basketball/11390/?utm_medium=calendar&utm_source=team_cal&utm_content=league_url#game-268816
LOCATION:Good Shepherd Episcopal School 
BEGIN:VALARM
TRIGGER:-P2H
ACTION:DISPLAY
DESCRIPTION:GSES Cougar Ballers (W. Dunwoody) vs Rim Rockets (R. Hanratty)
END:VALARM
END:VEVENT
BEGIN:VEVENT
UID:semones-268823@ygametime.com
DTSTAMP:20220123T200000Z
DTSTART;TZID=America/Chicago:20220123T140000
DURATION:PT0H60M0S
SUMMARY:Hoopsie Daisies (R. Savage) vs GSES Cougar Ballers (W. Dunwoody)
DESCRIPTION:4th Grade Girls | Basketball\nSemones Family YMCA\n
URL;VALUE=URI:https://ygametime.com/branch/semones/sports/2021-winter-basketball/11390/?utm_medium=calendar&utm_source=team_cal&utm_content=league_url#game-268823
LOCATION:Good Shepherd Episcopal School 
BEGIN:VALARM
TRIGGER:-P2H
ACTION:DISPLAY
DESCRIPTION:Hoopsie Daisies (R. Savage) vs GSES Cougar Ballers (W. Dunwoody)
END:VALARM
END:VEVENT
BEGIN:VEVENT
UID:semones-268829@ygametime.com
DTSTAMP:20220130T190000Z
DTSTART;TZID=America/Chicago:20220130T130000
DURATION:PT0H60M0S
SUMMARY:GSES Cougar Ballers (W. Dunwoody) vs Dunking Daisies (D. Allgood)
DESCRIPTION:4th Grade Girls | Basketball\nSemones Family YMCA\n
URL;VALUE=URI:https://ygametime.com/branch/semones/sports/2021-winter-basketball/11390/?utm_medium=calendar&utm_source=team_cal&utm_content=league_url#game-268829
LOCATION:Good Shepherd Episcopal School 
BEGIN:VALARM
TRIGGER:-P2H
ACTION:DISPLAY
DESCRIPTION:GSES Cougar Ballers (W. Dunwoody) vs Dunking Daisies (D. Allgood)
END:VALARM
END:VEVENT
BEGIN:VEVENT
UID:semones-268803@ygametime.com
DTSTAMP:20220204T010000Z
DTSTART;TZID=America/Chicago:20220203T190000
DURATION:PT0H60M0S
SUMMARY:GSES Cougar Ballers (W. Dunwoody) vs DIS 4th Girls (Coach Phil)
DESCRIPTION:4th Grade Girls | Basketball\nSemones Family YMCA\n
URL;VALUE=URI:https://ygametime.com/branch/semones/sports/2021-winter-basketball/11390/?utm_medium=calendar&utm_source=team_cal&utm_content=league_url#game-268803
LOCATION:Semones Family YMCA - Full Court
BEGIN:VALARM
TRIGGER:-P2H
ACTION:DISPLAY
DESCRIPTION:GSES Cougar Ballers (W. Dunwoody) vs DIS 4th Girls (Coach Phil)
END:VALARM
END:VEVENT
BEGIN:VEVENT
UID:semones-268841@ygametime.com
DTSTAMP:20220207T000000Z
DTSTART;TZID=America/Chicago:20220206T180000
DURATION:PT0H60M0S
SUMMARY:Kramer (R. Bushart) vs GSES Cougar Ballers (W. Dunwoody)
DESCRIPTION:4th Grade Girls | Basketball\nSemones Family YMCA\n
URL;VALUE=URI:https://ygametime.com/branch/semones/sports/2021-winter-basketball/11390/?utm_medium=calendar&utm_source=team_cal&utm_content=league_url#game-268841
LOCATION:Good Shepherd Episcopal School 
BEGIN:VALARM
TRIGGER:-P2H
ACTION:DISPLAY
DESCRIPTION:Kramer (R. Bushart) vs GSES Cougar Ballers (W. Dunwoody)
END:VALARM
END:VEVENT
BEGIN:VEVENT
UID:semones-268846@ygametime.com
DTSTAMP:20220213T220000Z
DTSTART;TZID=America/Chicago:20220213T160000
DURATION:PT0H60M0S
SUMMARY:GSES Cougar Ballers (W. Dunwoody) vs Dragons (C. Bricker)
DESCRIPTION:4th Grade Girls | Basketball\nSemones Family YMCA\n
URL;VALUE=URI:https://ygametime.com/branch/semones/sports/2021-winter-basketball/11390/?utm_medium=calendar&utm_source=team_cal&utm_content=league_url#game-268846
LOCATION:Good Shepherd Episcopal School 
BEGIN:VALARM
TRIGGER:-P2H
ACTION:DISPLAY
DESCRIPTION:GSES Cougar Ballers (W. Dunwoody) vs Dragons (C. Bricker)
END:VALARM
END:VEVENT
END:VCALENDAR

