BEGIN:VCALENDAR
VERSION:2.0
PRODID:-//YGAMETIME.com//YGT iCal Creator//EN
METHOD:PUBLISH
X-PUBLISHED-TTL:PT6H
REFRESH-INTERVAL;VALUE=DURATION:PT6H
CALSCALE:GREGORIAN
X-WR-CALNAME:YGAMETIME CALENDAR
BEGIN:VTIMEZONE
TZID:America/Chicago
X-LIC-LOCATION:America/Chicago
BEGIN:DAYLIGHT
TZOFFSETFROM:-0600
TZOFFSETTO:-0500
TZNAME:CDT
DTSTART:19700308T020000
RRULE:FREQ=YEARLY;BYMONTH=3;BYDAY=2SU
END:DAYLIGHT
BEGIN:STANDARD
TZOFFSETFROM:-0500
TZOFFSETTO:-0600
TZNAME:CST
DTSTART:19701101T020000
RRULE:FREQ=YEARLY;BYMONTH=11;BYDAY=1SU
END:STANDARD
END:VTIMEZONE
BEGIN:VEVENT
UID:semones-268797@ygametime.com
DTSTAMP:20211212T220000Z
DTSTART;TZID=America/Chicago:20211212T160000
DURATION:PT0H60M0S
SUMMARY:Hoopsie Daisies (R. Savage) vs Lighting (S. Guillory)
DESCRIPTION:4th Grade Girls | Basketball\nSemones Family YMCA\n
URL;VALUE=URI:https://ygametime.com/branch/semones/sports/2021-winter-basketball/11390/?utm_medium=calendar&utm_source=team_cal&utm_content=league_url#game-268797
LOCATION:Good Shepherd Episcopal School 
BEGIN:VALARM
TRIGGER:-P2H
ACTION:DISPLAY
DESCRIPTION:Hoopsie Daisies (R. Savage) vs Lighting (S. Guillory)
END:VALARM
END:VEVENT
BEGIN:VEVENT
UID:semones-268804@ygametime.com
DTSTAMP:20211219T220000Z
DTSTART;TZID=America/Chicago:20211219T160000
DURATION:PT0H60M0S
SUMMARY:Rim Rockets 2 (R. Hanratty) vs Hoopsie Daisies (R. Savage)
DESCRIPTION:4th Grade Girls | Basketball\nSemones Family YMCA\n
URL;VALUE=URI:https://ygametime.com/branch/semones/sports/2021-winter-basketball/11390/?utm_medium=calendar&utm_source=team_cal&utm_content=league_url#game-268804
LOCATION:Good Shepherd Episcopal School 
BEGIN:VALARM
TRIGGER:-P2H
ACTION:DISPLAY
DESCRIPTION:Rim Rockets 2 (R. Hanratty) vs Hoopsie Daisies (R. Savage)
END:VALARM
END:VEVENT
BEGIN:VEVENT
UID:semones-268810@ygametime.com
DTSTAMP:20220109T210000Z
DTSTART;TZID=America/Chicago:20220109T150000
DURATION:PT0H60M0S
SUMMARY:Hoopsie Daisies (R. Savage) vs Rim Rockets 2 (R. Hanratty)
DESCRIPTION:4th Grade Girls | Basketball\nSemones Family YMCA\n
URL;VALUE=URI:https://ygametime.com/branch/semones/sports/2021-winter-basketball/11390/?utm_medium=calendar&utm_source=team_cal&utm_content=league_url#game-268810
LOCATION:Good Shepherd Episcopal School 
BEGIN:VALARM
TRIGGER:-P2H
ACTION:DISPLAY
DESCRIPTION:Hoopsie Daisies (R. Savage) vs Rim Rockets 2 (R. Hanratty)
END:VALARM
END:VEVENT
BEGIN:VEVENT
UID:semones-268812@ygametime.com
DTSTAMP:20220109T230000Z
DTSTART;TZID=America/Chicago:20220109T170000
DURATION:PT0H60M0S
SUMMARY:Hoopsie Daisies (R. Savage) vs Sudie Lions (D. Bailey)
DESCRIPTION:4th Grade Girls | Basketball\nSemones Family YMCA\n
URL;VALUE=URI:https://ygametime.com/branch/semones/sports/2021-winter-basketball/11390/?utm_medium=calendar&utm_source=team_cal&utm_content=league_url#game-268812
LOCATION:Good Shepherd Episcopal School 
BEGIN:VALARM
TRIGGER:-P2H
ACTION:DISPLAY
DESCRIPTION:Hoopsie Daisies (R. Savage) vs Sudie Lions (D. Bailey)
END:VALARM
END:VEVENT
BEGIN:VEVENT
UID:semones-268817@ygametime.com
DTSTAMP:20220116T210000Z
DTSTART;TZID=America/Chicago:20220116T150000
DURATION:PT0H60M0S
SUMMARY:Lamplighter Soaring Chickens (D. MacMahon) vs Hoopsie Daisies (R. Savage)
DESCRIPTION:4th Grade Girls | Basketball\nSemones Family YMCA\n
URL;VALUE=URI:https://ygametime.com/branch/semones/sports/2021-winter-basketball/11390/?utm_medium=calendar&utm_source=team_cal&utm_content=league_url#game-268817
LOCATION:Good Shepherd Episcopal School 
BEGIN:VALARM
TRIGGER:-P2H
ACTION:DISPLAY
DESCRIPTION:Lamplighter Soaring Chickens (D. MacMahon) vs Hoopsie Daisies (R. Savage)
END:VALARM
END:VEVENT
BEGIN:VEVENT
UID:semones-268823@ygametime.com
DTSTAMP:20220123T200000Z
DTSTART;TZID=America/Chicago:20220123T140000
DURATION:PT0H60M0S
SUMMARY:Hoopsie Daisies (R. Savage) vs GSES Cougar Ballers (W. Dunwoody)
DESCRIPTION:4th Grade Girls | Basketball\nSemones Family YMCA\n
URL;VALUE=URI:https://ygametime.com/branch/semones/sports/2021-winter-basketball/11390/?utm_medium=calendar&utm_source=team_cal&utm_content=league_url#game-268823
LOCATION:Good Shepherd Episcopal School 
BEGIN:VALARM
TRIGGER:-P2H
ACTION:DISPLAY
DESCRIPTION:Hoopsie Daisies (R. Savage) vs GSES Cougar Ballers (W. Dunwoody)
END:VALARM
END:VEVENT
BEGIN:VEVENT
UID:semones-268828@ygametime.com
DTSTAMP:20220130T180000Z
DTSTART;TZID=America/Chicago:20220130T120000
DURATION:PT0H60M0S
SUMMARY:Sudie Lions (F. Feuille) vs Hoopsie Daisies (R. Savage)
DESCRIPTION:4th Grade Girls | Basketball\nSemones Family YMCA\n
URL;VALUE=URI:https://ygametime.com/branch/semones/sports/2021-winter-basketball/11390/?utm_medium=calendar&utm_source=team_cal&utm_content=league_url#game-268828
LOCATION:Good Shepherd Episcopal School 
BEGIN:VALARM
TRIGGER:-P2H
ACTION:DISPLAY
DESCRIPTION:Sudie Lions (F. Feuille) vs Hoopsie Daisies (R. Savage)
END:VALARM
END:VEVENT
BEGIN:VEVENT
UID:semones-268839@ygametime.com
DTSTAMP:20220206T220000Z
DTSTART;TZID=America/Chicago:20220206T160000
DURATION:PT0H60M0S
SUMMARY:Hoopsie Daisies (R. Savage) vs Lamplighter Soaring Chickens (D. MacMahon)
DESCRIPTION:4th Grade Girls | Basketball\nSemones Family YMCA\n
URL;VALUE=URI:https://ygametime.com/branch/semones/sports/2021-winter-basketball/11390/?utm_medium=calendar&utm_source=team_cal&utm_content=league_url#game-268839
LOCATION:Good Shepherd Episcopal School 
BEGIN:VALARM
TRIGGER:-P2H
ACTION:DISPLAY
DESCRIPTION:Hoopsie Daisies (R. Savage) vs Lamplighter Soaring Chickens (D. MacMahon)
END:VALARM
END:VEVENT
BEGIN:VEVENT
UID:semones-268840@ygametime.com
DTSTAMP:20220206T230000Z
DTSTART;TZID=America/Chicago:20220206T170000
DURATION:PT0H60M0S
SUMMARY:Hoopsie Daisies (R. Savage) vs Dragons (C. Bricker)
DESCRIPTION:4th Grade Girls | Basketball\nSemones Family YMCA\n
URL;VALUE=URI:https://ygametime.com/branch/semones/sports/2021-winter-basketball/11390/?utm_medium=calendar&utm_source=team_cal&utm_content=league_url#game-268840
LOCATION:Good Shepherd Episcopal School 
BEGIN:VALARM
TRIGGER:-P2H
ACTION:DISPLAY
DESCRIPTION:Hoopsie Daisies (R. Savage) vs Dragons (C. Bricker)
END:VALARM
END:VEVENT
BEGIN:VEVENT
UID:semones-268845@ygametime.com
DTSTAMP:20220213T210000Z
DTSTART;TZID=America/Chicago:20220213T150000
DURATION:PT0H60M0S
SUMMARY:Parish Panthers (A. Martinez) vs Hoopsie Daisies (R. Savage)
DESCRIPTION:4th Grade Girls | Basketball\nSemones Family YMCA\n
URL;VALUE=URI:https://ygametime.com/branch/semones/sports/2021-winter-basketball/11390/?utm_medium=calendar&utm_source=team_cal&utm_content=league_url#game-268845
LOCATION:Good Shepherd Episcopal School 
BEGIN:VALARM
TRIGGER:-P2H
ACTION:DISPLAY
DESCRIPTION:Parish Panthers (A. Martinez) vs Hoopsie Daisies (R. Savage)
END:VALARM
END:VEVENT
END:VCALENDAR

