BEGIN:VCALENDAR
VERSION:2.0
PRODID:-//YGAMETIME.com//YGT iCal Creator//EN
METHOD:PUBLISH
X-PUBLISHED-TTL:PT6H
REFRESH-INTERVAL;VALUE=DURATION:PT6H
CALSCALE:GREGORIAN
X-WR-CALNAME:YGAMETIME CALENDAR
BEGIN:VTIMEZONE
TZID:America/Chicago
X-LIC-LOCATION:America/Chicago
BEGIN:DAYLIGHT
TZOFFSETFROM:-0600
TZOFFSETTO:-0500
TZNAME:CDT
DTSTART:19700308T020000
RRULE:FREQ=YEARLY;BYMONTH=3;BYDAY=2SU
END:DAYLIGHT
BEGIN:STANDARD
TZOFFSETFROM:-0500
TZOFFSETTO:-0600
TZNAME:CST
DTSTART:19701101T020000
RRULE:FREQ=YEARLY;BYMONTH=11;BYDAY=1SU
END:STANDARD
END:VTIMEZONE
BEGIN:VEVENT
UID:semones-268799@ygametime.com
DTSTAMP:20211212T190000Z
DTSTART;TZID=America/Chicago:20211212T130000
DURATION:PT0H60M0S
SUMMARY:Rim Rockets (R. Hanratty) vs St. Monica Lady Bearcats (S. Vattamattam)
DESCRIPTION:4th Grade Girls | Basketball\nSemones Family YMCA\n
URL;VALUE=URI:https://ygametime.com/branch/semones/sports/2021-winter-basketball/11390/?utm_medium=calendar&utm_source=team_cal&utm_content=league_url#game-268799
LOCATION:Good Shepherd Episcopal School 
BEGIN:VALARM
TRIGGER:-P2H
ACTION:DISPLAY
DESCRIPTION:Rim Rockets (R. Hanratty) vs St. Monica Lady Bearcats (S. Vattamattam)
END:VALARM
END:VEVENT
BEGIN:VEVENT
UID:semones-268805@ygametime.com
DTSTAMP:20211219T190000Z
DTSTART;TZID=America/Chicago:20211219T130000
DURATION:PT0H60M0S
SUMMARY:St. Monica Lady Bearcats (S. Vattamattam) vs Rim Rockets (R. Hanratty)
DESCRIPTION:4th Grade Girls | Basketball\nSemones Family YMCA\n
URL;VALUE=URI:https://ygametime.com/branch/semones/sports/2021-winter-basketball/11390/?utm_medium=calendar&utm_source=team_cal&utm_content=league_url#game-268805
LOCATION:Good Shepherd Episcopal School 
BEGIN:VALARM
TRIGGER:-P2H
ACTION:DISPLAY
DESCRIPTION:St. Monica Lady Bearcats (S. Vattamattam) vs Rim Rockets (R. Hanratty)
END:VALARM
END:VEVENT
BEGIN:VEVENT
UID:semones-268811@ygametime.com
DTSTAMP:20220109T220000Z
DTSTART;TZID=America/Chicago:20220109T160000
DURATION:PT0H60M0S
SUMMARY:Rim Rockets (R. Hanratty) vs Lamplighter Soaring Chickens (D. MacMahon)
DESCRIPTION:4th Grade Girls | Basketball\nSemones Family YMCA\n
URL;VALUE=URI:https://ygametime.com/branch/semones/sports/2021-winter-basketball/11390/?utm_medium=calendar&utm_source=team_cal&utm_content=league_url#game-268811
LOCATION:Good Shepherd Episcopal School 
BEGIN:VALARM
TRIGGER:-P2H
ACTION:DISPLAY
DESCRIPTION:Rim Rockets (R. Hanratty) vs Lamplighter Soaring Chickens (D. MacMahon)
END:VALARM
END:VEVENT
BEGIN:VEVENT
UID:semones-268816@ygametime.com
DTSTAMP:20220116T200000Z
DTSTART;TZID=America/Chicago:20220116T140000
DURATION:PT0H60M0S
SUMMARY:GSES Cougar Ballers (W. Dunwoody) vs Rim Rockets (R. Hanratty)
DESCRIPTION:4th Grade Girls | Basketball\nSemones Family YMCA\n
URL;VALUE=URI:https://ygametime.com/branch/semones/sports/2021-winter-basketball/11390/?utm_medium=calendar&utm_source=team_cal&utm_content=league_url#game-268816
LOCATION:Good Shepherd Episcopal School 
BEGIN:VALARM
TRIGGER:-P2H
ACTION:DISPLAY
DESCRIPTION:GSES Cougar Ballers (W. Dunwoody) vs Rim Rockets (R. Hanratty)
END:VALARM
END:VEVENT
BEGIN:VEVENT
UID:semones-268821@ygametime.com
DTSTAMP:20220123T230000Z
DTSTART;TZID=America/Chicago:20220123T170000
DURATION:PT0H60M0S
SUMMARY:Rim Rockets (R. Hanratty) vs Sudie Lions (F. Feuille)
DESCRIPTION:4th Grade Girls | Basketball\nSemones Family YMCA\n
URL;VALUE=URI:https://ygametime.com/branch/semones/sports/2021-winter-basketball/11390/?utm_medium=calendar&utm_source=team_cal&utm_content=league_url#game-268821
LOCATION:Good Shepherd Episcopal School 
BEGIN:VALARM
TRIGGER:-P2H
ACTION:DISPLAY
DESCRIPTION:Rim Rockets (R. Hanratty) vs Sudie Lions (F. Feuille)
END:VALARM
END:VEVENT
BEGIN:VEVENT
UID:semones-268833@ygametime.com
DTSTAMP:20220130T230000Z
DTSTART;TZID=America/Chicago:20220130T170000
DURATION:PT0H60M0S
SUMMARY:Dragons (C. Bricker) vs Rim Rockets (R. Hanratty)
DESCRIPTION:4th Grade Girls | Basketball\nSemones Family YMCA\n
URL;VALUE=URI:https://ygametime.com/branch/semones/sports/2021-winter-basketball/11390/?utm_medium=calendar&utm_source=team_cal&utm_content=league_url#game-268833
LOCATION:Good Shepherd Episcopal School 
BEGIN:VALARM
TRIGGER:-P2H
ACTION:DISPLAY
DESCRIPTION:Dragons (C. Bricker) vs Rim Rockets (R. Hanratty)
END:VALARM
END:VEVENT
BEGIN:VEVENT
UID:semones-268838@ygametime.com
DTSTAMP:20220206T210000Z
DTSTART;TZID=America/Chicago:20220206T150000
DURATION:PT0H60M0S
SUMMARY:Rim Rockets (R. Hanratty) vs Parish Panthers (A. Martinez)
DESCRIPTION:4th Grade Girls | Basketball\nSemones Family YMCA\n
URL;VALUE=URI:https://ygametime.com/branch/semones/sports/2021-winter-basketball/11390/?utm_medium=calendar&utm_source=team_cal&utm_content=league_url#game-268838
LOCATION:Good Shepherd Episcopal School 
BEGIN:VALARM
TRIGGER:-P2H
ACTION:DISPLAY
DESCRIPTION:Rim Rockets (R. Hanratty) vs Parish Panthers (A. Martinez)
END:VALARM
END:VEVENT
BEGIN:VEVENT
UID:semones-268843@ygametime.com
DTSTAMP:20220213T190000Z
DTSTART;TZID=America/Chicago:20220213T130000
DURATION:PT0H60M0S
SUMMARY:DIS 4th Girls (Coach Phil) vs Rim Rockets (R. Hanratty)
DESCRIPTION:4th Grade Girls | Basketball\nSemones Family YMCA\n
URL;VALUE=URI:https://ygametime.com/branch/semones/sports/2021-winter-basketball/11390/?utm_medium=calendar&utm_source=team_cal&utm_content=league_url#game-268843
LOCATION:Good Shepherd Episcopal School 
BEGIN:VALARM
TRIGGER:-P2H
ACTION:DISPLAY
DESCRIPTION:DIS 4th Girls (Coach Phil) vs Rim Rockets (R. Hanratty)
END:VALARM
END:VEVENT
END:VCALENDAR

