BEGIN:VCALENDAR
VERSION:2.0
PRODID:-//YGAMETIME.com//YGT iCal Creator//EN
METHOD:PUBLISH
X-PUBLISHED-TTL:PT6H
REFRESH-INTERVAL;VALUE=DURATION:PT6H
CALSCALE:GREGORIAN
X-WR-CALNAME:YGAMETIME CALENDAR
BEGIN:VTIMEZONE
TZID:America/Chicago
X-LIC-LOCATION:America/Chicago
BEGIN:DAYLIGHT
TZOFFSETFROM:-0600
TZOFFSETTO:-0500
TZNAME:CDT
DTSTART:19700308T020000
RRULE:FREQ=YEARLY;BYMONTH=3;BYDAY=2SU
END:DAYLIGHT
BEGIN:STANDARD
TZOFFSETFROM:-0500
TZOFFSETTO:-0600
TZNAME:CST
DTSTART:19701101T020000
RRULE:FREQ=YEARLY;BYMONTH=11;BYDAY=1SU
END:STANDARD
END:VTIMEZONE
BEGIN:VEVENT
UID:semones-268804@ygametime.com
DTSTAMP:20211219T220000Z
DTSTART;TZID=America/Chicago:20211219T160000
DURATION:PT0H60M0S
SUMMARY:Rim Rockets 2 (R. Hanratty) vs Hoopsie Daisies (R. Savage)
DESCRIPTION:4th Grade Girls | Basketball\nSemones Family YMCA\n
URL;VALUE=URI:https://ygametime.com/branch/semones/sports/2021-winter-basketball/11390/?utm_medium=calendar&utm_source=team_cal&utm_content=league_url#game-268804
LOCATION:Good Shepherd Episcopal School 
BEGIN:VALARM
TRIGGER:-P2H
ACTION:DISPLAY
DESCRIPTION:Rim Rockets 2 (R. Hanratty) vs Hoopsie Daisies (R. Savage)
END:VALARM
END:VEVENT
BEGIN:VEVENT
UID:semones-268810@ygametime.com
DTSTAMP:20220109T210000Z
DTSTART;TZID=America/Chicago:20220109T150000
DURATION:PT0H60M0S
SUMMARY:Hoopsie Daisies (R. Savage) vs Rim Rockets 2 (R. Hanratty)
DESCRIPTION:4th Grade Girls | Basketball\nSemones Family YMCA\n
URL;VALUE=URI:https://ygametime.com/branch/semones/sports/2021-winter-basketball/11390/?utm_medium=calendar&utm_source=team_cal&utm_content=league_url#game-268810
LOCATION:Good Shepherd Episcopal School 
BEGIN:VALARM
TRIGGER:-P2H
ACTION:DISPLAY
DESCRIPTION:Hoopsie Daisies (R. Savage) vs Rim Rockets 2 (R. Hanratty)
END:VALARM
END:VEVENT
BEGIN:VEVENT
UID:semones-268815@ygametime.com
DTSTAMP:20220116T190000Z
DTSTART;TZID=America/Chicago:20220116T130000
DURATION:PT0H60M0S
SUMMARY:Dunking Daisies (D. Allgood) vs Rim Rockets 2 (R. Hanratty)
DESCRIPTION:4th Grade Girls | Basketball\nSemones Family YMCA\n
URL;VALUE=URI:https://ygametime.com/branch/semones/sports/2021-winter-basketball/11390/?utm_medium=calendar&utm_source=team_cal&utm_content=league_url#game-268815
LOCATION:Good Shepherd Episcopal School 
BEGIN:VALARM
TRIGGER:-P2H
ACTION:DISPLAY
DESCRIPTION:Dunking Daisies (D. Allgood) vs Rim Rockets 2 (R. Hanratty)
END:VALARM
END:VEVENT
BEGIN:VEVENT
UID:semones-268827@ygametime.com
DTSTAMP:20220124T000000Z
DTSTART;TZID=America/Chicago:20220123T180000
DURATION:PT0H60M0S
SUMMARY:Kramer (R. Bushart) vs Rim Rockets 2 (R. Hanratty)
DESCRIPTION:4th Grade Girls | Basketball\nSemones Family YMCA\n
URL;VALUE=URI:https://ygametime.com/branch/semones/sports/2021-winter-basketball/11390/?utm_medium=calendar&utm_source=team_cal&utm_content=league_url#game-268827
LOCATION:Good Shepherd Episcopal School 
BEGIN:VALARM
TRIGGER:-P2H
ACTION:DISPLAY
DESCRIPTION:Kramer (R. Bushart) vs Rim Rockets 2 (R. Hanratty)
END:VALARM
END:VEVENT
BEGIN:VEVENT
UID:semones-268832@ygametime.com
DTSTAMP:20220130T220000Z
DTSTART;TZID=America/Chicago:20220130T160000
DURATION:PT0H60M0S
SUMMARY:Rim Rockets 2 (R. Hanratty) vs Kramer (R. Bushart)
DESCRIPTION:4th Grade Girls | Basketball\nSemones Family YMCA\n
URL;VALUE=URI:https://ygametime.com/branch/semones/sports/2021-winter-basketball/11390/?utm_medium=calendar&utm_source=team_cal&utm_content=league_url#game-268832
LOCATION:Good Shepherd Episcopal School 
BEGIN:VALARM
TRIGGER:-P2H
ACTION:DISPLAY
DESCRIPTION:Rim Rockets 2 (R. Hanratty) vs Kramer (R. Bushart)
END:VALARM
END:VEVENT
BEGIN:VEVENT
UID:semones-268837@ygametime.com
DTSTAMP:20220206T200000Z
DTSTART;TZID=America/Chicago:20220206T140000
DURATION:PT0H60M0S
SUMMARY:Lighting (S. Guillory) vs Rim Rockets 2 (R. Hanratty)
DESCRIPTION:4th Grade Girls | Basketball\nSemones Family YMCA\n
URL;VALUE=URI:https://ygametime.com/branch/semones/sports/2021-winter-basketball/11390/?utm_medium=calendar&utm_source=team_cal&utm_content=league_url#game-268837
LOCATION:Good Shepherd Episcopal School 
BEGIN:VALARM
TRIGGER:-P2H
ACTION:DISPLAY
DESCRIPTION:Lighting (S. Guillory) vs Rim Rockets 2 (R. Hanratty)
END:VALARM
END:VEVENT
BEGIN:VEVENT
UID:semones-268842@ygametime.com
DTSTAMP:20220213T180000Z
DTSTART;TZID=America/Chicago:20220213T120000
DURATION:PT0H60M0S
SUMMARY:Rim Rockets 2 (R. Hanratty) vs St. Monica Lady Bearcats (S. Vattamattam)
DESCRIPTION:4th Grade Girls | Basketball\nSemones Family YMCA\n
URL;VALUE=URI:https://ygametime.com/branch/semones/sports/2021-winter-basketball/11390/?utm_medium=calendar&utm_source=team_cal&utm_content=league_url#game-268842
LOCATION:Good Shepherd Episcopal School 
BEGIN:VALARM
TRIGGER:-P2H
ACTION:DISPLAY
DESCRIPTION:Rim Rockets 2 (R. Hanratty) vs St. Monica Lady Bearcats (S. Vattamattam)
END:VALARM
END:VEVENT
END:VCALENDAR

