BEGIN:VCALENDAR
VERSION:2.0
PRODID:-//YGAMETIME.com//YGT iCal Creator//EN
METHOD:PUBLISH
X-PUBLISHED-TTL:PT6H
REFRESH-INTERVAL;VALUE=DURATION:PT6H
CALSCALE:GREGORIAN
X-WR-CALNAME:YGAMETIME CALENDAR
BEGIN:VTIMEZONE
TZID:America/Chicago
X-LIC-LOCATION:America/Chicago
BEGIN:DAYLIGHT
TZOFFSETFROM:-0600
TZOFFSETTO:-0500
TZNAME:CDT
DTSTART:19700308T020000
RRULE:FREQ=YEARLY;BYMONTH=3;BYDAY=2SU
END:DAYLIGHT
BEGIN:STANDARD
TZOFFSETFROM:-0500
TZOFFSETTO:-0600
TZNAME:CST
DTSTART:19701101T020000
RRULE:FREQ=YEARLY;BYMONTH=11;BYDAY=1SU
END:STANDARD
END:VTIMEZONE
BEGIN:VEVENT
UID:semones-268797@ygametime.com
DTSTAMP:20211212T220000Z
DTSTART;TZID=America/Chicago:20211212T160000
DURATION:PT0H60M0S
SUMMARY:Hoopsie Daisies (R. Savage) vs Lighting (S. Guillory)
DESCRIPTION:4th Grade Girls | Basketball\nSemones Family YMCA\n
URL;VALUE=URI:https://ygametime.com/branch/semones/sports/2021-winter-basketball/11390/?utm_medium=calendar&utm_source=team_cal&utm_content=league_url#game-268797
LOCATION:Good Shepherd Episcopal School 
BEGIN:VALARM
TRIGGER:-P2H
ACTION:DISPLAY
DESCRIPTION:Hoopsie Daisies (R. Savage) vs Lighting (S. Guillory)
END:VALARM
END:VEVENT
BEGIN:VEVENT
UID:semones-268802@ygametime.com
DTSTAMP:20211219T200000Z
DTSTART;TZID=America/Chicago:20211219T140000
DURATION:PT0H60M0S
SUMMARY:Lighting (S. Guillory) vs Dunking Daisies (D. Allgood)
DESCRIPTION:4th Grade Girls | Basketball\nSemones Family YMCA\n
URL;VALUE=URI:https://ygametime.com/branch/semones/sports/2021-winter-basketball/11390/?utm_medium=calendar&utm_source=team_cal&utm_content=league_url#game-268802
LOCATION:Good Shepherd Episcopal School 
BEGIN:VALARM
TRIGGER:-P2H
ACTION:DISPLAY
DESCRIPTION:Lighting (S. Guillory) vs Dunking Daisies (D. Allgood)
END:VALARM
END:VEVENT
BEGIN:VEVENT
UID:semones-268807@ygametime.com
DTSTAMP:20220109T180000Z
DTSTART;TZID=America/Chicago:20220109T120000
DURATION:PT0H60M0S
SUMMARY:Kramer (R. Bushart) vs Lighting (S. Guillory)
DESCRIPTION:4th Grade Girls | Basketball\nSemones Family YMCA\n
URL;VALUE=URI:https://ygametime.com/branch/semones/sports/2021-winter-basketball/11390/?utm_medium=calendar&utm_source=team_cal&utm_content=league_url#game-268807
LOCATION:Good Shepherd Episcopal School 
BEGIN:VALARM
TRIGGER:-P2H
ACTION:DISPLAY
DESCRIPTION:Kramer (R. Bushart) vs Lighting (S. Guillory)
END:VALARM
END:VEVENT
BEGIN:VEVENT
UID:semones-268819@ygametime.com
DTSTAMP:20220116T230000Z
DTSTART;TZID=America/Chicago:20220116T170000
DURATION:PT0H60M0S
SUMMARY:Lighting (S. Guillory) vs Sudie Lions (F. Feuille)
DESCRIPTION:4th Grade Girls | Basketball\nSemones Family YMCA\n
URL;VALUE=URI:https://ygametime.com/branch/semones/sports/2021-winter-basketball/11390/?utm_medium=calendar&utm_source=team_cal&utm_content=league_url#game-268819
LOCATION:Good Shepherd Episcopal School 
BEGIN:VALARM
TRIGGER:-P2H
ACTION:DISPLAY
DESCRIPTION:Lighting (S. Guillory) vs Sudie Lions (F. Feuille)
END:VALARM
END:VEVENT
BEGIN:VEVENT
UID:semones-268824@ygametime.com
DTSTAMP:20220123T210000Z
DTSTART;TZID=America/Chicago:20220123T150000
DURATION:PT0H60M0S
SUMMARY:Lighting (S. Guillory) vs Sudie Lions (D. Bailey)
DESCRIPTION:4th Grade Girls | Basketball\nSemones Family YMCA\n
URL;VALUE=URI:https://ygametime.com/branch/semones/sports/2021-winter-basketball/11390/?utm_medium=calendar&utm_source=team_cal&utm_content=league_url#game-268824
LOCATION:Good Shepherd Episcopal School 
BEGIN:VALARM
TRIGGER:-P2H
ACTION:DISPLAY
DESCRIPTION:Lighting (S. Guillory) vs Sudie Lions (D. Bailey)
END:VALARM
END:VEVENT
BEGIN:VEVENT
UID:semones-268831@ygametime.com
DTSTAMP:20220130T210000Z
DTSTART;TZID=America/Chicago:20220130T150000
DURATION:PT0H60M0S
SUMMARY:St. Monica Lady Bearcats (S. Vattamattam) vs Lighting (S. Guillory)
DESCRIPTION:4th Grade Girls | Basketball\nSemones Family YMCA\n
URL;VALUE=URI:https://ygametime.com/branch/semones/sports/2021-winter-basketball/11390/?utm_medium=calendar&utm_source=team_cal&utm_content=league_url#game-268831
LOCATION:Good Shepherd Episcopal School 
BEGIN:VALARM
TRIGGER:-P2H
ACTION:DISPLAY
DESCRIPTION:St. Monica Lady Bearcats (S. Vattamattam) vs Lighting (S. Guillory)
END:VALARM
END:VEVENT
BEGIN:VEVENT
UID:semones-268837@ygametime.com
DTSTAMP:20220206T200000Z
DTSTART;TZID=America/Chicago:20220206T140000
DURATION:PT0H60M0S
SUMMARY:Lighting (S. Guillory) vs Rim Rockets 2 (R. Hanratty)
DESCRIPTION:4th Grade Girls | Basketball\nSemones Family YMCA\n
URL;VALUE=URI:https://ygametime.com/branch/semones/sports/2021-winter-basketball/11390/?utm_medium=calendar&utm_source=team_cal&utm_content=league_url#game-268837
LOCATION:Good Shepherd Episcopal School 
BEGIN:VALARM
TRIGGER:-P2H
ACTION:DISPLAY
DESCRIPTION:Lighting (S. Guillory) vs Rim Rockets 2 (R. Hanratty)
END:VALARM
END:VEVENT
BEGIN:VEVENT
UID:semones-268844@ygametime.com
DTSTAMP:20220213T200000Z
DTSTART;TZID=America/Chicago:20220213T140000
DURATION:PT0H60M0S
SUMMARY:Lamplighter Soaring Chickens (D. MacMahon) vs Lighting (S. Guillory)
DESCRIPTION:4th Grade Girls | Basketball\nSemones Family YMCA\n
URL;VALUE=URI:https://ygametime.com/branch/semones/sports/2021-winter-basketball/11390/?utm_medium=calendar&utm_source=team_cal&utm_content=league_url#game-268844
LOCATION:Good Shepherd Episcopal School 
BEGIN:VALARM
TRIGGER:-P2H
ACTION:DISPLAY
DESCRIPTION:Lamplighter Soaring Chickens (D. MacMahon) vs Lighting (S. Guillory)
END:VALARM
END:VEVENT
END:VCALENDAR

