BEGIN:VCALENDAR
VERSION:2.0
PRODID:-//YGAMETIME.com//YGT iCal Creator//EN
METHOD:PUBLISH
X-PUBLISHED-TTL:PT6H
REFRESH-INTERVAL;VALUE=DURATION:PT6H
CALSCALE:GREGORIAN
X-WR-CALNAME:YGAMETIME CALENDAR
BEGIN:VTIMEZONE
TZID:America/Chicago
X-LIC-LOCATION:America/Chicago
BEGIN:DAYLIGHT
TZOFFSETFROM:-0600
TZOFFSETTO:-0500
TZNAME:CDT
DTSTART:19700308T020000
RRULE:FREQ=YEARLY;BYMONTH=3;BYDAY=2SU
END:DAYLIGHT
BEGIN:STANDARD
TZOFFSETFROM:-0500
TZOFFSETTO:-0600
TZNAME:CST
DTSTART:19701101T020000
RRULE:FREQ=YEARLY;BYMONTH=11;BYDAY=1SU
END:STANDARD
END:VTIMEZONE
BEGIN:VEVENT
UID:semones-267922@ygametime.com
DTSTAMP:20211211T210000Z
DTSTART;TZID=America/Chicago:20211211T150000
DURATION:PT0H60M0S
SUMMARY:Withers Wildcats (J. Romo) vs GSES Shooting Stars (B. Appleby)
DESCRIPTION:4th Grade Girls - Competitive | Basketball\nSemones Family YMCA\n
URL;VALUE=URI:https://ygametime.com/branch/semones/sports/2021-winter-basketball/11507/?utm_medium=calendar&utm_source=team_cal&utm_content=league_url#game-267922
LOCATION:Campbell Green Recreation Center
BEGIN:VALARM
TRIGGER:-P2H
ACTION:DISPLAY
DESCRIPTION:Withers Wildcats (J. Romo) vs GSES Shooting Stars (B. Appleby)
END:VALARM
END:VEVENT
BEGIN:VEVENT
UID:semones-267924@ygametime.com
DTSTAMP:20211218T180000Z
DTSTART;TZID=America/Chicago:20211218T120000
DURATION:PT0H60M0S
SUMMARY:Wesley Prep Panthers (J. Hutchins) vs Withers Wildcats (J. Romo)
DESCRIPTION:4th Grade Girls - Competitive | Basketball\nSemones Family YMCA\n
URL;VALUE=URI:https://ygametime.com/branch/semones/sports/2021-winter-basketball/11507/?utm_medium=calendar&utm_source=team_cal&utm_content=league_url#game-267924
LOCATION:Campbell Green Recreation Center
BEGIN:VALARM
TRIGGER:-P2H
ACTION:DISPLAY
DESCRIPTION:Wesley Prep Panthers (J. Hutchins) vs Withers Wildcats (J. Romo)
END:VALARM
END:VEVENT
BEGIN:VEVENT
UID:semones-267928@ygametime.com
DTSTAMP:20220108T210000Z
DTSTART;TZID=America/Chicago:20220108T150000
DURATION:PT0H60M0S
SUMMARY:Withers Wildcats (J. Romo) vs Greenhill Hornets - B (L. Davis)
DESCRIPTION:4th Grade Girls - Competitive | Basketball\nSemones Family YMCA\n
URL;VALUE=URI:https://ygametime.com/branch/semones/sports/2021-winter-basketball/11507/?utm_medium=calendar&utm_source=team_cal&utm_content=league_url#game-267928
LOCATION:Campbell Green Recreation Center
BEGIN:VALARM
TRIGGER:-P2H
ACTION:DISPLAY
DESCRIPTION:Withers Wildcats (J. Romo) vs Greenhill Hornets - B (L. Davis)
END:VALARM
END:VEVENT
BEGIN:VEVENT
UID:semones-267929@ygametime.com
DTSTAMP:20220115T200000Z
DTSTART;TZID=America/Chicago:20220115T140000
DURATION:PT0H60M0S
SUMMARY:Greenhill Hornets - A (L. Davis) vs Withers Wildcats (J. Romo)
DESCRIPTION:4th Grade Girls - Competitive | Basketball\nSemones Family YMCA\n
URL;VALUE=URI:https://ygametime.com/branch/semones/sports/2021-winter-basketball/11507/?utm_medium=calendar&utm_source=team_cal&utm_content=league_url#game-267929
LOCATION:Campbell Green Recreation Center
BEGIN:VALARM
TRIGGER:-P2H
ACTION:DISPLAY
DESCRIPTION:Greenhill Hornets - A (L. Davis) vs Withers Wildcats (J. Romo)
END:VALARM
END:VEVENT
BEGIN:VEVENT
UID:semones-267932@ygametime.com
DTSTAMP:20220122T200000Z
DTSTART;TZID=America/Chicago:20220122T140000
DURATION:PT0H60M0S
SUMMARY:Greenhill Hornets - A (L. Davis) vs Withers Wildcats (J. Romo)
DESCRIPTION:4th Grade Girls - Competitive | Basketball\nSemones Family YMCA\n
URL;VALUE=URI:https://ygametime.com/branch/semones/sports/2021-winter-basketball/11507/?utm_medium=calendar&utm_source=team_cal&utm_content=league_url#game-267932
LOCATION:Campbell Green Recreation Center
BEGIN:VALARM
TRIGGER:-P2H
ACTION:DISPLAY
DESCRIPTION:Greenhill Hornets - A (L. Davis) vs Withers Wildcats (J. Romo)
END:VALARM
END:VEVENT
BEGIN:VEVENT
UID:semones-267936@ygametime.com
DTSTAMP:20220129T200000Z
DTSTART;TZID=America/Chicago:20220129T140000
DURATION:PT0H60M0S
SUMMARY:Greenhill Hornets - A (L. Davis) vs Withers Wildcats (J. Romo)
DESCRIPTION:4th Grade Girls - Competitive | Basketball\nSemones Family YMCA\n
URL;VALUE=URI:https://ygametime.com/branch/semones/sports/2021-winter-basketball/11507/?utm_medium=calendar&utm_source=team_cal&utm_content=league_url#game-267936
LOCATION:Campbell Green Recreation Center
BEGIN:VALARM
TRIGGER:-P2H
ACTION:DISPLAY
DESCRIPTION:Greenhill Hornets - A (L. Davis) vs Withers Wildcats (J. Romo)
END:VALARM
END:VEVENT
BEGIN:VEVENT
UID:semones-267940@ygametime.com
DTSTAMP:20220216T220000Z
DTSTART;TZID=America/Chicago:20220216T160000
DURATION:PT0H60M0S
SUMMARY:Wesley Prep Panthers (J. Hutchins) vs Withers Wildcats (J. Romo)
DESCRIPTION:4th Grade Girls - Competitive | Basketball\nSemones Family YMCA\n
URL;VALUE=URI:https://ygametime.com/branch/semones/sports/2021-winter-basketball/11507/?utm_medium=calendar&utm_source=team_cal&utm_content=league_url#game-267940
LOCATION:Semones Family YMCA - Full Court
BEGIN:VALARM
TRIGGER:-P2H
ACTION:DISPLAY
DESCRIPTION:Wesley Prep Panthers (J. Hutchins) vs Withers Wildcats (J. Romo)
END:VALARM
END:VEVENT
BEGIN:VEVENT
UID:semones-267939@ygametime.com
DTSTAMP:20220219T210000Z
DTSTART;TZID=America/Chicago:20220219T150000
DURATION:PT0H60M0S
SUMMARY:Withers Wildcats (J. Romo) vs Greenhill Hornets - A (L. Davis)
DESCRIPTION:4th Grade Girls - Competitive | Basketball\nSemones Family YMCA\n
URL;VALUE=URI:https://ygametime.com/branch/semones/sports/2021-winter-basketball/11507/?utm_medium=calendar&utm_source=team_cal&utm_content=league_url#game-267939
LOCATION:Campbell Green Recreation Center
BEGIN:VALARM
TRIGGER:-P2H
ACTION:DISPLAY
DESCRIPTION:Withers Wildcats (J. Romo) vs Greenhill Hornets - A (L. Davis)
END:VALARM
END:VEVENT
END:VCALENDAR

