BEGIN:VCALENDAR
VERSION:2.0
PRODID:-//YGAMETIME.com//YGT iCal Creator//EN
METHOD:PUBLISH
X-PUBLISHED-TTL:PT6H
REFRESH-INTERVAL;VALUE=DURATION:PT6H
CALSCALE:GREGORIAN
X-WR-CALNAME:YGAMETIME CALENDAR
BEGIN:VTIMEZONE
TZID:America/Chicago
X-LIC-LOCATION:America/Chicago
BEGIN:DAYLIGHT
TZOFFSETFROM:-0600
TZOFFSETTO:-0500
TZNAME:CDT
DTSTART:19700308T020000
RRULE:FREQ=YEARLY;BYMONTH=3;BYDAY=2SU
END:DAYLIGHT
BEGIN:STANDARD
TZOFFSETFROM:-0500
TZOFFSETTO:-0600
TZNAME:CST
DTSTART:19701101T020000
RRULE:FREQ=YEARLY;BYMONTH=11;BYDAY=1SU
END:STANDARD
END:VTIMEZONE
BEGIN:VEVENT
UID:semones-267921@ygametime.com
DTSTAMP:20211211T200000Z
DTSTART;TZID=America/Chicago:20211211T140000
DURATION:PT0H60M0S
SUMMARY:Greenhill Hornets - B (L. Davis) vs Wesley Prep Panthers (J. Hutchins)
DESCRIPTION:4th Grade Girls - Competitive | Basketball\nSemones Family YMCA\n
URL;VALUE=URI:https://ygametime.com/branch/semones/sports/2021-winter-basketball/11507/?utm_medium=calendar&utm_source=team_cal&utm_content=league_url#game-267921
LOCATION:Campbell Green Recreation Center
BEGIN:VALARM
TRIGGER:-P2H
ACTION:DISPLAY
DESCRIPTION:Greenhill Hornets - B (L. Davis) vs Wesley Prep Panthers (J. Hutchins)
END:VALARM
END:VEVENT
BEGIN:VEVENT
UID:semones-267925@ygametime.com
DTSTAMP:20211218T190000Z
DTSTART;TZID=America/Chicago:20211218T130000
DURATION:PT0H60M0S
SUMMARY:Dribblers (K. Costanzo) vs Greenhill Hornets - B (L. Davis)
DESCRIPTION:4th Grade Girls - Competitive | Basketball\nSemones Family YMCA\n
URL;VALUE=URI:https://ygametime.com/branch/semones/sports/2021-winter-basketball/11507/?utm_medium=calendar&utm_source=team_cal&utm_content=league_url#game-267925
LOCATION:Campbell Green Recreation Center
BEGIN:VALARM
TRIGGER:-P2H
ACTION:DISPLAY
DESCRIPTION:Dribblers (K. Costanzo) vs Greenhill Hornets - B (L. Davis)
END:VALARM
END:VEVENT
BEGIN:VEVENT
UID:semones-267928@ygametime.com
DTSTAMP:20220108T210000Z
DTSTART;TZID=America/Chicago:20220108T150000
DURATION:PT0H60M0S
SUMMARY:Withers Wildcats (J. Romo) vs Greenhill Hornets - B (L. Davis)
DESCRIPTION:4th Grade Girls - Competitive | Basketball\nSemones Family YMCA\n
URL;VALUE=URI:https://ygametime.com/branch/semones/sports/2021-winter-basketball/11507/?utm_medium=calendar&utm_source=team_cal&utm_content=league_url#game-267928
LOCATION:Campbell Green Recreation Center
BEGIN:VALARM
TRIGGER:-P2H
ACTION:DISPLAY
DESCRIPTION:Withers Wildcats (J. Romo) vs Greenhill Hornets - B (L. Davis)
END:VALARM
END:VEVENT
BEGIN:VEVENT
UID:semones-267933@ygametime.com
DTSTAMP:20220122T170000Z
DTSTART;TZID=America/Chicago:20220122T110000
DURATION:PT0H60M0S
SUMMARY:GSES Shooting Stars (B. Appleby) vs Greenhill Hornets - B (L. Davis)
DESCRIPTION:4th Grade Girls - Competitive | Basketball\nSemones Family YMCA\n
URL;VALUE=URI:https://ygametime.com/branch/semones/sports/2021-winter-basketball/11507/?utm_medium=calendar&utm_source=team_cal&utm_content=league_url#game-267933
LOCATION:Campbell Green Recreation Center
BEGIN:VALARM
TRIGGER:-P2H
ACTION:DISPLAY
DESCRIPTION:GSES Shooting Stars (B. Appleby) vs Greenhill Hornets - B (L. Davis)
END:VALARM
END:VEVENT
BEGIN:VEVENT
UID:semones-267935@ygametime.com
DTSTAMP:20220129T180000Z
DTSTART;TZID=America/Chicago:20220129T120000
DURATION:PT0H60M0S
SUMMARY:Dribblers (K. Costanzo) vs Greenhill Hornets - B (L. Davis)
DESCRIPTION:4th Grade Girls - Competitive | Basketball\nSemones Family YMCA\n
URL;VALUE=URI:https://ygametime.com/branch/semones/sports/2021-winter-basketball/11507/?utm_medium=calendar&utm_source=team_cal&utm_content=league_url#game-267935
LOCATION:Campbell Green Recreation Center
BEGIN:VALARM
TRIGGER:-P2H
ACTION:DISPLAY
DESCRIPTION:Dribblers (K. Costanzo) vs Greenhill Hornets - B (L. Davis)
END:VALARM
END:VEVENT
BEGIN:VEVENT
UID:semones-267937@ygametime.com
DTSTAMP:20220129T210000Z
DTSTART;TZID=America/Chicago:20220129T150000
DURATION:PT0H60M0S
SUMMARY:Greenhill Hornets - B (L. Davis) vs Wesley Prep Panthers (J. Hutchins)
DESCRIPTION:4th Grade Girls - Competitive | Basketball\nSemones Family YMCA\n
URL;VALUE=URI:https://ygametime.com/branch/semones/sports/2021-winter-basketball/11507/?utm_medium=calendar&utm_source=team_cal&utm_content=league_url#game-267937
LOCATION:Campbell Green Recreation Center
BEGIN:VALARM
TRIGGER:-P2H
ACTION:DISPLAY
DESCRIPTION:Greenhill Hornets - B (L. Davis) vs Wesley Prep Panthers (J. Hutchins)
END:VALARM
END:VEVENT
BEGIN:VEVENT
UID:semones-267938@ygametime.com
DTSTAMP:20220219T140000Z
DTSTART;TZID=America/Chicago:20220219T080000
DURATION:PT0H60M0S
SUMMARY:Dribblers (K. Costanzo) vs Greenhill Hornets - B (L. Davis)
DESCRIPTION:4th Grade Girls - Competitive | Basketball\nSemones Family YMCA\n
URL;VALUE=URI:https://ygametime.com/branch/semones/sports/2021-winter-basketball/11507/?utm_medium=calendar&utm_source=team_cal&utm_content=league_url#game-267938
LOCATION:Campbell Green Recreation Center
BEGIN:VALARM
TRIGGER:-P2H
ACTION:DISPLAY
DESCRIPTION:Dribblers (K. Costanzo) vs Greenhill Hornets - B (L. Davis)
END:VALARM
END:VEVENT
END:VCALENDAR

