BEGIN:VCALENDAR
VERSION:2.0
PRODID:-//YGAMETIME.com//YGT iCal Creator//EN
METHOD:PUBLISH
X-PUBLISHED-TTL:PT6H
REFRESH-INTERVAL;VALUE=DURATION:PT6H
CALSCALE:GREGORIAN
X-WR-CALNAME:YGAMETIME CALENDAR
BEGIN:VTIMEZONE
TZID:America/Chicago
X-LIC-LOCATION:America/Chicago
BEGIN:DAYLIGHT
TZOFFSETFROM:-0600
TZOFFSETTO:-0500
TZNAME:CDT
DTSTART:19700308T020000
RRULE:FREQ=YEARLY;BYMONTH=3;BYDAY=2SU
END:DAYLIGHT
BEGIN:STANDARD
TZOFFSETFROM:-0500
TZOFFSETTO:-0600
TZNAME:CST
DTSTART:19701101T020000
RRULE:FREQ=YEARLY;BYMONTH=11;BYDAY=1SU
END:STANDARD
END:VTIMEZONE
BEGIN:VEVENT
UID:semones-268849@ygametime.com
DTSTAMP:20211211T140000Z
DTSTART;TZID=America/Chicago:20211211T080000
DURATION:PT0H60M0S
SUMMARY:PHPS Hurricanes (P. Song) vs Sudie Lions (T. Kemp)
DESCRIPTION:4th Grade Boys | Basketball\nSemones Family YMCA\n
URL;VALUE=URI:https://ygametime.com/branch/semones/sports/2021-winter-basketball/11496/?utm_medium=calendar&utm_source=team_cal&utm_content=league_url#game-268849
LOCATION:Frankfort Middle School
BEGIN:VALARM
TRIGGER:-P2H
ACTION:DISPLAY
DESCRIPTION:PHPS Hurricanes (P. Song) vs Sudie Lions (T. Kemp)
END:VALARM
END:VEVENT
BEGIN:VEVENT
UID:semones-268864@ygametime.com
DTSTAMP:20211218T160000Z
DTSTART;TZID=America/Chicago:20211218T100000
DURATION:PT0H60M0S
SUMMARY:Sudie Lions (T. Kemp) vs Hoop Dreams (P. Barker)
DESCRIPTION:4th Grade Boys | Basketball\nSemones Family YMCA\n
URL;VALUE=URI:https://ygametime.com/branch/semones/sports/2021-winter-basketball/11496/?utm_medium=calendar&utm_source=team_cal&utm_content=league_url#game-268864
LOCATION:Frankfort Middle School
BEGIN:VALARM
TRIGGER:-P2H
ACTION:DISPLAY
DESCRIPTION:Sudie Lions (T. Kemp) vs Hoop Dreams (P. Barker)
END:VALARM
END:VEVENT
BEGIN:VEVENT
UID:semones-268871@ygametime.com
DTSTAMP:20220108T200000Z
DTSTART;TZID=America/Chicago:20220108T140000
DURATION:PT0H60M0S
SUMMARY:Providence 1 (C. Sheppard) vs Sudie Lions (T. Kemp)
DESCRIPTION:4th Grade Boys | Basketball\nSemones Family YMCA\n
URL;VALUE=URI:https://ygametime.com/branch/semones/sports/2021-winter-basketball/11496/?utm_medium=calendar&utm_source=team_cal&utm_content=league_url#game-268871
LOCATION:Frankfort Middle School
BEGIN:VALARM
TRIGGER:-P2H
ACTION:DISPLAY
DESCRIPTION:Providence 1 (C. Sheppard) vs Sudie Lions (T. Kemp)
END:VALARM
END:VEVENT
BEGIN:VEVENT
UID:semones-268878@ygametime.com
DTSTAMP:20220115T190000Z
DTSTART;TZID=America/Chicago:20220115T130000
DURATION:PT0H60M0S
SUMMARY:Sudie Lions (T. Kemp) vs Providence 2 (C. Sheppard)
DESCRIPTION:4th Grade Boys | Basketball\nSemones Family YMCA\n
URL;VALUE=URI:https://ygametime.com/branch/semones/sports/2021-winter-basketball/11496/?utm_medium=calendar&utm_source=team_cal&utm_content=league_url#game-268878
LOCATION:Frankfort Middle School
BEGIN:VALARM
TRIGGER:-P2H
ACTION:DISPLAY
DESCRIPTION:Sudie Lions (T. Kemp) vs Providence 2 (C. Sheppard)
END:VALARM
END:VEVENT
BEGIN:VEVENT
UID:semones-268892@ygametime.com
DTSTAMP:20220129T170000Z
DTSTART;TZID=America/Chicago:20220129T110000
DURATION:PT0H60M0S
SUMMARY:Sudie Lions (T. Kemp) vs Hot Shots (J. Fillmore)
DESCRIPTION:4th Grade Boys | Basketball\nSemones Family YMCA\n
URL;VALUE=URI:https://ygametime.com/branch/semones/sports/2021-winter-basketball/11496/?utm_medium=calendar&utm_source=team_cal&utm_content=league_url#game-268892
LOCATION:Frankfort Middle School
BEGIN:VALARM
TRIGGER:-P2H
ACTION:DISPLAY
DESCRIPTION:Sudie Lions (T. Kemp) vs Hot Shots (J. Fillmore)
END:VALARM
END:VEVENT
BEGIN:VEVENT
UID:semones-268885@ygametime.com
DTSTAMP:20220130T220000Z
DTSTART;TZID=America/Chicago:20220130T160000
DURATION:PT0H60M0S
SUMMARY:JCC (T. Diamond) vs Sudie Lions (T. Kemp)
DESCRIPTION:4th Grade Boys | Basketball\nSemones Family YMCA\n
URL;VALUE=URI:https://ygametime.com/branch/semones/sports/2021-winter-basketball/11496/?utm_medium=calendar&utm_source=team_cal&utm_content=league_url#game-268885
LOCATION:JCC of Dallas - Court 2
BEGIN:VALARM
TRIGGER:-P2H
ACTION:DISPLAY
DESCRIPTION:JCC (T. Diamond) vs Sudie Lions (T. Kemp)
END:VALARM
END:VEVENT
BEGIN:VEVENT
UID:semones-268899@ygametime.com
DTSTAMP:20220219T160000Z
DTSTART;TZID=America/Chicago:20220219T100000
DURATION:PT0H60M0S
SUMMARY:Lamplighter (R. Waddell) vs Sudie Lions (T. Kemp)
DESCRIPTION:4th Grade Boys | Basketball\nSemones Family YMCA\n
URL;VALUE=URI:https://ygametime.com/branch/semones/sports/2021-winter-basketball/11496/?utm_medium=calendar&utm_source=team_cal&utm_content=league_url#game-268899
LOCATION:Frankfort Middle School
BEGIN:VALARM
TRIGGER:-P2H
ACTION:DISPLAY
DESCRIPTION:Lamplighter (R. Waddell) vs Sudie Lions (T. Kemp)
END:VALARM
END:VEVENT
END:VCALENDAR

