BEGIN:VCALENDAR
VERSION:2.0
PRODID:-//YGAMETIME.com//YGT iCal Creator//EN
METHOD:PUBLISH
X-PUBLISHED-TTL:PT6H
REFRESH-INTERVAL;VALUE=DURATION:PT6H
CALSCALE:GREGORIAN
X-WR-CALNAME:YGAMETIME CALENDAR
BEGIN:VTIMEZONE
TZID:America/Chicago
X-LIC-LOCATION:America/Chicago
BEGIN:DAYLIGHT
TZOFFSETFROM:-0600
TZOFFSETTO:-0500
TZNAME:CDT
DTSTART:19700308T020000
RRULE:FREQ=YEARLY;BYMONTH=3;BYDAY=2SU
END:DAYLIGHT
BEGIN:STANDARD
TZOFFSETFROM:-0500
TZOFFSETTO:-0600
TZNAME:CST
DTSTART:19701101T020000
RRULE:FREQ=YEARLY;BYMONTH=11;BYDAY=1SU
END:STANDARD
END:VTIMEZONE
BEGIN:VEVENT
UID:semones-268850@ygametime.com
DTSTAMP:20211211T150000Z
DTSTART;TZID=America/Chicago:20211211T090000
DURATION:PT0H60M0S
SUMMARY:Hoop Dreams (P. Barker) vs Sudie Lions (D. Crooms)
DESCRIPTION:4th Grade Boys | Basketball\nSemones Family YMCA\n
URL;VALUE=URI:https://ygametime.com/branch/semones/sports/2021-winter-basketball/11496/?utm_medium=calendar&utm_source=team_cal&utm_content=league_url#game-268850
LOCATION:Frankfort Middle School
BEGIN:VALARM
TRIGGER:-P2H
ACTION:DISPLAY
DESCRIPTION:Hoop Dreams (P. Barker) vs Sudie Lions (D. Crooms)
END:VALARM
END:VEVENT
BEGIN:VEVENT
UID:semones-268858@ygametime.com
DTSTAMP:20211218T150000Z
DTSTART;TZID=America/Chicago:20211218T090000
DURATION:PT0H60M0S
SUMMARY:Sudie Lions (D. Crooms) vs Providence 2 (C. Sheppard)
DESCRIPTION:4th Grade Boys | Basketball\nSemones Family YMCA\n
URL;VALUE=URI:https://ygametime.com/branch/semones/sports/2021-winter-basketball/11496/?utm_medium=calendar&utm_source=team_cal&utm_content=league_url#game-268858
LOCATION:Frankfort Middle School
BEGIN:VALARM
TRIGGER:-P2H
ACTION:DISPLAY
DESCRIPTION:Sudie Lions (D. Crooms) vs Providence 2 (C. Sheppard)
END:VALARM
END:VEVENT
BEGIN:VEVENT
UID:semones-268866@ygametime.com
DTSTAMP:20220108T150000Z
DTSTART;TZID=America/Chicago:20220108T090000
DURATION:PT0H60M0S
SUMMARY:Hot Shots (J. Fillmore) vs Sudie Lions (D. Crooms)
DESCRIPTION:4th Grade Boys | Basketball\nSemones Family YMCA\n
URL;VALUE=URI:https://ygametime.com/branch/semones/sports/2021-winter-basketball/11496/?utm_medium=calendar&utm_source=team_cal&utm_content=league_url#game-268866
LOCATION:Frankfort Middle School
BEGIN:VALARM
TRIGGER:-P2H
ACTION:DISPLAY
DESCRIPTION:Hot Shots (J. Fillmore) vs Sudie Lions (D. Crooms)
END:VALARM
END:VEVENT
BEGIN:VEVENT
UID:semones-268874@ygametime.com
DTSTAMP:20220115T150000Z
DTSTART;TZID=America/Chicago:20220115T090000
DURATION:PT0H60M0S
SUMMARY:Sudie Lions (D. Crooms) vs Chris Doering
DESCRIPTION:4th Grade Boys | Basketball\nSemones Family YMCA\n
URL;VALUE=URI:https://ygametime.com/branch/semones/sports/2021-winter-basketball/11496/?utm_medium=calendar&utm_source=team_cal&utm_content=league_url#game-268874
LOCATION:Frankfort Middle School
BEGIN:VALARM
TRIGGER:-P2H
ACTION:DISPLAY
DESCRIPTION:Sudie Lions (D. Crooms) vs Chris Doering
END:VALARM
END:VEVENT
BEGIN:VEVENT
UID:semones-268881@ygametime.com
DTSTAMP:20220122T140000Z
DTSTART;TZID=America/Chicago:20220122T080000
DURATION:PT0H60M0S
SUMMARY:PHPS Hurricanes (P. Song) vs Sudie Lions (D. Crooms)
DESCRIPTION:4th Grade Boys | Basketball\nSemones Family YMCA\n
URL;VALUE=URI:https://ygametime.com/branch/semones/sports/2021-winter-basketball/11496/?utm_medium=calendar&utm_source=team_cal&utm_content=league_url#game-268881
LOCATION:Frankfort Middle School
BEGIN:VALARM
TRIGGER:-P2H
ACTION:DISPLAY
DESCRIPTION:PHPS Hurricanes (P. Song) vs Sudie Lions (D. Crooms)
END:VALARM
END:VEVENT
BEGIN:VEVENT
UID:semones-268889@ygametime.com
DTSTAMP:20220129T140000Z
DTSTART;TZID=America/Chicago:20220129T080000
DURATION:PT0H60M0S
SUMMARY:Sudie Lions (D. Crooms) vs Parish (B. Pierce)
DESCRIPTION:4th Grade Boys | Basketball\nSemones Family YMCA\n
URL;VALUE=URI:https://ygametime.com/branch/semones/sports/2021-winter-basketball/11496/?utm_medium=calendar&utm_source=team_cal&utm_content=league_url#game-268889
LOCATION:Frankfort Middle School
BEGIN:VALARM
TRIGGER:-P2H
ACTION:DISPLAY
DESCRIPTION:Sudie Lions (D. Crooms) vs Parish (B. Pierce)
END:VALARM
END:VEVENT
BEGIN:VEVENT
UID:semones-268905@ygametime.com
DTSTAMP:20220212T140000Z
DTSTART;TZID=America/Chicago:20220212T080000
DURATION:PT0H60M0S
SUMMARY:Sudie Lions (D. Crooms) vs St. Rita (E. Mentesana)
DESCRIPTION:4th Grade Boys | Basketball\nSemones Family YMCA\n
URL;VALUE=URI:https://ygametime.com/branch/semones/sports/2021-winter-basketball/11496/?utm_medium=calendar&utm_source=team_cal&utm_content=league_url#game-268905
LOCATION:Frankfort Middle School
BEGIN:VALARM
TRIGGER:-P2H
ACTION:DISPLAY
DESCRIPTION:Sudie Lions (D. Crooms) vs St. Rita (E. Mentesana)
END:VALARM
END:VEVENT
BEGIN:VEVENT
UID:semones-268897@ygametime.com
DTSTAMP:20220219T140000Z
DTSTART;TZID=America/Chicago:20220219T080000
DURATION:PT0H60M0S
SUMMARY:Panthers ( R. McIntosh) vs Sudie Lions (D. Crooms)
DESCRIPTION:4th Grade Boys | Basketball\nSemones Family YMCA\n
URL;VALUE=URI:https://ygametime.com/branch/semones/sports/2021-winter-basketball/11496/?utm_medium=calendar&utm_source=team_cal&utm_content=league_url#game-268897
LOCATION:Frankfort Middle School
BEGIN:VALARM
TRIGGER:-P2H
ACTION:DISPLAY
DESCRIPTION:Panthers ( R. McIntosh) vs Sudie Lions (D. Crooms)
END:VALARM
END:VEVENT
END:VCALENDAR

