BEGIN:VCALENDAR
VERSION:2.0
PRODID:-//YGAMETIME.com//YGT iCal Creator//EN
METHOD:PUBLISH
X-PUBLISHED-TTL:PT6H
REFRESH-INTERVAL;VALUE=DURATION:PT6H
CALSCALE:GREGORIAN
X-WR-CALNAME:YGAMETIME CALENDAR
BEGIN:VTIMEZONE
TZID:America/Chicago
X-LIC-LOCATION:America/Chicago
BEGIN:DAYLIGHT
TZOFFSETFROM:-0600
TZOFFSETTO:-0500
TZNAME:CDT
DTSTART:19700308T020000
RRULE:FREQ=YEARLY;BYMONTH=3;BYDAY=2SU
END:DAYLIGHT
BEGIN:STANDARD
TZOFFSETFROM:-0500
TZOFFSETTO:-0600
TZNAME:CST
DTSTART:19701101T020000
RRULE:FREQ=YEARLY;BYMONTH=11;BYDAY=1SU
END:STANDARD
END:VTIMEZONE
BEGIN:VEVENT
UID:semones-268851@ygametime.com
DTSTAMP:20211218T190000Z
DTSTART;TZID=America/Chicago:20211218T130000
DURATION:PT0H60M0S
SUMMARY:St. Rita (E. Mentesana) vs Providence 1 (C. Sheppard)
DESCRIPTION:4th Grade Boys | Basketball\nSemones Family YMCA\n
URL;VALUE=URI:https://ygametime.com/branch/semones/sports/2021-winter-basketball/11496/?utm_medium=calendar&utm_source=team_cal&utm_content=league_url#game-268851
LOCATION:Frankfort Middle School
BEGIN:VALARM
TRIGGER:-P2H
ACTION:DISPLAY
DESCRIPTION:St. Rita (E. Mentesana) vs Providence 1 (C. Sheppard)
END:VALARM
END:VEVENT
BEGIN:VEVENT
UID:semones-268867@ygametime.com
DTSTAMP:20220108T160000Z
DTSTART;TZID=America/Chicago:20220108T100000
DURATION:PT0H60M0S
SUMMARY:St. Rita (E. Mentesana) vs Lamplighter (R. Waddell)
DESCRIPTION:4th Grade Boys | Basketball\nSemones Family YMCA\n
URL;VALUE=URI:https://ygametime.com/branch/semones/sports/2021-winter-basketball/11496/?utm_medium=calendar&utm_source=team_cal&utm_content=league_url#game-268867
LOCATION:Frankfort Middle School
BEGIN:VALARM
TRIGGER:-P2H
ACTION:DISPLAY
DESCRIPTION:St. Rita (E. Mentesana) vs Lamplighter (R. Waddell)
END:VALARM
END:VEVENT
BEGIN:VEVENT
UID:semones-268859@ygametime.com
DTSTAMP:20220109T220000Z
DTSTART;TZID=America/Chicago:20220109T160000
DURATION:PT0H60M0S
SUMMARY:JCC (T. Diamond) vs St. Rita (E. Mentesana)
DESCRIPTION:4th Grade Boys | Basketball\nSemones Family YMCA\n
URL;VALUE=URI:https://ygametime.com/branch/semones/sports/2021-winter-basketball/11496/?utm_medium=calendar&utm_source=team_cal&utm_content=league_url#game-268859
LOCATION:JCC of Dallas - Court 2
BEGIN:VALARM
TRIGGER:-P2H
ACTION:DISPLAY
DESCRIPTION:JCC (T. Diamond) vs St. Rita (E. Mentesana)
END:VALARM
END:VEVENT
BEGIN:VEVENT
UID:semones-268882@ygametime.com
DTSTAMP:20220122T150000Z
DTSTART;TZID=America/Chicago:20220122T090000
DURATION:PT0H60M0S
SUMMARY:St. Rita (E. Mentesana) vs Parish 1 (J. Turner)
DESCRIPTION:4th Grade Boys | Basketball\nSemones Family YMCA\n
URL;VALUE=URI:https://ygametime.com/branch/semones/sports/2021-winter-basketball/11496/?utm_medium=calendar&utm_source=team_cal&utm_content=league_url#game-268882
LOCATION:Frankfort Middle School
BEGIN:VALARM
TRIGGER:-P2H
ACTION:DISPLAY
DESCRIPTION:St. Rita (E. Mentesana) vs Parish 1 (J. Turner)
END:VALARM
END:VEVENT
BEGIN:VEVENT
UID:semones-268890@ygametime.com
DTSTAMP:20220129T150000Z
DTSTART;TZID=America/Chicago:20220129T090000
DURATION:PT0H60M0S
SUMMARY:Lamplighter Mavericks (A. Hickman) vs St. Rita (E. Mentesana)
DESCRIPTION:4th Grade Boys | Basketball\nSemones Family YMCA\n
URL;VALUE=URI:https://ygametime.com/branch/semones/sports/2021-winter-basketball/11496/?utm_medium=calendar&utm_source=team_cal&utm_content=league_url#game-268890
LOCATION:Frankfort Middle School
BEGIN:VALARM
TRIGGER:-P2H
ACTION:DISPLAY
DESCRIPTION:Lamplighter Mavericks (A. Hickman) vs St. Rita (E. Mentesana)
END:VALARM
END:VEVENT
BEGIN:VEVENT
UID:semones-268905@ygametime.com
DTSTAMP:20220212T140000Z
DTSTART;TZID=America/Chicago:20220212T080000
DURATION:PT0H60M0S
SUMMARY:Sudie Lions (D. Crooms) vs St. Rita (E. Mentesana)
DESCRIPTION:4th Grade Boys | Basketball\nSemones Family YMCA\n
URL;VALUE=URI:https://ygametime.com/branch/semones/sports/2021-winter-basketball/11496/?utm_medium=calendar&utm_source=team_cal&utm_content=league_url#game-268905
LOCATION:Frankfort Middle School
BEGIN:VALARM
TRIGGER:-P2H
ACTION:DISPLAY
DESCRIPTION:Sudie Lions (D. Crooms) vs St. Rita (E. Mentesana)
END:VALARM
END:VEVENT
BEGIN:VEVENT
UID:semones-268898@ygametime.com
DTSTAMP:20220219T150000Z
DTSTART;TZID=America/Chicago:20220219T090000
DURATION:PT0H60M0S
SUMMARY:St. Rita (E. Mentesana) vs Cougars (J. Thompson)
DESCRIPTION:4th Grade Boys | Basketball\nSemones Family YMCA\n
URL;VALUE=URI:https://ygametime.com/branch/semones/sports/2021-winter-basketball/11496/?utm_medium=calendar&utm_source=team_cal&utm_content=league_url#game-268898
LOCATION:Frankfort Middle School
BEGIN:VALARM
TRIGGER:-P2H
ACTION:DISPLAY
DESCRIPTION:St. Rita (E. Mentesana) vs Cougars (J. Thompson)
END:VALARM
END:VEVENT
END:VCALENDAR

