BEGIN:VCALENDAR
VERSION:2.0
PRODID:-//YGAMETIME.com//YGT iCal Creator//EN
METHOD:PUBLISH
X-PUBLISHED-TTL:PT6H
REFRESH-INTERVAL;VALUE=DURATION:PT6H
CALSCALE:GREGORIAN
X-WR-CALNAME:YGAMETIME CALENDAR
BEGIN:VTIMEZONE
TZID:America/Chicago
X-LIC-LOCATION:America/Chicago
BEGIN:DAYLIGHT
TZOFFSETFROM:-0600
TZOFFSETTO:-0500
TZNAME:CDT
DTSTART:19700308T020000
RRULE:FREQ=YEARLY;BYMONTH=3;BYDAY=2SU
END:DAYLIGHT
BEGIN:STANDARD
TZOFFSETFROM:-0500
TZOFFSETTO:-0600
TZNAME:CST
DTSTART:19701101T020000
RRULE:FREQ=YEARLY;BYMONTH=11;BYDAY=1SU
END:STANDARD
END:VTIMEZONE
BEGIN:VEVENT
UID:semones-268854@ygametime.com
DTSTAMP:20211211T180000Z
DTSTART;TZID=America/Chicago:20211211T120000
DURATION:PT0H60M0S
SUMMARY:Hot Shots (J. Fillmore) vs Lamplighter Mavericks (A. Hickman)
DESCRIPTION:4th Grade Boys | Basketball\nSemones Family YMCA\n
URL;VALUE=URI:https://ygametime.com/branch/semones/sports/2021-winter-basketball/11496/?utm_medium=calendar&utm_source=team_cal&utm_content=league_url#game-268854
LOCATION:Frankfort Middle School
BEGIN:VALARM
TRIGGER:-P2H
ACTION:DISPLAY
DESCRIPTION:Hot Shots (J. Fillmore) vs Lamplighter Mavericks (A. Hickman)
END:VALARM
END:VEVENT
BEGIN:VEVENT
UID:semones-268862@ygametime.com
DTSTAMP:20211218T180000Z
DTSTART;TZID=America/Chicago:20211218T120000
DURATION:PT0H60M0S
SUMMARY:Lamplighter Mavericks (A. Hickman) vs Chris Doering
DESCRIPTION:4th Grade Boys | Basketball\nSemones Family YMCA\n
URL;VALUE=URI:https://ygametime.com/branch/semones/sports/2021-winter-basketball/11496/?utm_medium=calendar&utm_source=team_cal&utm_content=league_url#game-268862
LOCATION:Frankfort Middle School
BEGIN:VALARM
TRIGGER:-P2H
ACTION:DISPLAY
DESCRIPTION:Lamplighter Mavericks (A. Hickman) vs Chris Doering
END:VALARM
END:VEVENT
BEGIN:VEVENT
UID:semones-268869@ygametime.com
DTSTAMP:20220108T180000Z
DTSTART;TZID=America/Chicago:20220108T120000
DURATION:PT0H60M0S
SUMMARY:PHPS Hurricanes (P. Song) vs Lamplighter Mavericks (A. Hickman)
DESCRIPTION:4th Grade Boys | Basketball\nSemones Family YMCA\n
URL;VALUE=URI:https://ygametime.com/branch/semones/sports/2021-winter-basketball/11496/?utm_medium=calendar&utm_source=team_cal&utm_content=league_url#game-268869
LOCATION:Frankfort Middle School
BEGIN:VALARM
TRIGGER:-P2H
ACTION:DISPLAY
DESCRIPTION:PHPS Hurricanes (P. Song) vs Lamplighter Mavericks (A. Hickman)
END:VALARM
END:VEVENT
BEGIN:VEVENT
UID:semones-268877@ygametime.com
DTSTAMP:20220115T180000Z
DTSTART;TZID=America/Chicago:20220115T120000
DURATION:PT0H60M0S
SUMMARY:Lamplighter Mavericks (A. Hickman) vs Parish (B. Pierce)
DESCRIPTION:4th Grade Boys | Basketball\nSemones Family YMCA\n
URL;VALUE=URI:https://ygametime.com/branch/semones/sports/2021-winter-basketball/11496/?utm_medium=calendar&utm_source=team_cal&utm_content=league_url#game-268877
LOCATION:Frankfort Middle School
BEGIN:VALARM
TRIGGER:-P2H
ACTION:DISPLAY
DESCRIPTION:Lamplighter Mavericks (A. Hickman) vs Parish (B. Pierce)
END:VALARM
END:VEVENT
BEGIN:VEVENT
UID:semones-268884@ygametime.com
DTSTAMP:20220122T170000Z
DTSTART;TZID=America/Chicago:20220122T110000
DURATION:PT0H60M0S
SUMMARY:Panthers ( R. McIntosh) vs Lamplighter Mavericks (A. Hickman)
DESCRIPTION:4th Grade Boys | Basketball\nSemones Family YMCA\n
URL;VALUE=URI:https://ygametime.com/branch/semones/sports/2021-winter-basketball/11496/?utm_medium=calendar&utm_source=team_cal&utm_content=league_url#game-268884
LOCATION:Frankfort Middle School
BEGIN:VALARM
TRIGGER:-P2H
ACTION:DISPLAY
DESCRIPTION:Panthers ( R. McIntosh) vs Lamplighter Mavericks (A. Hickman)
END:VALARM
END:VEVENT
BEGIN:VEVENT
UID:semones-268890@ygametime.com
DTSTAMP:20220129T150000Z
DTSTART;TZID=America/Chicago:20220129T090000
DURATION:PT0H60M0S
SUMMARY:Lamplighter Mavericks (A. Hickman) vs St. Rita (E. Mentesana)
DESCRIPTION:4th Grade Boys | Basketball\nSemones Family YMCA\n
URL;VALUE=URI:https://ygametime.com/branch/semones/sports/2021-winter-basketball/11496/?utm_medium=calendar&utm_source=team_cal&utm_content=league_url#game-268890
LOCATION:Frankfort Middle School
BEGIN:VALARM
TRIGGER:-P2H
ACTION:DISPLAY
DESCRIPTION:Lamplighter Mavericks (A. Hickman) vs St. Rita (E. Mentesana)
END:VALARM
END:VEVENT
BEGIN:VEVENT
UID:semones-268909@ygametime.com
DTSTAMP:20220212T190000Z
DTSTART;TZID=America/Chicago:20220212T130000
DURATION:PT0H60M0S
SUMMARY:Lamplighter Mavericks (A. Hickman) vs Providence 1 (C. Sheppard)
DESCRIPTION:4th Grade Boys | Basketball\nSemones Family YMCA\n
URL;VALUE=URI:https://ygametime.com/branch/semones/sports/2021-winter-basketball/11496/?utm_medium=calendar&utm_source=team_cal&utm_content=league_url#game-268909
LOCATION:Frankfort Middle School
BEGIN:VALARM
TRIGGER:-P2H
ACTION:DISPLAY
DESCRIPTION:Lamplighter Mavericks (A. Hickman) vs Providence 1 (C. Sheppard)
END:VALARM
END:VEVENT
BEGIN:VEVENT
UID:semones-268904@ygametime.com
DTSTAMP:20220219T210000Z
DTSTART;TZID=America/Chicago:20220219T150000
DURATION:PT0H60M0S
SUMMARY:DIS 4th Grade (Coach Hill) vs Lamplighter Mavericks (A. Hickman)
DESCRIPTION:4th Grade Boys | Basketball\nSemones Family YMCA\n
URL;VALUE=URI:https://ygametime.com/branch/semones/sports/2021-winter-basketball/11496/?utm_medium=calendar&utm_source=team_cal&utm_content=league_url#game-268904
LOCATION:Frankfort Middle School
BEGIN:VALARM
TRIGGER:-P2H
ACTION:DISPLAY
DESCRIPTION:DIS 4th Grade (Coach Hill) vs Lamplighter Mavericks (A. Hickman)
END:VALARM
END:VEVENT
END:VCALENDAR

