BEGIN:VCALENDAR
VERSION:2.0
PRODID:-//YGAMETIME.com//YGT iCal Creator//EN
METHOD:PUBLISH
X-PUBLISHED-TTL:PT6H
REFRESH-INTERVAL;VALUE=DURATION:PT6H
CALSCALE:GREGORIAN
X-WR-CALNAME:YGAMETIME CALENDAR
BEGIN:VTIMEZONE
TZID:America/Chicago
X-LIC-LOCATION:America/Chicago
BEGIN:DAYLIGHT
TZOFFSETFROM:-0600
TZOFFSETTO:-0500
TZNAME:CDT
DTSTART:19700308T020000
RRULE:FREQ=YEARLY;BYMONTH=3;BYDAY=2SU
END:DAYLIGHT
BEGIN:STANDARD
TZOFFSETFROM:-0500
TZOFFSETTO:-0600
TZNAME:CST
DTSTART:19701101T020000
RRULE:FREQ=YEARLY;BYMONTH=11;BYDAY=1SU
END:STANDARD
END:VTIMEZONE
BEGIN:VEVENT
UID:semones-268855@ygametime.com
DTSTAMP:20211211T190000Z
DTSTART;TZID=America/Chicago:20211211T130000
DURATION:PT0H60M0S
SUMMARY:Parish (B. Pierce) vs Lamplighter (R. Waddell)
DESCRIPTION:4th Grade Boys | Basketball\nSemones Family YMCA\n
URL;VALUE=URI:https://ygametime.com/branch/semones/sports/2021-winter-basketball/11496/?utm_medium=calendar&utm_source=team_cal&utm_content=league_url#game-268855
LOCATION:Frankfort Middle School
BEGIN:VALARM
TRIGGER:-P2H
ACTION:DISPLAY
DESCRIPTION:Parish (B. Pierce) vs Lamplighter (R. Waddell)
END:VALARM
END:VEVENT
BEGIN:VEVENT
UID:semones-268870@ygametime.com
DTSTAMP:20220108T190000Z
DTSTART;TZID=America/Chicago:20220108T130000
DURATION:PT0H60M0S
SUMMARY:Parish (B. Pierce) vs Parish 1 (J. Turner)
DESCRIPTION:4th Grade Boys | Basketball\nSemones Family YMCA\n
URL;VALUE=URI:https://ygametime.com/branch/semones/sports/2021-winter-basketball/11496/?utm_medium=calendar&utm_source=team_cal&utm_content=league_url#game-268870
LOCATION:Frankfort Middle School
BEGIN:VALARM
TRIGGER:-P2H
ACTION:DISPLAY
DESCRIPTION:Parish (B. Pierce) vs Parish 1 (J. Turner)
END:VALARM
END:VEVENT
BEGIN:VEVENT
UID:semones-268877@ygametime.com
DTSTAMP:20220115T180000Z
DTSTART;TZID=America/Chicago:20220115T120000
DURATION:PT0H60M0S
SUMMARY:Lamplighter Mavericks (A. Hickman) vs Parish (B. Pierce)
DESCRIPTION:4th Grade Boys | Basketball\nSemones Family YMCA\n
URL;VALUE=URI:https://ygametime.com/branch/semones/sports/2021-winter-basketball/11496/?utm_medium=calendar&utm_source=team_cal&utm_content=league_url#game-268877
LOCATION:Frankfort Middle School
BEGIN:VALARM
TRIGGER:-P2H
ACTION:DISPLAY
DESCRIPTION:Lamplighter Mavericks (A. Hickman) vs Parish (B. Pierce)
END:VALARM
END:VEVENT
BEGIN:VEVENT
UID:semones-268883@ygametime.com
DTSTAMP:20220122T160000Z
DTSTART;TZID=America/Chicago:20220122T100000
DURATION:PT0H60M0S
SUMMARY:Parish (B. Pierce) vs Cougars (J. Thompson)
DESCRIPTION:4th Grade Boys | Basketball\nSemones Family YMCA\n
URL;VALUE=URI:https://ygametime.com/branch/semones/sports/2021-winter-basketball/11496/?utm_medium=calendar&utm_source=team_cal&utm_content=league_url#game-268883
LOCATION:Frankfort Middle School
BEGIN:VALARM
TRIGGER:-P2H
ACTION:DISPLAY
DESCRIPTION:Parish (B. Pierce) vs Cougars (J. Thompson)
END:VALARM
END:VEVENT
BEGIN:VEVENT
UID:semones-268889@ygametime.com
DTSTAMP:20220129T140000Z
DTSTART;TZID=America/Chicago:20220129T080000
DURATION:PT0H60M0S
SUMMARY:Sudie Lions (D. Crooms) vs Parish (B. Pierce)
DESCRIPTION:4th Grade Boys | Basketball\nSemones Family YMCA\n
URL;VALUE=URI:https://ygametime.com/branch/semones/sports/2021-winter-basketball/11496/?utm_medium=calendar&utm_source=team_cal&utm_content=league_url#game-268889
LOCATION:Frankfort Middle School
BEGIN:VALARM
TRIGGER:-P2H
ACTION:DISPLAY
DESCRIPTION:Sudie Lions (D. Crooms) vs Parish (B. Pierce)
END:VALARM
END:VEVENT
BEGIN:VEVENT
UID:semones-268908@ygametime.com
DTSTAMP:20220212T180000Z
DTSTART;TZID=America/Chicago:20220212T120000
DURATION:PT0H60M0S
SUMMARY:Providence 2 (C. Sheppard) vs Parish (B. Pierce)
DESCRIPTION:4th Grade Boys | Basketball\nSemones Family YMCA\n
URL;VALUE=URI:https://ygametime.com/branch/semones/sports/2021-winter-basketball/11496/?utm_medium=calendar&utm_source=team_cal&utm_content=league_url#game-268908
LOCATION:Frankfort Middle School
BEGIN:VALARM
TRIGGER:-P2H
ACTION:DISPLAY
DESCRIPTION:Providence 2 (C. Sheppard) vs Parish (B. Pierce)
END:VALARM
END:VEVENT
BEGIN:VEVENT
UID:semones-268903@ygametime.com
DTSTAMP:20220219T200000Z
DTSTART;TZID=America/Chicago:20220219T140000
DURATION:PT0H60M0S
SUMMARY:Parish (B. Pierce) vs Hoop Dreams (P. Barker)
DESCRIPTION:4th Grade Boys | Basketball\nSemones Family YMCA\n
URL;VALUE=URI:https://ygametime.com/branch/semones/sports/2021-winter-basketball/11496/?utm_medium=calendar&utm_source=team_cal&utm_content=league_url#game-268903
LOCATION:Frankfort Middle School
BEGIN:VALARM
TRIGGER:-P2H
ACTION:DISPLAY
DESCRIPTION:Parish (B. Pierce) vs Hoop Dreams (P. Barker)
END:VALARM
END:VEVENT
END:VCALENDAR

