BEGIN:VCALENDAR
VERSION:2.0
PRODID:-//YGAMETIME.com//YGT iCal Creator//EN
METHOD:PUBLISH
X-PUBLISHED-TTL:PT6H
REFRESH-INTERVAL;VALUE=DURATION:PT6H
CALSCALE:GREGORIAN
X-WR-CALNAME:YGAMETIME CALENDAR
BEGIN:VTIMEZONE
TZID:America/Chicago
X-LIC-LOCATION:America/Chicago
BEGIN:DAYLIGHT
TZOFFSETFROM:-0600
TZOFFSETTO:-0500
TZNAME:CDT
DTSTART:19700308T020000
RRULE:FREQ=YEARLY;BYMONTH=3;BYDAY=2SU
END:DAYLIGHT
BEGIN:STANDARD
TZOFFSETFROM:-0500
TZOFFSETTO:-0600
TZNAME:CST
DTSTART:19701101T020000
RRULE:FREQ=YEARLY;BYMONTH=11;BYDAY=1SU
END:STANDARD
END:VTIMEZONE
BEGIN:VEVENT
UID:semones-268853@ygametime.com
DTSTAMP:20211212T220000Z
DTSTART;TZID=America/Chicago:20211212T160000
DURATION:PT0H60M0S
SUMMARY:Panthers ( R. McIntosh) vs JCC (T. Diamond)
DESCRIPTION:4th Grade Boys | Basketball\nSemones Family YMCA\n
URL;VALUE=URI:https://ygametime.com/branch/semones/sports/2021-winter-basketball/11496/?utm_medium=calendar&utm_source=team_cal&utm_content=league_url#game-268853
LOCATION:JCC of Dallas - Court 2
BEGIN:VALARM
TRIGGER:-P2H
ACTION:DISPLAY
DESCRIPTION:Panthers ( R. McIntosh) vs JCC (T. Diamond)
END:VALARM
END:VEVENT
BEGIN:VEVENT
UID:semones-268859@ygametime.com
DTSTAMP:20220109T220000Z
DTSTART;TZID=America/Chicago:20220109T160000
DURATION:PT0H60M0S
SUMMARY:JCC (T. Diamond) vs St. Rita (E. Mentesana)
DESCRIPTION:4th Grade Boys | Basketball\nSemones Family YMCA\n
URL;VALUE=URI:https://ygametime.com/branch/semones/sports/2021-winter-basketball/11496/?utm_medium=calendar&utm_source=team_cal&utm_content=league_url#game-268859
LOCATION:JCC of Dallas - Court 2
BEGIN:VALARM
TRIGGER:-P2H
ACTION:DISPLAY
DESCRIPTION:JCC (T. Diamond) vs St. Rita (E. Mentesana)
END:VALARM
END:VEVENT
BEGIN:VEVENT
UID:semones-268865@ygametime.com
DTSTAMP:20220116T220000Z
DTSTART;TZID=America/Chicago:20220116T160000
DURATION:PT0H60M0S
SUMMARY:DIS 4th Grade (Coach Hill) vs JCC (T. Diamond)
DESCRIPTION:4th Grade Boys | Basketball\nSemones Family YMCA\n
URL;VALUE=URI:https://ygametime.com/branch/semones/sports/2021-winter-basketball/11496/?utm_medium=calendar&utm_source=team_cal&utm_content=league_url#game-268865
LOCATION:JCC of Dallas - Court 2
BEGIN:VALARM
TRIGGER:-P2H
ACTION:DISPLAY
DESCRIPTION:DIS 4th Grade (Coach Hill) vs JCC (T. Diamond)
END:VALARM
END:VEVENT
BEGIN:VEVENT
UID:semones-268879@ygametime.com
DTSTAMP:20220123T220000Z
DTSTART;TZID=America/Chicago:20220123T160000
DURATION:PT0H60M0S
SUMMARY:JCC (T. Diamond) vs Providence 1 (C. Sheppard)
DESCRIPTION:4th Grade Boys | Basketball\nSemones Family YMCA\n
URL;VALUE=URI:https://ygametime.com/branch/semones/sports/2021-winter-basketball/11496/?utm_medium=calendar&utm_source=team_cal&utm_content=league_url#game-268879
LOCATION:JCC of Dallas - Court 2
BEGIN:VALARM
TRIGGER:-P2H
ACTION:DISPLAY
DESCRIPTION:JCC (T. Diamond) vs Providence 1 (C. Sheppard)
END:VALARM
END:VEVENT
BEGIN:VEVENT
UID:semones-268885@ygametime.com
DTSTAMP:20220130T220000Z
DTSTART;TZID=America/Chicago:20220130T160000
DURATION:PT0H60M0S
SUMMARY:JCC (T. Diamond) vs Sudie Lions (T. Kemp)
DESCRIPTION:4th Grade Boys | Basketball\nSemones Family YMCA\n
URL;VALUE=URI:https://ygametime.com/branch/semones/sports/2021-winter-basketball/11496/?utm_medium=calendar&utm_source=team_cal&utm_content=league_url#game-268885
LOCATION:JCC of Dallas - Court 2
BEGIN:VALARM
TRIGGER:-P2H
ACTION:DISPLAY
DESCRIPTION:JCC (T. Diamond) vs Sudie Lions (T. Kemp)
END:VALARM
END:VEVENT
BEGIN:VEVENT
UID:semones-268893@ygametime.com
DTSTAMP:20220206T220000Z
DTSTART;TZID=America/Chicago:20220206T160000
DURATION:PT0H60M0S
SUMMARY:Lamplighter (R. Waddell) vs JCC (T. Diamond)
DESCRIPTION:4th Grade Boys | Basketball\nSemones Family YMCA\n
URL;VALUE=URI:https://ygametime.com/branch/semones/sports/2021-winter-basketball/11496/?utm_medium=calendar&utm_source=team_cal&utm_content=league_url#game-268893
LOCATION:JCC of Dallas - Court 2
BEGIN:VALARM
TRIGGER:-P2H
ACTION:DISPLAY
DESCRIPTION:Lamplighter (R. Waddell) vs JCC (T. Diamond)
END:VALARM
END:VEVENT
BEGIN:VEVENT
UID:semones-268907@ygametime.com
DTSTAMP:20220220T210000Z
DTSTART;TZID=America/Chicago:20220220T150000
DURATION:PT0H60M0S
SUMMARY:Parish 1 (J. Turner) vs JCC (T. Diamond)
DESCRIPTION:4th Grade Boys | Basketball\nSemones Family YMCA\n
URL;VALUE=URI:https://ygametime.com/branch/semones/sports/2021-winter-basketball/11496/?utm_medium=calendar&utm_source=team_cal&utm_content=league_url#game-268907
LOCATION:JCC of Dallas - Court 2
BEGIN:VALARM
TRIGGER:-P2H
ACTION:DISPLAY
DESCRIPTION:Parish 1 (J. Turner) vs JCC (T. Diamond)
END:VALARM
END:VEVENT
END:VCALENDAR

