BEGIN:VCALENDAR
VERSION:2.0
PRODID:-//YGAMETIME.com//YGT iCal Creator//EN
METHOD:PUBLISH
X-PUBLISHED-TTL:PT6H
REFRESH-INTERVAL;VALUE=DURATION:PT6H
CALSCALE:GREGORIAN
X-WR-CALNAME:YGAMETIME CALENDAR
BEGIN:VTIMEZONE
TZID:America/Chicago
X-LIC-LOCATION:America/Chicago
BEGIN:DAYLIGHT
TZOFFSETFROM:-0600
TZOFFSETTO:-0500
TZNAME:CDT
DTSTART:19700308T020000
RRULE:FREQ=YEARLY;BYMONTH=3;BYDAY=2SU
END:DAYLIGHT
BEGIN:STANDARD
TZOFFSETFROM:-0500
TZOFFSETTO:-0600
TZNAME:CST
DTSTART:19701101T020000
RRULE:FREQ=YEARLY;BYMONTH=11;BYDAY=1SU
END:STANDARD
END:VTIMEZONE
BEGIN:VEVENT
UID:semones-268989@ygametime.com
DTSTAMP:20211211T200000Z
DTSTART;TZID=America/Chicago:20211211T140000
DURATION:PT0H60M0S
SUMMARY:Parish Panthers - Pink (A. Martinez) vs Sudie Lions (C. Davis)
DESCRIPTION:5th/6th Grade Girls | Basketball\nSemones Family YMCA\n
URL;VALUE=URI:https://ygametime.com/branch/semones/sports/2021-winter-basketball/11389/?utm_medium=calendar&utm_source=team_cal&utm_content=league_url#game-268989
LOCATION:Churchill Recreation Center
BEGIN:VALARM
TRIGGER:-P2H
ACTION:DISPLAY
DESCRIPTION:Parish Panthers - Pink (A. Martinez) vs Sudie Lions (C. Davis)
END:VALARM
END:VEVENT
BEGIN:VEVENT
UID:semones-268995@ygametime.com
DTSTAMP:20211218T200000Z
DTSTART;TZID=America/Chicago:20211218T140000
DURATION:PT0H60M0S
SUMMARY:Sudie Lions (K. Rosen) vs Sudie Lions (C. Davis)
DESCRIPTION:5th/6th Grade Girls | Basketball\nSemones Family YMCA\n
URL;VALUE=URI:https://ygametime.com/branch/semones/sports/2021-winter-basketball/11389/?utm_medium=calendar&utm_source=team_cal&utm_content=league_url#game-268995
LOCATION:ED walker Middle School
BEGIN:VALARM
TRIGGER:-P2H
ACTION:DISPLAY
DESCRIPTION:Sudie Lions (K. Rosen) vs Sudie Lions (C. Davis)
END:VALARM
END:VEVENT
BEGIN:VEVENT
UID:semones-269002@ygametime.com
DTSTAMP:20220108T210000Z
DTSTART;TZID=America/Chicago:20220108T150000
DURATION:PT0H60M0S
SUMMARY:Panthers Blue (D. Catelotti) vs Sudie Lions (C. Davis)
DESCRIPTION:5th/6th Grade Girls | Basketball\nSemones Family YMCA\n
URL;VALUE=URI:https://ygametime.com/branch/semones/sports/2021-winter-basketball/11389/?utm_medium=calendar&utm_source=team_cal&utm_content=league_url#game-269002
LOCATION:ED walker Middle School
BEGIN:VALARM
TRIGGER:-P2H
ACTION:DISPLAY
DESCRIPTION:Panthers Blue (D. Catelotti) vs Sudie Lions (C. Davis)
END:VALARM
END:VEVENT
BEGIN:VEVENT
UID:semones-269006@ygametime.com
DTSTAMP:20220115T180000Z
DTSTART;TZID=America/Chicago:20220115T120000
DURATION:PT0H60M0S
SUMMARY:Sudie Lions (C. Davis) vs Grace Academy (E. Sanford)
DESCRIPTION:5th/6th Grade Girls | Basketball\nSemones Family YMCA\n
URL;VALUE=URI:https://ygametime.com/branch/semones/sports/2021-winter-basketball/11389/?utm_medium=calendar&utm_source=team_cal&utm_content=league_url#game-269006
LOCATION:ED walker Middle School
BEGIN:VALARM
TRIGGER:-P2H
ACTION:DISPLAY
DESCRIPTION:Sudie Lions (C. Davis) vs Grace Academy (E. Sanford)
END:VALARM
END:VEVENT
BEGIN:VEVENT
UID:semones-269010@ygametime.com
DTSTAMP:20220122T210000Z
DTSTART;TZID=America/Chicago:20220122T150000
DURATION:PT0H60M0S
SUMMARY:Hoppin Tigers (C. Johnson) vs Sudie Lions (C. Davis)
DESCRIPTION:5th/6th Grade Girls | Basketball\nSemones Family YMCA\n
URL;VALUE=URI:https://ygametime.com/branch/semones/sports/2021-winter-basketball/11389/?utm_medium=calendar&utm_source=team_cal&utm_content=league_url#game-269010
LOCATION:ED walker Middle School
BEGIN:VALARM
TRIGGER:-P2H
ACTION:DISPLAY
DESCRIPTION:Hoppin Tigers (C. Johnson) vs Sudie Lions (C. Davis)
END:VALARM
END:VEVENT
BEGIN:VEVENT
UID:semones-269027@ygametime.com
DTSTAMP:20220212T210000Z
DTSTART;TZID=America/Chicago:20220212T150000
DURATION:PT0H60M0S
SUMMARY:Sudie Lions (C. Davis) vs GSES Red (B. johnson)
DESCRIPTION:5th/6th Grade Girls | Basketball\nSemones Family YMCA\n
URL;VALUE=URI:https://ygametime.com/branch/semones/sports/2021-winter-basketball/11389/?utm_medium=calendar&utm_source=team_cal&utm_content=league_url#game-269027
LOCATION:Lake Highlands YMCA
BEGIN:VALARM
TRIGGER:-P2H
ACTION:DISPLAY
DESCRIPTION:Sudie Lions (C. Davis) vs GSES Red (B. johnson)
END:VALARM
END:VEVENT
BEGIN:VEVENT
UID:semones-269023@ygametime.com
DTSTAMP:20220220T000000Z
DTSTART;TZID=America/Chicago:20220219T180000
DURATION:PT0H60M0S
SUMMARY:GSES Blue (B. Johnson) vs Sudie Lions (C. Davis)
DESCRIPTION:5th/6th Grade Girls | Basketball\nSemones Family YMCA\n
URL;VALUE=URI:https://ygametime.com/branch/semones/sports/2021-winter-basketball/11389/?utm_medium=calendar&utm_source=team_cal&utm_content=league_url#game-269023
LOCATION:Lake Highlands YMCA
BEGIN:VALARM
TRIGGER:-P2H
ACTION:DISPLAY
DESCRIPTION:GSES Blue (B. Johnson) vs Sudie Lions (C. Davis)
END:VALARM
END:VEVENT
END:VCALENDAR

