BEGIN:VCALENDAR
VERSION:2.0
PRODID:-//YGAMETIME.com//YGT iCal Creator//EN
METHOD:PUBLISH
X-PUBLISHED-TTL:PT6H
REFRESH-INTERVAL;VALUE=DURATION:PT6H
CALSCALE:GREGORIAN
X-WR-CALNAME:YGAMETIME CALENDAR
BEGIN:VTIMEZONE
TZID:America/Chicago
X-LIC-LOCATION:America/Chicago
BEGIN:DAYLIGHT
TZOFFSETFROM:-0600
TZOFFSETTO:-0500
TZNAME:CDT
DTSTART:19700308T020000
RRULE:FREQ=YEARLY;BYMONTH=3;BYDAY=2SU
END:DAYLIGHT
BEGIN:STANDARD
TZOFFSETFROM:-0500
TZOFFSETTO:-0600
TZNAME:CST
DTSTART:19701101T020000
RRULE:FREQ=YEARLY;BYMONTH=11;BYDAY=1SU
END:STANDARD
END:VTIMEZONE
BEGIN:VEVENT
UID:semones-268990@ygametime.com
DTSTAMP:20211211T200000Z
DTSTART;TZID=America/Chicago:20211211T140000
DURATION:PT0H60M0S
SUMMARY:Panthers Red (M. Yedsena) vs Sudie Lions (K. Rosen)
DESCRIPTION:5th/6th Grade Girls | Basketball\nSemones Family YMCA\n
URL;VALUE=URI:https://ygametime.com/branch/semones/sports/2021-winter-basketball/11389/?utm_medium=calendar&utm_source=team_cal&utm_content=league_url#game-268990
LOCATION:ED walker Middle School
BEGIN:VALARM
TRIGGER:-P2H
ACTION:DISPLAY
DESCRIPTION:Panthers Red (M. Yedsena) vs Sudie Lions (K. Rosen)
END:VALARM
END:VEVENT
BEGIN:VEVENT
UID:semones-268995@ygametime.com
DTSTAMP:20211218T200000Z
DTSTART;TZID=America/Chicago:20211218T140000
DURATION:PT0H60M0S
SUMMARY:Sudie Lions (K. Rosen) vs Sudie Lions (C. Davis)
DESCRIPTION:5th/6th Grade Girls | Basketball\nSemones Family YMCA\n
URL;VALUE=URI:https://ygametime.com/branch/semones/sports/2021-winter-basketball/11389/?utm_medium=calendar&utm_source=team_cal&utm_content=league_url#game-268995
LOCATION:ED walker Middle School
BEGIN:VALARM
TRIGGER:-P2H
ACTION:DISPLAY
DESCRIPTION:Sudie Lions (K. Rosen) vs Sudie Lions (C. Davis)
END:VALARM
END:VEVENT
BEGIN:VEVENT
UID:semones-269004@ygametime.com
DTSTAMP:20220115T190000Z
DTSTART;TZID=America/Chicago:20220115T130000
DURATION:PT0H60M0S
SUMMARY:Sudie Lions (K. Rosen) vs GSES Red (B. johnson)
DESCRIPTION:5th/6th Grade Girls | Basketball\nSemones Family YMCA\n
URL;VALUE=URI:https://ygametime.com/branch/semones/sports/2021-winter-basketball/11389/?utm_medium=calendar&utm_source=team_cal&utm_content=league_url#game-269004
LOCATION:ED walker Middle School
BEGIN:VALARM
TRIGGER:-P2H
ACTION:DISPLAY
DESCRIPTION:Sudie Lions (K. Rosen) vs GSES Red (B. johnson)
END:VALARM
END:VEVENT
BEGIN:VEVENT
UID:semones-269009@ygametime.com
DTSTAMP:20220122T200000Z
DTSTART;TZID=America/Chicago:20220122T140000
DURATION:PT0H60M0S
SUMMARY:Sparks (H. Vance) vs Sudie Lions (K. Rosen)
DESCRIPTION:5th/6th Grade Girls | Basketball\nSemones Family YMCA\n
URL;VALUE=URI:https://ygametime.com/branch/semones/sports/2021-winter-basketball/11389/?utm_medium=calendar&utm_source=team_cal&utm_content=league_url#game-269009
LOCATION:ED walker Middle School
BEGIN:VALARM
TRIGGER:-P2H
ACTION:DISPLAY
DESCRIPTION:Sparks (H. Vance) vs Sudie Lions (K. Rosen)
END:VALARM
END:VEVENT
BEGIN:VEVENT
UID:semones-269018@ygametime.com
DTSTAMP:20220205T010000Z
DTSTART;TZID=America/Chicago:20220204T190000
DURATION:PT0H60M0S
SUMMARY:Sudie Lions (K. Rosen) vs Parish Panthers - Pink (A. Martinez)
DESCRIPTION:5th/6th Grade Girls | Basketball\nSemones Family YMCA\n
URL;VALUE=URI:https://ygametime.com/branch/semones/sports/2021-winter-basketball/11389/?utm_medium=calendar&utm_source=team_cal&utm_content=league_url#game-269018
LOCATION:Semones Family YMCA - Full Court
BEGIN:VALARM
TRIGGER:-P2H
ACTION:DISPLAY
DESCRIPTION:Sudie Lions (K. Rosen) vs Parish Panthers - Pink (A. Martinez)
END:VALARM
END:VEVENT
BEGIN:VEVENT
UID:semones-269024@ygametime.com
DTSTAMP:20220212T180000Z
DTSTART;TZID=America/Chicago:20220212T120000
DURATION:PT0H60M0S
SUMMARY:Sudie Lions (K. Rosen) vs Hoppin Tigers (C. Johnson)
DESCRIPTION:5th/6th Grade Girls | Basketball\nSemones Family YMCA\n
URL;VALUE=URI:https://ygametime.com/branch/semones/sports/2021-winter-basketball/11389/?utm_medium=calendar&utm_source=team_cal&utm_content=league_url#game-269024
LOCATION:Lake Highlands YMCA
BEGIN:VALARM
TRIGGER:-P2H
ACTION:DISPLAY
DESCRIPTION:Sudie Lions (K. Rosen) vs Hoppin Tigers (C. Johnson)
END:VALARM
END:VEVENT
BEGIN:VEVENT
UID:semones-269021@ygametime.com
DTSTAMP:20220219T230000Z
DTSTART;TZID=America/Chicago:20220219T170000
DURATION:PT0H60M0S
SUMMARY:Panthers Blue (D. Catelotti) vs Sudie Lions (K. Rosen)
DESCRIPTION:5th/6th Grade Girls | Basketball\nSemones Family YMCA\n
URL;VALUE=URI:https://ygametime.com/branch/semones/sports/2021-winter-basketball/11389/?utm_medium=calendar&utm_source=team_cal&utm_content=league_url#game-269021
LOCATION:Lake Highlands YMCA
BEGIN:VALARM
TRIGGER:-P2H
ACTION:DISPLAY
DESCRIPTION:Panthers Blue (D. Catelotti) vs Sudie Lions (K. Rosen)
END:VALARM
END:VEVENT
END:VCALENDAR

