BEGIN:VCALENDAR
VERSION:2.0
PRODID:-//YGAMETIME.com//YGT iCal Creator//EN
METHOD:PUBLISH
X-PUBLISHED-TTL:PT6H
REFRESH-INTERVAL;VALUE=DURATION:PT6H
CALSCALE:GREGORIAN
X-WR-CALNAME:YGAMETIME CALENDAR
BEGIN:VTIMEZONE
TZID:America/Chicago
X-LIC-LOCATION:America/Chicago
BEGIN:DAYLIGHT
TZOFFSETFROM:-0600
TZOFFSETTO:-0500
TZNAME:CDT
DTSTART:19700308T020000
RRULE:FREQ=YEARLY;BYMONTH=3;BYDAY=2SU
END:DAYLIGHT
BEGIN:STANDARD
TZOFFSETFROM:-0500
TZOFFSETTO:-0600
TZNAME:CST
DTSTART:19701101T020000
RRULE:FREQ=YEARLY;BYMONTH=11;BYDAY=1SU
END:STANDARD
END:VTIMEZONE
BEGIN:VEVENT
UID:semones-268992@ygametime.com
DTSTAMP:20211211T210000Z
DTSTART;TZID=America/Chicago:20211211T150000
DURATION:PT0H60M0S
SUMMARY:Grace Academy (E. Sanford) vs Daisy Dream Pink (M. DeLeon)
DESCRIPTION:5th/6th Grade Girls | Basketball\nSemones Family YMCA\n
URL;VALUE=URI:https://ygametime.com/branch/semones/sports/2021-winter-basketball/11389/?utm_medium=calendar&utm_source=team_cal&utm_content=league_url#game-268992
LOCATION:Churchill Recreation Center
BEGIN:VALARM
TRIGGER:-P2H
ACTION:DISPLAY
DESCRIPTION:Grace Academy (E. Sanford) vs Daisy Dream Pink (M. DeLeon)
END:VALARM
END:VEVENT
BEGIN:VEVENT
UID:semones-269001@ygametime.com
DTSTAMP:20220108T200000Z
DTSTART;TZID=America/Chicago:20220108T140000
DURATION:PT0H60M0S
SUMMARY:GSES Red (B. johnson) vs Daisy Dream Pink (M. DeLeon)
DESCRIPTION:5th/6th Grade Girls | Basketball\nSemones Family YMCA\n
URL;VALUE=URI:https://ygametime.com/branch/semones/sports/2021-winter-basketball/11389/?utm_medium=calendar&utm_source=team_cal&utm_content=league_url#game-269001
LOCATION:ED walker Middle School
BEGIN:VALARM
TRIGGER:-P2H
ACTION:DISPLAY
DESCRIPTION:GSES Red (B. johnson) vs Daisy Dream Pink (M. DeLeon)
END:VALARM
END:VEVENT
BEGIN:VEVENT
UID:semones-269005@ygametime.com
DTSTAMP:20220115T170000Z
DTSTART;TZID=America/Chicago:20220115T110000
DURATION:PT0H60M0S
SUMMARY:Daisy Dream Pink (M. DeLeon) vs Sparks (H. Vance)
DESCRIPTION:5th/6th Grade Girls | Basketball\nSemones Family YMCA\n
URL;VALUE=URI:https://ygametime.com/branch/semones/sports/2021-winter-basketball/11389/?utm_medium=calendar&utm_source=team_cal&utm_content=league_url#game-269005
LOCATION:ED walker Middle School
BEGIN:VALARM
TRIGGER:-P2H
ACTION:DISPLAY
DESCRIPTION:Daisy Dream Pink (M. DeLeon) vs Sparks (H. Vance)
END:VALARM
END:VEVENT
BEGIN:VEVENT
UID:semones-269016@ygametime.com
DTSTAMP:20220129T180000Z
DTSTART;TZID=America/Chicago:20220129T120000
DURATION:PT0H60M0S
SUMMARY:Daisy Dream Pink (M. DeLeon) vs Panthers Blue (D. Catelotti)
DESCRIPTION:5th/6th Grade Girls | Basketball\nSemones Family YMCA\n
URL;VALUE=URI:https://ygametime.com/branch/semones/sports/2021-winter-basketball/11389/?utm_medium=calendar&utm_source=team_cal&utm_content=league_url#game-269016
LOCATION:ED walker Middle School
BEGIN:VALARM
TRIGGER:-P2H
ACTION:DISPLAY
DESCRIPTION:Daisy Dream Pink (M. DeLeon) vs Panthers Blue (D. Catelotti)
END:VALARM
END:VEVENT
BEGIN:VEVENT
UID:semones-269028@ygametime.com
DTSTAMP:20220212T220000Z
DTSTART;TZID=America/Chicago:20220212T160000
DURATION:PT0H60M0S
SUMMARY:Daisy Dream Pink (M. DeLeon) vs GSES Blue (B. Johnson)
DESCRIPTION:5th/6th Grade Girls | Basketball\nSemones Family YMCA\n
URL;VALUE=URI:https://ygametime.com/branch/semones/sports/2021-winter-basketball/11389/?utm_medium=calendar&utm_source=team_cal&utm_content=league_url#game-269028
LOCATION:Lake Highlands YMCA
BEGIN:VALARM
TRIGGER:-P2H
ACTION:DISPLAY
DESCRIPTION:Daisy Dream Pink (M. DeLeon) vs GSES Blue (B. Johnson)
END:VALARM
END:VEVENT
BEGIN:VEVENT
UID:semones-269013@ygametime.com
DTSTAMP:20220212T230000Z
DTSTART;TZID=America/Chicago:20220212T170000
DURATION:PT0H60M0S
SUMMARY:Parish Panthers - Pink (A. Martinez) vs Daisy Dream Pink (M. DeLeon)
DESCRIPTION:5th/6th Grade Girls | Basketball\nSemones Family YMCA\n
URL;VALUE=URI:https://ygametime.com/branch/semones/sports/2021-winter-basketball/11389/?utm_medium=calendar&utm_source=team_cal&utm_content=league_url#game-269013
LOCATION:Lake Highlands YMCA
BEGIN:VALARM
TRIGGER:-P2H
ACTION:DISPLAY
DESCRIPTION:Parish Panthers - Pink (A. Martinez) vs Daisy Dream Pink (M. DeLeon)
END:VALARM
END:VEVENT
BEGIN:VEVENT
UID:semones-269019@ygametime.com
DTSTAMP:20220219T210000Z
DTSTART;TZID=America/Chicago:20220219T150000
DURATION:PT0H60M0S
SUMMARY:Hoppin Tigers (C. Johnson) vs Daisy Dream Pink (M. DeLeon)
DESCRIPTION:5th/6th Grade Girls | Basketball\nSemones Family YMCA\n
URL;VALUE=URI:https://ygametime.com/branch/semones/sports/2021-winter-basketball/11389/?utm_medium=calendar&utm_source=team_cal&utm_content=league_url#game-269019
LOCATION:Lake Highlands YMCA
BEGIN:VALARM
TRIGGER:-P2H
ACTION:DISPLAY
DESCRIPTION:Hoppin Tigers (C. Johnson) vs Daisy Dream Pink (M. DeLeon)
END:VALARM
END:VEVENT
END:VCALENDAR

